{"text_format":"1","workbook":"xlsx","n_sheets":4,"sheets":["①基本情報（今回の研修に係る事項）","②名簿（受講者情報を入力）","※入力不要③受講証,標識","※入力不要 ④税務署提出名簿"],"not_rendered":{"charts":0,"images":0,"macros":1,"external_links":0,"defined_names":4,"comments":1,"pivot_tables":0},"unopened":[],"bounds":{"document_bytes":16777216,"sheet_cells":100000,"rows_first":2000,"rows_last":500,"rows_between":2000,"halvings":0,"cell_chars":16384,"cell_head_chars":4096},"cells_cut":0,"cells_raw":0,"read":"whole","date_system":"1900"}

{"sheet":"①基本情報（今回の研修に係る事項）","index":0,"n_rows":8,"n_cols":3,"rows_kept":8,"cut":false,"hidden":false,"merged":[]}
[null,"入力欄※黄色のセルをご入力ください。","例"]
["受講証発行日\n（研修開催日と同一）",null,"2016-04-01"]
["受講場所",null,"全国小売酒販会館 大会議室"]
["研修実施団体\n及び理事長名",null,"全国小売酒販組合中央会　会長　坂田　辰久"]
[]
["酒類販売管理研修受講年月日",null,"2016-04-01"]
["次回研修の\n有効期限※自動入力",{"$f":"IF(B6=\"\",\"\",EDATE(B6,36)-1)","v":""},"2019-03-31"]
["研修実施団体名",null,"全国小売酒販組合中央会中央会"]

{"sheet":"②名簿（受講者情報を入力）","index":1,"n_rows":152,"n_cols":19,"rows_kept":152,"cut":false,"hidden":false,"merged":[[0,0,0,3],[0,4,0,5],[0,12,0,15]]}
[{"$f":"'①基本情報（今回の研修に係る事項）'!B2","v":"00:00:00"},null,null,null,"開催 研修受講者名簿",null,null,null,null,null,null,null,"※黄色のセルの項目が入力箇所になります。"]
[null,"受講証\n番号","研修日","所管\n税務署","酒類小売業者の\n氏名または名称","販売場の名称","郵便番号","所在地","受講者氏名","フリガナ","郵便番号","自宅住所","生年月日","役職","最終受講\n年月日","最終受講時の研修実施団体名","販売場の名称","所在地","酒類販売管理者の氏名"]
[1,"第00001号","2016-04-01","恵比寿","酒販酒店","セントラルリカー恵比寿店","111-1111","東京都恵比寿1-1-1","酒　太郎",{"$f":"PHONETIC(I3)","v":"サケ　タロウ"},"666-6666","東京都町田6-6-6","1980-01-19",null,"2003-12-01","神奈川県小売酒販組合連合会",{"$f":"F3","v":"セントラルリカー恵比寿店"},{"$f":"H3","v":"東京都恵比寿1-1-1"},{"$f":"I3","v":"酒　太郎"}]
[2,"第00002号","2016-04-01","渋谷","オールジャパンリカー","ジャパンリカー渋谷ハチ公前店","222-2222","東京都渋谷2-2-2","小売　次郎",{"$f":"PHONETIC(I4)","v":"コウリ　ジロウ"},"666-6667","東京都町田6-6-7","1980-01-20",null,null,null,{"$f":"F4","v":"ジャパンリカー渋谷ハチ公前店"},{"$f":"H4","v":"東京都渋谷2-2-2"},{"$f":"I4","v":"小売　次郎"}]
[3,"第00003号","2016-04-01","品川","中央酒株式会社","ワールドワイド酒センター品川店","333-3333","東京都品川3-3-3","平山　奈緒","ヒラヤマ　ナオ","666-6668","東京都町田6-6-8","1980-01-21",null,"2014-03-05",null,"ワールドワイド酒センター品川店","東京都品川3-3-3","平山　奈緒"]
[4,"第00004号","2016-04-01","大崎","有限会社酒ジャパン","本丸壽屋酒店大崎店","444-4444","東京都大崎4-4-4","小倉　修作","オグラ　シュウサク","666-6669","東京都町田6-6-9","1980-01-22",null,null,null,"本丸壽屋酒店大崎店","東京都大崎4-4-4","小倉　修作"]
[5,"第00005号","2016-04-01","町田","株式会社フレッシュワイン","ワインのことなら！町田店","555-5555","東京都町田5-5-5","リチャード　フィッシャーマン","リチャード　フィッシャーマン","666-6670","東京都町田6-6-10","1980-01-23",null,null,null,"ワインのことなら！町田店","東京都町田5-5-5","リチャード　フィッシャーマン"]
[6]
[7]
[8]
[9]
[10]
[11]
[12]
[13]
[14]
[15]
[16]
[17]
[18]
[19]
[20]
[21]
[22]
[23]
[24]
[25]
[26]
[27]
[28]
[29]
[30]
[31]
[32]
[33]
[34]
[35]
[36]
[37]
[38]
[39]
[40]
[41]
[42]
[43]
[44]
[45]
[46]
[47]
[48]
[49]
[50]
[51]
[52]
[53]
[54]
[55]
[56]
[57]
[58]
[59]
[60]
[61]
[62]
[63]
[64]
[65]
[66]
[67]
[68]
[69]
[70]
[71]
[72]
[73]
[74]
[75]
[76]
[77]
[78]
[79]
[80]
[81]
[82]
[83]
[84]
[85]
[86]
[87]
[88]
[89]
[90]
[91]
[92]
[93]
[94]
[95]
[96]
[97]
[98]
[99]
[100]
[101]
[102]
[103]
[104]
[105]
[106]
[107]
[108]
[109]
[110]
[111]
[112]
[113]
[114]
[115]
[116]
[117]
[118]
[119]
[120]
[121]
[122]
[123]
[124]
[125]
[126]
[127]
[128]
[129]
[130]
[131]
[132]
[133]
[134]
[135]
[136]
[137]
[138]
[139]
[140]
[141]
[142]
[143]
[144]
[145]
[146]
[147]
[148]
[149]
[150]

{"sheet":"※入力不要③受講証,標識","index":2,"n_rows":42,"n_cols":37,"rows_kept":42,"cut":false,"hidden":false,"merged":[[1,25,1,31],[2,5,2,28],[19,4,19,30],[18,3,18,19],[16,4,16,30],[15,4,15,21],[14,3,14,23],[11,3,11,23],[9,4,9,30],[7,3,7,23],[6,3,6,30],[8,4,8,30],[12,4,12,30],[41,12,44,31],[37,12,40,31],[33,12,36,31],[30,12,32,31],[25,2,28,11],[41,2,44,11],[37,2,40,11],[33,2,36,11],[27,12,28,31],[25,12,26,31],[29,2,32,11],[29,12,29,31],[22,2,23,31],[2,36,2,38],[3,36,3,38],[2,39,3,43],[5,39,7,43],[3,2,5,31]]}
[]
[null,null,null,null,null,null,null,null,null,null,null,null,null,null,null,null,null,null,null,null,null,null,null,null,null,{"$f":"VLOOKUP(AK4,'②名簿（受講者情報を入力）'!A1:V152,2,0)","v":"第00005号"}]
[null,null,null,null,null,"酒類販売管理研修受講証",null,null,null,null,null,null,null,null,null,null,null,null,null,null,null,null,null,null,null,null,null,null,null,null,null,null,null,null,null,null,"A 印刷番号"]
[null,null,"　酒税の保全及び酒類業組合等に関する法律第86条の９第１項(第6項)に規定する研修を受講した者であることを下記のとおり証する。",null,null,null,null,null,null,null,null,null,null,null,null,null,null,null,null,null,null,null,null,null,null,null,null,null,null,null,null,null,null,null,null,null,5]
[]
[]
[null,null,null,"記"]
[null,null,null,"１ 販売場の名称及び所在地"]
[null,null,null,null,{"$f":"VLOOKUP(AK4,'②名簿（受講者情報を入力）'!A1:V152,6,0)","v":"ワインのことなら！町田店"}]
[null,null,null,null,{"$f":"VLOOKUP(AK4,'②名簿（受講者情報を入力）'!A1:V152,8,0)","v":"東京都町田5-5-5"}]
[]
[null,null,null,"２ 受講者の氏名"]
[null,null,null,null,{"$f":"VLOOKUP(AK4,'②名簿（受講者情報を入力）'!A1:V152,9,0)","v":"リチャード　フィッシャーマン"}]
[]
[null,null,null,"3  酒類販売管理研修の受講年月日及び受講場所"]
[null,null,null,null,{"$f":"'①基本情報（今回の研修に係る事項）'!B2:B2","v":"00:00:00"}]
[null,null,null,null,{"$f":"'①基本情報（今回の研修に係る事項）'!B3:B3","v":0}]
[]
[null,null,null,{"$f":"E16","v":"00:00:00"}]
[null,null,null,null,{"$f":"'①基本情報（今回の研修に係る事項）'!B4:B4","v":0}]
[]
[]
[null,null,"酒類販売管理者標識"]
[]
[]
[null,null,"販売場の名称\n及び所在地",null,null,null,null,null,null,null,null,null,{"$f":"VLOOKUP(AK4,'②名簿（受講者情報を入力）'!A1:V152,6,0)","v":"ワインのことなら！町田店"}]
[]
[null,null,null,null,null,null,null,null,null,null,null,null,{"$f":"VLOOKUP(AK4,'②名簿（受講者情報を入力）'!A1:V152,8,0)","v":"東京都町田5-5-5"}]
[]
[null,null,"酒類販売管理者の\n氏名",null,null,null,null,null,null,null,null,null,{"$f":"VLOOKUP(AK4,'②名簿（受講者情報を入力）'!A1:V152,10,0)","v":"リチャード　フィッシャーマン"}]
[null,null,null,null,null,null,null,null,null,null,null,null,{"$f":"VLOOKUP(AK4,'②名簿（受講者情報を入力）'!A1:V152,19,0)","v":"リチャード　フィッシャーマン"}]
[]
[]
[null,null,"酒類販売管理研修\n受講年月日",null,null,null,null,null,null,null,null,null,{"$f":"'①基本情報（今回の研修に係る事項）'!B6:B6","v":"00:00:00"}]
[]
[]
[]
[null,null,"次回研修の\n受講期限",null,null,null,null,null,null,null,null,null,{"$f":"'①基本情報（今回の研修に係る事項）'!B7:B7","v":""}]
[]
[]
[]
[null,null,"研修実施団体名",null,null,null,null,null,null,null,null,null,{"$f":"'①基本情報（今回の研修に係る事項）'!B8:B8","v":0}]

{"sheet":"※入力不要 ④税務署提出名簿","index":3,"n_rows":154,"n_cols":13,"rows_kept":154,"cut":false,"hidden":false,"merged":[[1,9,1,12],[2,0,2,12]]}
[null,null,null,null,null,null,null,null,null,null,null,null,"別紙15"]
[null,null,null,null,null,null,null,null,"研修実施団体の名称",{"$f":"'①基本情報（今回の研修に係る事項）'!B8","v":0}]
["酒類販売管理研修受講者名簿"]
["研修日","所管\n税務署","酒類小売業者の\n氏名または名称","販売場の名称","郵便番号","所在地","受講者氏名","郵便番号","自宅住所","生年月日","役職","研修最終受講年月日","研修実施団体の名称"]
[{"$f":"IF('②名簿（受講者情報を入力）'!C3=\"\",\"\",('②名簿（受講者情報を入力）'!C3))","v":"2016-04-01"},{"$f":"IF('②名簿（受講者情報を入力）'!D3=\"\",\"\",('②名簿（受講者情報を入力）'!D3))","v":"恵比寿"},{"$f":"IF('②名簿（受講者情報を入力）'!E3=\"\",\"\",('②名簿（受講者情報を入力）'!E3))","v":"酒販酒店"},{"$f":"IF('②名簿（受講者情報を入力）'!F3=\"\",\"\",('②名簿（受講者情報を入力）'!F3))","v":"セントラルリカー恵比寿店"},{"$f":"IF('②名簿（受講者情報を入力）'!G3=\"\",\"\",('②名簿（受講者情報を入力）'!G3))","v":"111-1111"},{"$f":"IF('②名簿（受講者情報を入力）'!H3=\"\",\"\",('②名簿（受講者情報を入力）'!H3))","v":"東京都恵比寿1-1-1"},{"$f":"IF('②名簿（受講者情報を入力）'!I3=\"\",\"\",('②名簿（受講者情報を入力）'!I3))","v":"酒　太郎"},{"$f":"IF('②名簿（受講者情報を入力）'!K3=\"\",\"\",('②名簿（受講者情報を入力）'!K3))","v":"666-6666"},{"$f":"IF('②名簿（受講者情報を入力）'!L3=\"\",\"\",('②名簿（受講者情報を入力）'!L3))","v":"東京都町田6-6-6"},{"$f":"IF('②名簿（受講者情報を入力）'!M3=\"\",\"\",('②名簿（受講者情報を入力）'!M3))","v":"1980-01-19"},{"$f":"IF('②名簿（受講者情報を入力）'!N3=\"\",\"\",('②名簿（受講者情報を入力）'!N3))","v":""},{"$f":"IF('②名簿（受講者情報を入力）'!P3=\"\",\"\",('②名簿（受講者情報を入力）'!P3))","v":"神奈川県小売酒販組合連合会"},"全国小売酒販組合中央会"]
[{"$f":"IF('②名簿（受講者情報を入力）'!C4=\"\",\"\",('②名簿（受講者情報を入力）'!C4))","v":"2016-04-01"},{"$f":"IF('②名簿（受講者情報を入力）'!D4=\"\",\"\",('②名簿（受講者情報を入力）'!D4))","v":"渋谷"},{"$f":"IF('②名簿（受講者情報を入力）'!E4=\"\",\"\",('②名簿（受講者情報を入力）'!E4))","v":"オールジャパンリカー"},{"$f":"IF('②名簿（受講者情報を入力）'!F4=\"\",\"\",('②名簿（受講者情報を入力）'!F4))","v":"ジャパンリカー渋谷ハチ公前店"},{"$f":"IF('②名簿（受講者情報を入力）'!G4=\"\",\"\",('②名簿（受講者情報を入力）'!G4))","v":"222-2222"},{"$f":"IF('②名簿（受講者情報を入力）'!H4=\"\",\"\",('②名簿（受講者情報を入力）'!H4))","v":"東京都渋谷2-2-2"},{"$f":"IF('②名簿（受講者情報を入力）'!I4=\"\",\"\",('②名簿（受講者情報を入力）'!I4))","v":"小売　次郎"},{"$f":"IF('②名簿（受講者情報を入力）'!K4=\"\",\"\",('②名簿（受講者情報を入力）'!K4))","v":"666-6667"},{"$f":"IF('②名簿（受講者情報を入力）'!L4=\"\",\"\",('②名簿（受講者情報を入力）'!L4))","v":"東京都町田6-6-7"},{"$f":"IF('②名簿（受講者情報を入力）'!M4=\"\",\"\",('②名簿（受講者情報を入力）'!M4))","v":"1980-01-20"},{"$f":"IF('②名簿（受講者情報を入力）'!N4=\"\",\"\",('②名簿（受講者情報を入力）'!N4))","v":""},{"$f":"IF('②名簿（受講者情報を入力）'!P4=\"\",\"\",('②名簿（受講者情報を入力）'!P4))","v":""}]
[{"$f":"IF('②名簿（受講者情報を入力）'!C5=\"\",\"\",('②名簿（受講者情報を入力）'!C5))","v":"2016-04-01"},{"$f":"IF('②名簿（受講者情報を入力）'!D5=\"\",\"\",('②名簿（受講者情報を入力）'!D5))","v":"品川"},{"$f":"IF('②名簿（受講者情報を入力）'!E5=\"\",\"\",('②名簿（受講者情報を入力）'!E5))","v":"中央酒株式会社"},{"$f":"IF('②名簿（受講者情報を入力）'!F5=\"\",\"\",('②名簿（受講者情報を入力）'!F5))","v":"ワールドワイド酒センター品川店"},{"$f":"IF('②名簿（受講者情報を入力）'!G5=\"\",\"\",('②名簿（受講者情報を入力）'!G5))","v":"333-3333"},{"$f":"IF('②名簿（受講者情報を入力）'!H5=\"\",\"\",('②名簿（受講者情報を入力）'!H5))","v":"東京都品川3-3-3"},{"$f":"IF('②名簿（受講者情報を入力）'!I5=\"\",\"\",('②名簿（受講者情報を入力）'!I5))","v":"平山　奈緒"},{"$f":"IF('②名簿（受講者情報を入力）'!K5=\"\",\"\",('②名簿（受講者情報を入力）'!K5))","v":"666-6668"},{"$f":"IF('②名簿（受講者情報を入力）'!L5=\"\",\"\",('②名簿（受講者情報を入力）'!L5))","v":"東京都町田6-6-8"},{"$f":"IF('②名簿（受講者情報を入力）'!M5=\"\",\"\",('②名簿（受講者情報を入力）'!M5))","v":"1980-01-21"},{"$f":"IF('②名簿（受講者情報を入力）'!N5=\"\",\"\",('②名簿（受講者情報を入力）'!N5))","v":""},{"$f":"IF('②名簿（受講者情報を入力）'!P5=\"\",\"\",('②名簿（受講者情報を入力）'!P5))","v":""}]
[{"$f":"IF('②名簿（受講者情報を入力）'!C6=\"\",\"\",('②名簿（受講者情報を入力）'!C6))","v":"2016-04-01"},{"$f":"IF('②名簿（受講者情報を入力）'!D6=\"\",\"\",('②名簿（受講者情報を入力）'!D6))","v":"大崎"},{"$f":"IF('②名簿（受講者情報を入力）'!E6=\"\",\"\",('②名簿（受講者情報を入力）'!E6))","v":"有限会社酒ジャパン"},{"$f":"IF('②名簿（受講者情報を入力）'!F6=\"\",\"\",('②名簿（受講者情報を入力）'!F6))","v":"本丸壽屋酒店大崎店"},{"$f":"IF('②名簿（受講者情報を入力）'!G6=\"\",\"\",('②名簿（受講者情報を入力）'!G6))","v":"444-4444"},{"$f":"IF('②名簿（受講者情報を入力）'!H6=\"\",\"\",('②名簿（受講者情報を入力）'!H6))","v":"東京都大崎4-4-4"},{"$f":"IF('②名簿（受講者情報を入力）'!I6=\"\",\"\",('②名簿（受講者情報を入力）'!I6))","v":"小倉　修作"},{"$f":"IF('②名簿（受講者情報を入力）'!K6=\"\",\"\",('②名簿（受講者情報を入力）'!K6))","v":"666-6669"},{"$f":"IF('②名簿（受講者情報を入力）'!L6=\"\",\"\",('②名簿（受講者情報を入力）'!L6))","v":"東京都町田6-6-9"},{"$f":"IF('②名簿（受講者情報を入力）'!M6=\"\",\"\",('②名簿（受講者情報を入力）'!M6))","v":"1980-01-22"},{"$f":"IF('②名簿（受講者情報を入力）'!N6=\"\",\"\",('②名簿（受講者情報を入力）'!N6))","v":""},{"$f":"IF('②名簿（受講者情報を入力）'!P6=\"\",\"\",('②名簿（受講者情報を入力）'!P6))","v":""}]
[{"$f":"IF('②名簿（受講者情報を入力）'!C7=\"\",\"\",('②名簿（受講者情報を入力）'!C7))","v":"2016-04-01"},{"$f":"IF('②名簿（受講者情報を入力）'!D7=\"\",\"\",('②名簿（受講者情報を入力）'!D7))","v":"町田"},{"$f":"IF('②名簿（受講者情報を入力）'!E7=\"\",\"\",('②名簿（受講者情報を入力）'!E7))","v":"株式会社フレッシュワイン"},{"$f":"IF('②名簿（受講者情報を入力）'!F7=\"\",\"\",('②名簿（受講者情報を入力）'!F7))","v":"ワインのことなら！町田店"},{"$f":"IF('②名簿（受講者情報を入力）'!G7=\"\",\"\",('②名簿（受講者情報を入力）'!G7))","v":"555-5555"},{"$f":"IF('②名簿（受講者情報を入力）'!H7=\"\",\"\",('②名簿（受講者情報を入力）'!H7))","v":"東京都町田5-5-5"},{"$f":"IF('②名簿（受講者情報を入力）'!I7=\"\",\"\",('②名簿（受講者情報を入力）'!I7))","v":"リチャード　フィッシャーマン"},{"$f":"IF('②名簿（受講者情報を入力）'!K7=\"\",\"\",('②名簿（受講者情報を入力）'!K7))","v":"666-6670"},{"$f":"IF('②名簿（受講者情報を入力）'!L7=\"\",\"\",('②名簿（受講者情報を入力）'!L7))","v":"東京都町田6-6-10"},{"$f":"IF('②名簿（受講者情報を入力）'!M7=\"\",\"\",('②名簿（受講者情報を入力）'!M7))","v":"1980-01-23"},{"$f":"IF('②名簿（受講者情報を入力）'!N7=\"\",\"\",('②名簿（受講者情報を入力）'!N7))","v":""},{"$f":"IF('②名簿（受講者情報を入力）'!P7=\"\",\"\",('②名簿（受講者情報を入力）'!P7))","v":""}]
[{"$f":"IF('②名簿（受講者情報を入力）'!C8=\"\",\"\",('②名簿（受講者情報を入力）'!C8))","v":""},{"$f":"IF('②名簿（受講者情報を入力）'!D8=\"\",\"\",('②名簿（受講者情報を入力）'!D8))","v":""},{"$f":"IF('②名簿（受講者情報を入力）'!E8=\"\",\"\",('②名簿（受講者情報を入力）'!E8))","v":""},{"$f":"IF('②名簿（受講者情報を入力）'!F8=\"\",\"\",('②名簿（受講者情報を入力）'!F8))","v":""},{"$f":"IF('②名簿（受講者情報を入力）'!G8=\"\",\"\",('②名簿（受講者情報を入力）'!G8))","v":""},{"$f":"IF('②名簿（受講者情報を入力）'!H8=\"\",\"\",('②名簿（受講者情報を入力）'!H8))","v":""},{"$f":"IF('②名簿（受講者情報を入力）'!I8=\"\",\"\",('②名簿（受講者情報を入力）'!I8))","v":""},{"$f":"IF('②名簿（受講者情報を入力）'!K8=\"\",\"\",('②名簿（受講者情報を入力）'!K8))","v":""},{"$f":"IF('②名簿（受講者情報を入力）'!L8=\"\",\"\",('②名簿（受講者情報を入力）'!L8))","v":""},{"$f":"IF('②名簿（受講者情報を入力）'!M8=\"\",\"\",('②名簿（受講者情報を入力）'!M8))","v":""},{"$f":"IF('②名簿（受講者情報を入力）'!N8=\"\",\"\",('②名簿（受講者情報を入力）'!N8))","v":""},{"$f":"IF('②名簿（受講者情報を入力）'!P8=\"\",\"\",('②名簿（受講者情報を入力）'!P8))","v":""}]
[{"$f":"IF('②名簿（受講者情報を入力）'!C9=\"\",\"\",('②名簿（受講者情報を入力）'!C9))","v":""},{"$f":"IF('②名簿（受講者情報を入力）'!D9=\"\",\"\",('②名簿（受講者情報を入力）'!D9))","v":""},{"$f":"IF('②名簿（受講者情報を入力）'!E9=\"\",\"\",('②名簿（受講者情報を入力）'!E9))","v":""},{"$f":"IF('②名簿（受講者情報を入力）'!F9=\"\",\"\",('②名簿（受講者情報を入力）'!F9))","v":""},{"$f":"IF('②名簿（受講者情報を入力）'!G9=\"\",\"\",('②名簿（受講者情報を入力）'!G9))","v":""},{"$f":"IF('②名簿（受講者情報を入力）'!H9=\"\",\"\",('②名簿（受講者情報を入力）'!H9))","v":""},{"$f":"IF('②名簿（受講者情報を入力）'!I9=\"\",\"\",('②名簿（受講者情報を入力）'!I9))","v":""},{"$f":"IF('②名簿（受講者情報を入力）'!K9=\"\",\"\",('②名簿（受講者情報を入力）'!K9))","v":""},{"$f":"IF('②名簿（受講者情報を入力）'!L9=\"\",\"\",('②名簿（受講者情報を入力）'!L9))","v":""},{"$f":"IF('②名簿（受講者情報を入力）'!M9=\"\",\"\",('②名簿（受講者情報を入力）'!M9))","v":""},{"$f":"IF('②名簿（受講者情報を入力）'!N9=\"\",\"\",('②名簿（受講者情報を入力）'!N9))","v":""},{"$f":"IF('②名簿（受講者情報を入力）'!P9=\"\",\"\",('②名簿（受講者情報を入力）'!P9))","v":""}]
[{"$f":"IF('②名簿（受講者情報を入力）'!C10=\"\",\"\",('②名簿（受講者情報を入力）'!C10))","v":""},{"$f":"IF('②名簿（受講者情報を入力）'!D10=\"\",\"\",('②名簿（受講者情報を入力）'!D10))","v":""},{"$f":"IF('②名簿（受講者情報を入力）'!E10=\"\",\"\",('②名簿（受講者情報を入力）'!E10))","v":""},{"$f":"IF('②名簿（受講者情報を入力）'!F10=\"\",\"\",('②名簿（受講者情報を入力）'!F10))","v":""},{"$f":"IF('②名簿（受講者情報を入力）'!G10=\"\",\"\",('②名簿（受講者情報を入力）'!G10))","v":""},{"$f":"IF('②名簿（受講者情報を入力）'!H10=\"\",\"\",('②名簿（受講者情報を入力）'!H10))","v":""},{"$f":"IF('②名簿（受講者情報を入力）'!I10=\"\",\"\",('②名簿（受講者情報を入力）'!I10))","v":""},{"$f":"IF('②名簿（受講者情報を入力）'!K10=\"\",\"\",('②名簿（受講者情報を入力）'!K10))","v":""},{"$f":"IF('②名簿（受講者情報を入力）'!L10=\"\",\"\",('②名簿（受講者情報を入力）'!L10))","v":""},{"$f":"IF('②名簿（受講者情報を入力）'!M10=\"\",\"\",('②名簿（受講者情報を入力）'!M10))","v":""},{"$f":"IF('②名簿（受講者情報を入力）'!N10=\"\",\"\",('②名簿（受講者情報を入力）'!N10))","v":""},{"$f":"IF('②名簿（受講者情報を入力）'!P10=\"\",\"\",('②名簿（受講者情報を入力）'!P10))","v":""}]
[{"$f":"IF('②名簿（受講者情報を入力）'!C11=\"\",\"\",('②名簿（受講者情報を入力）'!C11))","v":""},{"$f":"IF('②名簿（受講者情報を入力）'!D11=\"\",\"\",('②名簿（受講者情報を入力）'!D11))","v":""},{"$f":"IF('②名簿（受講者情報を入力）'!E11=\"\",\"\",('②名簿（受講者情報を入力）'!E11))","v":""},{"$f":"IF('②名簿（受講者情報を入力）'!F11=\"\",\"\",('②名簿（受講者情報を入力）'!F11))","v":""},{"$f":"IF('②名簿（受講者情報を入力）'!G11=\"\",\"\",('②名簿（受講者情報を入力）'!G11))","v":""},{"$f":"IF('②名簿（受講者情報を入力）'!H11=\"\",\"\",('②名簿（受講者情報を入力）'!H11))","v":""},{"$f":"IF('②名簿（受講者情報を入力）'!I11=\"\",\"\",('②名簿（受講者情報を入力）'!I11))","v":""},{"$f":"IF('②名簿（受講者情報を入力）'!K11=\"\",\"\",('②名簿（受講者情報を入力）'!K11))","v":""},{"$f":"IF('②名簿（受講者情報を入力）'!L11=\"\",\"\",('②名簿（受講者情報を入力）'!L11))","v":""},{"$f":"IF('②名簿（受講者情報を入力）'!M11=\"\",\"\",('②名簿（受講者情報を入力）'!M11))","v":""},{"$f":"IF('②名簿（受講者情報を入力）'!N11=\"\",\"\",('②名簿（受講者情報を入力）'!N11))","v":""},{"$f":"IF('②名簿（受講者情報を入力）'!P11=\"\",\"\",('②名簿（受講者情報を入力）'!P11))","v":""}]
[{"$f":"IF('②名簿（受講者情報を入力）'!C12=\"\",\"\",('②名簿（受講者情報を入力）'!C12))","v":""},{"$f":"IF('②名簿（受講者情報を入力）'!D12=\"\",\"\",('②名簿（受講者情報を入力）'!D12))","v":""},{"$f":"IF('②名簿（受講者情報を入力）'!E12=\"\",\"\",('②名簿（受講者情報を入力）'!E12))","v":""},{"$f":"IF('②名簿（受講者情報を入力）'!F12=\"\",\"\",('②名簿（受講者情報を入力）'!F12))","v":""},{"$f":"IF('②名簿（受講者情報を入力）'!G12=\"\",\"\",('②名簿（受講者情報を入力）'!G12))","v":""},{"$f":"IF('②名簿（受講者情報を入力）'!H12=\"\",\"\",('②名簿（受講者情報を入力）'!H12))","v":""},{"$f":"IF('②名簿（受講者情報を入力）'!I12=\"\",\"\",('②名簿（受講者情報を入力）'!I12))","v":""},{"$f":"IF('②名簿（受講者情報を入力）'!K12=\"\",\"\",('②名簿（受講者情報を入力）'!K12))","v":""},{"$f":"IF('②名簿（受講者情報を入力）'!L12=\"\",\"\",('②名簿（受講者情報を入力）'!L12))","v":""},{"$f":"IF('②名簿（受講者情報を入力）'!M12=\"\",\"\",('②名簿（受講者情報を入力）'!M12))","v":""},{"$f":"IF('②名簿（受講者情報を入力）'!N12=\"\",\"\",('②名簿（受講者情報を入力）'!N12))","v":""},{"$f":"IF('②名簿（受講者情報を入力）'!P12=\"\",\"\",('②名簿（受講者情報を入力）'!P12))","v":""}]
[{"$f":"IF('②名簿（受講者情報を入力）'!C13=\"\",\"\",('②名簿（受講者情報を入力）'!C13))","v":""},{"$f":"IF('②名簿（受講者情報を入力）'!D13=\"\",\"\",('②名簿（受講者情報を入力）'!D13))","v":""},{"$f":"IF('②名簿（受講者情報を入力）'!E13=\"\",\"\",('②名簿（受講者情報を入力）'!E13))","v":""},{"$f":"IF('②名簿（受講者情報を入力）'!F13=\"\",\"\",('②名簿（受講者情報を入力）'!F13))","v":""},{"$f":"IF('②名簿（受講者情報を入力）'!G13=\"\",\"\",('②名簿（受講者情報を入力）'!G13))","v":""},{"$f":"IF('②名簿（受講者情報を入力）'!H13=\"\",\"\",('②名簿（受講者情報を入力）'!H13))","v":""},{"$f":"IF('②名簿（受講者情報を入力）'!I13=\"\",\"\",('②名簿（受講者情報を入力）'!I13))","v":""},{"$f":"IF('②名簿（受講者情報を入力）'!K13=\"\",\"\",('②名簿（受講者情報を入力）'!K13))","v":""},{"$f":"IF('②名簿（受講者情報を入力）'!L13=\"\",\"\",('②名簿（受講者情報を入力）'!L13))","v":""},{"$f":"IF('②名簿（受講者情報を入力）'!M13=\"\",\"\",('②名簿（受講者情報を入力）'!M13))","v":""},{"$f":"IF('②名簿（受講者情報を入力）'!N13=\"\",\"\",('②名簿（受講者情報を入力）'!N13))","v":""},{"$f":"IF('②名簿（受講者情報を入力）'!P13=\"\",\"\",('②名簿（受講者情報を入力）'!P13))","v":""}]
[{"$f":"IF('②名簿（受講者情報を入力）'!C14=\"\",\"\",('②名簿（受講者情報を入力）'!C14))","v":""},{"$f":"IF('②名簿（受講者情報を入力）'!D14=\"\",\"\",('②名簿（受講者情報を入力）'!D14))","v":""},{"$f":"IF('②名簿（受講者情報を入力）'!E14=\"\",\"\",('②名簿（受講者情報を入力）'!E14))","v":""},{"$f":"IF('②名簿（受講者情報を入力）'!F14=\"\",\"\",('②名簿（受講者情報を入力）'!F14))","v":""},{"$f":"IF('②名簿（受講者情報を入力）'!G14=\"\",\"\",('②名簿（受講者情報を入力）'!G14))","v":""},{"$f":"IF('②名簿（受講者情報を入力）'!H14=\"\",\"\",('②名簿（受講者情報を入力）'!H14))","v":""},{"$f":"IF('②名簿（受講者情報を入力）'!I14=\"\",\"\",('②名簿（受講者情報を入力）'!I14))","v":""},{"$f":"IF('②名簿（受講者情報を入力）'!K14=\"\",\"\",('②名簿（受講者情報を入力）'!K14))","v":""},{"$f":"IF('②名簿（受講者情報を入力）'!L14=\"\",\"\",('②名簿（受講者情報を入力）'!L14))","v":""},{"$f":"IF('②名簿（受講者情報を入力）'!M14=\"\",\"\",('②名簿（受講者情報を入力）'!M14))","v":""},{"$f":"IF('②名簿（受講者情報を入力）'!N14=\"\",\"\",('②名簿（受講者情報を入力）'!N14))","v":""},{"$f":"IF('②名簿（受講者情報を入力）'!P14=\"\",\"\",('②名簿（受講者情報を入力）'!P14))","v":""}]
[{"$f":"IF('②名簿（受講者情報を入力）'!C15=\"\",\"\",('②名簿（受講者情報を入力）'!C15))","v":""},{"$f":"IF('②名簿（受講者情報を入力）'!D15=\"\",\"\",('②名簿（受講者情報を入力）'!D15))","v":""},{"$f":"IF('②名簿（受講者情報を入力）'!E15=\"\",\"\",('②名簿（受講者情報を入力）'!E15))","v":""},{"$f":"IF('②名簿（受講者情報を入力）'!F15=\"\",\"\",('②名簿（受講者情報を入力）'!F15))","v":""},{"$f":"IF('②名簿（受講者情報を入力）'!G15=\"\",\"\",('②名簿（受講者情報を入力）'!G15))","v":""},{"$f":"IF('②名簿（受講者情報を入力）'!H15=\"\",\"\",('②名簿（受講者情報を入力）'!H15))","v":""},{"$f":"IF('②名簿（受講者情報を入力）'!I15=\"\",\"\",('②名簿（受講者情報を入力）'!I15))","v":""},{"$f":"IF('②名簿（受講者情報を入力）'!K15=\"\",\"\",('②名簿（受講者情報を入力）'!K15))","v":""},{"$f":"IF('②名簿（受講者情報を入力）'!L15=\"\",\"\",('②名簿（受講者情報を入力）'!L15))","v":""},{"$f":"IF('②名簿（受講者情報を入力）'!M15=\"\",\"\",('②名簿（受講者情報を入力）'!M15))","v":""},{"$f":"IF('②名簿（受講者情報を入力）'!N15=\"\",\"\",('②名簿（受講者情報を入力）'!N15))","v":""},{"$f":"IF('②名簿（受講者情報を入力）'!P15=\"\",\"\",('②名簿（受講者情報を入力）'!P15))","v":""}]
[{"$f":"IF('②名簿（受講者情報を入力）'!C16=\"\",\"\",('②名簿（受講者情報を入力）'!C16))","v":""},{"$f":"IF('②名簿（受講者情報を入力）'!D16=\"\",\"\",('②名簿（受講者情報を入力）'!D16))","v":""},{"$f":"IF('②名簿（受講者情報を入力）'!E16=\"\",\"\",('②名簿（受講者情報を入力）'!E16))","v":""},{"$f":"IF('②名簿（受講者情報を入力）'!F16=\"\",\"\",('②名簿（受講者情報を入力）'!F16))","v":""},{"$f":"IF('②名簿（受講者情報を入力）'!G16=\"\",\"\",('②名簿（受講者情報を入力）'!G16))","v":""},{"$f":"IF('②名簿（受講者情報を入力）'!H16=\"\",\"\",('②名簿（受講者情報を入力）'!H16))","v":""},{"$f":"IF('②名簿（受講者情報を入力）'!I16=\"\",\"\",('②名簿（受講者情報を入力）'!I16))","v":""},{"$f":"IF('②名簿（受講者情報を入力）'!K16=\"\",\"\",('②名簿（受講者情報を入力）'!K16))","v":""},{"$f":"IF('②名簿（受講者情報を入力）'!L16=\"\",\"\",('②名簿（受講者情報を入力）'!L16))","v":""},{"$f":"IF('②名簿（受講者情報を入力）'!M16=\"\",\"\",('②名簿（受講者情報を入力）'!M16))","v":""},{"$f":"IF('②名簿（受講者情報を入力）'!N16=\"\",\"\",('②名簿（受講者情報を入力）'!N16))","v":""},{"$f":"IF('②名簿（受講者情報を入力）'!P16=\"\",\"\",('②名簿（受講者情報を入力）'!P16))","v":""}]
[{"$f":"IF('②名簿（受講者情報を入力）'!C17=\"\",\"\",('②名簿（受講者情報を入力）'!C17))","v":""},{"$f":"IF('②名簿（受講者情報を入力）'!D17=\"\",\"\",('②名簿（受講者情報を入力）'!D17))","v":""},{"$f":"IF('②名簿（受講者情報を入力）'!E17=\"\",\"\",('②名簿（受講者情報を入力）'!E17))","v":""},{"$f":"IF('②名簿（受講者情報を入力）'!F17=\"\",\"\",('②名簿（受講者情報を入力）'!F17))","v":""},{"$f":"IF('②名簿（受講者情報を入力）'!G17=\"\",\"\",('②名簿（受講者情報を入力）'!G17))","v":""},{"$f":"IF('②名簿（受講者情報を入力）'!H17=\"\",\"\",('②名簿（受講者情報を入力）'!H17))","v":""},{"$f":"IF('②名簿（受講者情報を入力）'!I17=\"\",\"\",('②名簿（受講者情報を入力）'!I17))","v":""},{"$f":"IF('②名簿（受講者情報を入力）'!K17=\"\",\"\",('②名簿（受講者情報を入力）'!K17))","v":""},{"$f":"IF('②名簿（受講者情報を入力）'!L17=\"\",\"\",('②名簿（受講者情報を入力）'!L17))","v":""},{"$f":"IF('②名簿（受講者情報を入力）'!M17=\"\",\"\",('②名簿（受講者情報を入力）'!M17))","v":""},{"$f":"IF('②名簿（受講者情報を入力）'!N17=\"\",\"\",('②名簿（受講者情報を入力）'!N17))","v":""},{"$f":"IF('②名簿（受講者情報を入力）'!P17=\"\",\"\",('②名簿（受講者情報を入力）'!P17))","v":""}]
[{"$f":"IF('②名簿（受講者情報を入力）'!C18=\"\",\"\",('②名簿（受講者情報を入力）'!C18))","v":""},{"$f":"IF('②名簿（受講者情報を入力）'!D18=\"\",\"\",('②名簿（受講者情報を入力）'!D18))","v":""},{"$f":"IF('②名簿（受講者情報を入力）'!E18=\"\",\"\",('②名簿（受講者情報を入力）'!E18))","v":""},{"$f":"IF('②名簿（受講者情報を入力）'!F18=\"\",\"\",('②名簿（受講者情報を入力）'!F18))","v":""},{"$f":"IF('②名簿（受講者情報を入力）'!G18=\"\",\"\",('②名簿（受講者情報を入力）'!G18))","v":""},{"$f":"IF('②名簿（受講者情報を入力）'!H18=\"\",\"\",('②名簿（受講者情報を入力）'!H18))","v":""},{"$f":"IF('②名簿（受講者情報を入力）'!I18=\"\",\"\",('②名簿（受講者情報を入力）'!I18))","v":""},{"$f":"IF('②名簿（受講者情報を入力）'!K18=\"\",\"\",('②名簿（受講者情報を入力）'!K18))","v":""},{"$f":"IF('②名簿（受講者情報を入力）'!L18=\"\",\"\",('②名簿（受講者情報を入力）'!L18))","v":""},{"$f":"IF('②名簿（受講者情報を入力）'!M18=\"\",\"\",('②名簿（受講者情報を入力）'!M18))","v":""},{"$f":"IF('②名簿（受講者情報を入力）'!N18=\"\",\"\",('②名簿（受講者情報を入力）'!N18))","v":""},{"$f":"IF('②名簿（受講者情報を入力）'!P18=\"\",\"\",('②名簿（受講者情報を入力）'!P18))","v":""}]
[{"$f":"IF('②名簿（受講者情報を入力）'!C19=\"\",\"\",('②名簿（受講者情報を入力）'!C19))","v":""},{"$f":"IF('②名簿（受講者情報を入力）'!D19=\"\",\"\",('②名簿（受講者情報を入力）'!D19))","v":""},{"$f":"IF('②名簿（受講者情報を入力）'!E19=\"\",\"\",('②名簿（受講者情報を入力）'!E19))","v":""},{"$f":"IF('②名簿（受講者情報を入力）'!F19=\"\",\"\",('②名簿（受講者情報を入力）'!F19))","v":""},{"$f":"IF('②名簿（受講者情報を入力）'!G19=\"\",\"\",('②名簿（受講者情報を入力）'!G19))","v":""},{"$f":"IF('②名簿（受講者情報を入力）'!H19=\"\",\"\",('②名簿（受講者情報を入力）'!H19))","v":""},{"$f":"IF('②名簿（受講者情報を入力）'!I19=\"\",\"\",('②名簿（受講者情報を入力）'!I19))","v":""},{"$f":"IF('②名簿（受講者情報を入力）'!K19=\"\",\"\",('②名簿（受講者情報を入力）'!K19))","v":""},{"$f":"IF('②名簿（受講者情報を入力）'!L19=\"\",\"\",('②名簿（受講者情報を入力）'!L19))","v":""},{"$f":"IF('②名簿（受講者情報を入力）'!M19=\"\",\"\",('②名簿（受講者情報を入力）'!M19))","v":""},{"$f":"IF('②名簿（受講者情報を入力）'!N19=\"\",\"\",('②名簿（受講者情報を入力）'!N19))","v":""},{"$f":"IF('②名簿（受講者情報を入力）'!P19=\"\",\"\",('②名簿（受講者情報を入力）'!P19))","v":""}]
[{"$f":"IF('②名簿（受講者情報を入力）'!C20=\"\",\"\",('②名簿（受講者情報を入力）'!C20))","v":""},{"$f":"IF('②名簿（受講者情報を入力）'!D20=\"\",\"\",('②名簿（受講者情報を入力）'!D20))","v":""},{"$f":"IF('②名簿（受講者情報を入力）'!E20=\"\",\"\",('②名簿（受講者情報を入力）'!E20))","v":""},{"$f":"IF('②名簿（受講者情報を入力）'!F20=\"\",\"\",('②名簿（受講者情報を入力）'!F20))","v":""},{"$f":"IF('②名簿（受講者情報を入力）'!G20=\"\",\"\",('②名簿（受講者情報を入力）'!G20))","v":""},{"$f":"IF('②名簿（受講者情報を入力）'!H20=\"\",\"\",('②名簿（受講者情報を入力）'!H20))","v":""},{"$f":"IF('②名簿（受講者情報を入力）'!I20=\"\",\"\",('②名簿（受講者情報を入力）'!I20))","v":""},{"$f":"IF('②名簿（受講者情報を入力）'!K20=\"\",\"\",('②名簿（受講者情報を入力）'!K20))","v":""},{"$f":"IF('②名簿（受講者情報を入力）'!L20=\"\",\"\",('②名簿（受講者情報を入力）'!L20))","v":""},{"$f":"IF('②名簿（受講者情報を入力）'!M20=\"\",\"\",('②名簿（受講者情報を入力）'!M20))","v":""},{"$f":"IF('②名簿（受講者情報を入力）'!N20=\"\",\"\",('②名簿（受講者情報を入力）'!N20))","v":""},{"$f":"IF('②名簿（受講者情報を入力）'!P20=\"\",\"\",('②名簿（受講者情報を入力）'!P20))","v":""}]
[{"$f":"IF('②名簿（受講者情報を入力）'!C21=\"\",\"\",('②名簿（受講者情報を入力）'!C21))","v":""},{"$f":"IF('②名簿（受講者情報を入力）'!D21=\"\",\"\",('②名簿（受講者情報を入力）'!D21))","v":""},{"$f":"IF('②名簿（受講者情報を入力）'!E21=\"\",\"\",('②名簿（受講者情報を入力）'!E21))","v":""},{"$f":"IF('②名簿（受講者情報を入力）'!F21=\"\",\"\",('②名簿（受講者情報を入力）'!F21))","v":""},{"$f":"IF('②名簿（受講者情報を入力）'!G21=\"\",\"\",('②名簿（受講者情報を入力）'!G21))","v":""},{"$f":"IF('②名簿（受講者情報を入力）'!H21=\"\",\"\",('②名簿（受講者情報を入力）'!H21))","v":""},{"$f":"IF('②名簿（受講者情報を入力）'!I21=\"\",\"\",('②名簿（受講者情報を入力）'!I21))","v":""},{"$f":"IF('②名簿（受講者情報を入力）'!K21=\"\",\"\",('②名簿（受講者情報を入力）'!K21))","v":""},{"$f":"IF('②名簿（受講者情報を入力）'!L21=\"\",\"\",('②名簿（受講者情報を入力）'!L21))","v":""},{"$f":"IF('②名簿（受講者情報を入力）'!M21=\"\",\"\",('②名簿（受講者情報を入力）'!M21))","v":""},{"$f":"IF('②名簿（受講者情報を入力）'!N21=\"\",\"\",('②名簿（受講者情報を入力）'!N21))","v":""},{"$f":"IF('②名簿（受講者情報を入力）'!P21=\"\",\"\",('②名簿（受講者情報を入力）'!P21))","v":""}]
[{"$f":"IF('②名簿（受講者情報を入力）'!C22=\"\",\"\",('②名簿（受講者情報を入力）'!C22))","v":""},{"$f":"IF('②名簿（受講者情報を入力）'!D22=\"\",\"\",('②名簿（受講者情報を入力）'!D22))","v":""},{"$f":"IF('②名簿（受講者情報を入力）'!E22=\"\",\"\",('②名簿（受講者情報を入力）'!E22))","v":""},{"$f":"IF('②名簿（受講者情報を入力）'!F22=\"\",\"\",('②名簿（受講者情報を入力）'!F22))","v":""},{"$f":"IF('②名簿（受講者情報を入力）'!G22=\"\",\"\",('②名簿（受講者情報を入力）'!G22))","v":""},{"$f":"IF('②名簿（受講者情報を入力）'!H22=\"\",\"\",('②名簿（受講者情報を入力）'!H22))","v":""},{"$f":"IF('②名簿（受講者情報を入力）'!I22=\"\",\"\",('②名簿（受講者情報を入力）'!I22))","v":""},{"$f":"IF('②名簿（受講者情報を入力）'!K22=\"\",\"\",('②名簿（受講者情報を入力）'!K22))","v":""},{"$f":"IF('②名簿（受講者情報を入力）'!L22=\"\",\"\",('②名簿（受講者情報を入力）'!L22))","v":""},{"$f":"IF('②名簿（受講者情報を入力）'!M22=\"\",\"\",('②名簿（受講者情報を入力）'!M22))","v":""},{"$f":"IF('②名簿（受講者情報を入力）'!N22=\"\",\"\",('②名簿（受講者情報を入力）'!N22))","v":""},{"$f":"IF('②名簿（受講者情報を入力）'!P22=\"\",\"\",('②名簿（受講者情報を入力）'!P22))","v":""}]
[{"$f":"IF('②名簿（受講者情報を入力）'!C23=\"\",\"\",('②名簿（受講者情報を入力）'!C23))","v":""},{"$f":"IF('②名簿（受講者情報を入力）'!D23=\"\",\"\",('②名簿（受講者情報を入力）'!D23))","v":""},{"$f":"IF('②名簿（受講者情報を入力）'!E23=\"\",\"\",('②名簿（受講者情報を入力）'!E23))","v":""},{"$f":"IF('②名簿（受講者情報を入力）'!F23=\"\",\"\",('②名簿（受講者情報を入力）'!F23))","v":""},{"$f":"IF('②名簿（受講者情報を入力）'!G23=\"\",\"\",('②名簿（受講者情報を入力）'!G23))","v":""},{"$f":"IF('②名簿（受講者情報を入力）'!H23=\"\",\"\",('②名簿（受講者情報を入力）'!H23))","v":""},{"$f":"IF('②名簿（受講者情報を入力）'!I23=\"\",\"\",('②名簿（受講者情報を入力）'!I23))","v":""},{"$f":"IF('②名簿（受講者情報を入力）'!K23=\"\",\"\",('②名簿（受講者情報を入力）'!K23))","v":""},{"$f":"IF('②名簿（受講者情報を入力）'!L23=\"\",\"\",('②名簿（受講者情報を入力）'!L23))","v":""},{"$f":"IF('②名簿（受講者情報を入力）'!M23=\"\",\"\",('②名簿（受講者情報を入力）'!M23))","v":""},{"$f":"IF('②名簿（受講者情報を入力）'!N23=\"\",\"\",('②名簿（受講者情報を入力）'!N23))","v":""},{"$f":"IF('②名簿（受講者情報を入力）'!P23=\"\",\"\",('②名簿（受講者情報を入力）'!P23))","v":""}]
[{"$f":"IF('②名簿（受講者情報を入力）'!C24=\"\",\"\",('②名簿（受講者情報を入力）'!C24))","v":""},{"$f":"IF('②名簿（受講者情報を入力）'!D24=\"\",\"\",('②名簿（受講者情報を入力）'!D24))","v":""},{"$f":"IF('②名簿（受講者情報を入力）'!E24=\"\",\"\",('②名簿（受講者情報を入力）'!E24))","v":""},{"$f":"IF('②名簿（受講者情報を入力）'!F24=\"\",\"\",('②名簿（受講者情報を入力）'!F24))","v":""},{"$f":"IF('②名簿（受講者情報を入力）'!G24=\"\",\"\",('②名簿（受講者情報を入力）'!G24))","v":""},{"$f":"IF('②名簿（受講者情報を入力）'!H24=\"\",\"\",('②名簿（受講者情報を入力）'!H24))","v":""},{"$f":"IF('②名簿（受講者情報を入力）'!I24=\"\",\"\",('②名簿（受講者情報を入力）'!I24))","v":""},{"$f":"IF('②名簿（受講者情報を入力）'!K24=\"\",\"\",('②名簿（受講者情報を入力）'!K24))","v":""},{"$f":"IF('②名簿（受講者情報を入力）'!L24=\"\",\"\",('②名簿（受講者情報を入力）'!L24))","v":""},{"$f":"IF('②名簿（受講者情報を入力）'!M24=\"\",\"\",('②名簿（受講者情報を入力）'!M24))","v":""},{"$f":"IF('②名簿（受講者情報を入力）'!N24=\"\",\"\",('②名簿（受講者情報を入力）'!N24))","v":""},{"$f":"IF('②名簿（受講者情報を入力）'!P24=\"\",\"\",('②名簿（受講者情報を入力）'!P24))","v":""}]
[{"$f":"IF('②名簿（受講者情報を入力）'!C25=\"\",\"\",('②名簿（受講者情報を入力）'!C25))","v":""},{"$f":"IF('②名簿（受講者情報を入力）'!D25=\"\",\"\",('②名簿（受講者情報を入力）'!D25))","v":""},{"$f":"IF('②名簿（受講者情報を入力）'!E25=\"\",\"\",('②名簿（受講者情報を入力）'!E25))","v":""},{"$f":"IF('②名簿（受講者情報を入力）'!F25=\"\",\"\",('②名簿（受講者情報を入力）'!F25))","v":""},{"$f":"IF('②名簿（受講者情報を入力）'!G25=\"\",\"\",('②名簿（受講者情報を入力）'!G25))","v":""},{"$f":"IF('②名簿（受講者情報を入力）'!H25=\"\",\"\",('②名簿（受講者情報を入力）'!H25))","v":""},{"$f":"IF('②名簿（受講者情報を入力）'!I25=\"\",\"\",('②名簿（受講者情報を入力）'!I25))","v":""},{"$f":"IF('②名簿（受講者情報を入力）'!K25=\"\",\"\",('②名簿（受講者情報を入力）'!K25))","v":""},{"$f":"IF('②名簿（受講者情報を入力）'!L25=\"\",\"\",('②名簿（受講者情報を入力）'!L25))","v":""},{"$f":"IF('②名簿（受講者情報を入力）'!M25=\"\",\"\",('②名簿（受講者情報を入力）'!M25))","v":""},{"$f":"IF('②名簿（受講者情報を入力）'!N25=\"\",\"\",('②名簿（受講者情報を入力）'!N25))","v":""},{"$f":"IF('②名簿（受講者情報を入力）'!P25=\"\",\"\",('②名簿（受講者情報を入力）'!P25))","v":""}]
[{"$f":"IF('②名簿（受講者情報を入力）'!C26=\"\",\"\",('②名簿（受講者情報を入力）'!C26))","v":""},{"$f":"IF('②名簿（受講者情報を入力）'!D26=\"\",\"\",('②名簿（受講者情報を入力）'!D26))","v":""},{"$f":"IF('②名簿（受講者情報を入力）'!E26=\"\",\"\",('②名簿（受講者情報を入力）'!E26))","v":""},{"$f":"IF('②名簿（受講者情報を入力）'!F26=\"\",\"\",('②名簿（受講者情報を入力）'!F26))","v":""},{"$f":"IF('②名簿（受講者情報を入力）'!G26=\"\",\"\",('②名簿（受講者情報を入力）'!G26))","v":""},{"$f":"IF('②名簿（受講者情報を入力）'!H26=\"\",\"\",('②名簿（受講者情報を入力）'!H26))","v":""},{"$f":"IF('②名簿（受講者情報を入力）'!I26=\"\",\"\",('②名簿（受講者情報を入力）'!I26))","v":""},{"$f":"IF('②名簿（受講者情報を入力）'!K26=\"\",\"\",('②名簿（受講者情報を入力）'!K26))","v":""},{"$f":"IF('②名簿（受講者情報を入力）'!L26=\"\",\"\",('②名簿（受講者情報を入力）'!L26))","v":""},{"$f":"IF('②名簿（受講者情報を入力）'!M26=\"\",\"\",('②名簿（受講者情報を入力）'!M26))","v":""},{"$f":"IF('②名簿（受講者情報を入力）'!N26=\"\",\"\",('②名簿（受講者情報を入力）'!N26))","v":""},{"$f":"IF('②名簿（受講者情報を入力）'!P26=\"\",\"\",('②名簿（受講者情報を入力）'!P26))","v":""}]
[{"$f":"IF('②名簿（受講者情報を入力）'!C27=\"\",\"\",('②名簿（受講者情報を入力）'!C27))","v":""},{"$f":"IF('②名簿（受講者情報を入力）'!D27=\"\",\"\",('②名簿（受講者情報を入力）'!D27))","v":""},{"$f":"IF('②名簿（受講者情報を入力）'!E27=\"\",\"\",('②名簿（受講者情報を入力）'!E27))","v":""},{"$f":"IF('②名簿（受講者情報を入力）'!F27=\"\",\"\",('②名簿（受講者情報を入力）'!F27))","v":""},{"$f":"IF('②名簿（受講者情報を入力）'!G27=\"\",\"\",('②名簿（受講者情報を入力）'!G27))","v":""},{"$f":"IF('②名簿（受講者情報を入力）'!H27=\"\",\"\",('②名簿（受講者情報を入力）'!H27))","v":""},{"$f":"IF('②名簿（受講者情報を入力）'!I27=\"\",\"\",('②名簿（受講者情報を入力）'!I27))","v":""},{"$f":"IF('②名簿（受講者情報を入力）'!K27=\"\",\"\",('②名簿（受講者情報を入力）'!K27))","v":""},{"$f":"IF('②名簿（受講者情報を入力）'!L27=\"\",\"\",('②名簿（受講者情報を入力）'!L27))","v":""},{"$f":"IF('②名簿（受講者情報を入力）'!M27=\"\",\"\",('②名簿（受講者情報を入力）'!M27))","v":""},{"$f":"IF('②名簿（受講者情報を入力）'!N27=\"\",\"\",('②名簿（受講者情報を入力）'!N27))","v":""},{"$f":"IF('②名簿（受講者情報を入力）'!P27=\"\",\"\",('②名簿（受講者情報を入力）'!P27))","v":""}]
[{"$f":"IF('②名簿（受講者情報を入力）'!C28=\"\",\"\",('②名簿（受講者情報を入力）'!C28))","v":""},{"$f":"IF('②名簿（受講者情報を入力）'!D28=\"\",\"\",('②名簿（受講者情報を入力）'!D28))","v":""},{"$f":"IF('②名簿（受講者情報を入力）'!E28=\"\",\"\",('②名簿（受講者情報を入力）'!E28))","v":""},{"$f":"IF('②名簿（受講者情報を入力）'!F28=\"\",\"\",('②名簿（受講者情報を入力）'!F28))","v":""},{"$f":"IF('②名簿（受講者情報を入力）'!G28=\"\",\"\",('②名簿（受講者情報を入力）'!G28))","v":""},{"$f":"IF('②名簿（受講者情報を入力）'!H28=\"\",\"\",('②名簿（受講者情報を入力）'!H28))","v":""},{"$f":"IF('②名簿（受講者情報を入力）'!I28=\"\",\"\",('②名簿（受講者情報を入力）'!I28))","v":""},{"$f":"IF('②名簿（受講者情報を入力）'!K28=\"\",\"\",('②名簿（受講者情報を入力）'!K28))","v":""},{"$f":"IF('②名簿（受講者情報を入力）'!L28=\"\",\"\",('②名簿（受講者情報を入力）'!L28))","v":""},{"$f":"IF('②名簿（受講者情報を入力）'!M28=\"\",\"\",('②名簿（受講者情報を入力）'!M28))","v":""},{"$f":"IF('②名簿（受講者情報を入力）'!N28=\"\",\"\",('②名簿（受講者情報を入力）'!N28))","v":""},{"$f":"IF('②名簿（受講者情報を入力）'!P28=\"\",\"\",('②名簿（受講者情報を入力）'!P28))","v":""}]
[{"$f":"IF('②名簿（受講者情報を入力）'!C29=\"\",\"\",('②名簿（受講者情報を入力）'!C29))","v":""},{"$f":"IF('②名簿（受講者情報を入力）'!D29=\"\",\"\",('②名簿（受講者情報を入力）'!D29))","v":""},{"$f":"IF('②名簿（受講者情報を入力）'!E29=\"\",\"\",('②名簿（受講者情報を入力）'!E29))","v":""},{"$f":"IF('②名簿（受講者情報を入力）'!F29=\"\",\"\",('②名簿（受講者情報を入力）'!F29))","v":""},{"$f":"IF('②名簿（受講者情報を入力）'!G29=\"\",\"\",('②名簿（受講者情報を入力）'!G29))","v":""},{"$f":"IF('②名簿（受講者情報を入力）'!H29=\"\",\"\",('②名簿（受講者情報を入力）'!H29))","v":""},{"$f":"IF('②名簿（受講者情報を入力）'!I29=\"\",\"\",('②名簿（受講者情報を入力）'!I29))","v":""},{"$f":"IF('②名簿（受講者情報を入力）'!K29=\"\",\"\",('②名簿（受講者情報を入力）'!K29))","v":""},{"$f":"IF('②名簿（受講者情報を入力）'!L29=\"\",\"\",('②名簿（受講者情報を入力）'!L29))","v":""},{"$f":"IF('②名簿（受講者情報を入力）'!M29=\"\",\"\",('②名簿（受講者情報を入力）'!M29))","v":""},{"$f":"IF('②名簿（受講者情報を入力）'!N29=\"\",\"\",('②名簿（受講者情報を入力）'!N29))","v":""},{"$f":"IF('②名簿（受講者情報を入力）'!P29=\"\",\"\",('②名簿（受講者情報を入力）'!P29))","v":""}]
[{"$f":"IF('②名簿（受講者情報を入力）'!C30=\"\",\"\",('②名簿（受講者情報を入力）'!C30))","v":""},{"$f":"IF('②名簿（受講者情報を入力）'!D30=\"\",\"\",('②名簿（受講者情報を入力）'!D30))","v":""},{"$f":"IF('②名簿（受講者情報を入力）'!E30=\"\",\"\",('②名簿（受講者情報を入力）'!E30))","v":""},{"$f":"IF('②名簿（受講者情報を入力）'!F30=\"\",\"\",('②名簿（受講者情報を入力）'!F30))","v":""},{"$f":"IF('②名簿（受講者情報を入力）'!G30=\"\",\"\",('②名簿（受講者情報を入力）'!G30))","v":""},{"$f":"IF('②名簿（受講者情報を入力）'!H30=\"\",\"\",('②名簿（受講者情報を入力）'!H30))","v":""},{"$f":"IF('②名簿（受講者情報を入力）'!I30=\"\",\"\",('②名簿（受講者情報を入力）'!I30))","v":""},{"$f":"IF('②名簿（受講者情報を入力）'!K30=\"\",\"\",('②名簿（受講者情報を入力）'!K30))","v":""},{"$f":"IF('②名簿（受講者情報を入力）'!L30=\"\",\"\",('②名簿（受講者情報を入力）'!L30))","v":""},{"$f":"IF('②名簿（受講者情報を入力）'!M30=\"\",\"\",('②名簿（受講者情報を入力）'!M30))","v":""},{"$f":"IF('②名簿（受講者情報を入力）'!N30=\"\",\"\",('②名簿（受講者情報を入力）'!N30))","v":""},{"$f":"IF('②名簿（受講者情報を入力）'!P30=\"\",\"\",('②名簿（受講者情報を入力）'!P30))","v":""}]
[{"$f":"IF('②名簿（受講者情報を入力）'!C31=\"\",\"\",('②名簿（受講者情報を入力）'!C31))","v":""},{"$f":"IF('②名簿（受講者情報を入力）'!D31=\"\",\"\",('②名簿（受講者情報を入力）'!D31))","v":""},{"$f":"IF('②名簿（受講者情報を入力）'!E31=\"\",\"\",('②名簿（受講者情報を入力）'!E31))","v":""},{"$f":"IF('②名簿（受講者情報を入力）'!F31=\"\",\"\",('②名簿（受講者情報を入力）'!F31))","v":""},{"$f":"IF('②名簿（受講者情報を入力）'!G31=\"\",\"\",('②名簿（受講者情報を入力）'!G31))","v":""},{"$f":"IF('②名簿（受講者情報を入力）'!H31=\"\",\"\",('②名簿（受講者情報を入力）'!H31))","v":""},{"$f":"IF('②名簿（受講者情報を入力）'!I31=\"\",\"\",('②名簿（受講者情報を入力）'!I31))","v":""},{"$f":"IF('②名簿（受講者情報を入力）'!K31=\"\",\"\",('②名簿（受講者情報を入力）'!K31))","v":""},{"$f":"IF('②名簿（受講者情報を入力）'!L31=\"\",\"\",('②名簿（受講者情報を入力）'!L31))","v":""},{"$f":"IF('②名簿（受講者情報を入力）'!M31=\"\",\"\",('②名簿（受講者情報を入力）'!M31))","v":""},{"$f":"IF('②名簿（受講者情報を入力）'!N31=\"\",\"\",('②名簿（受講者情報を入力）'!N31))","v":""},{"$f":"IF('②名簿（受講者情報を入力）'!P31=\"\",\"\",('②名簿（受講者情報を入力）'!P31))","v":""}]
[{"$f":"IF('②名簿（受講者情報を入力）'!C32=\"\",\"\",('②名簿（受講者情報を入力）'!C32))","v":""},{"$f":"IF('②名簿（受講者情報を入力）'!D32=\"\",\"\",('②名簿（受講者情報を入力）'!D32))","v":""},{"$f":"IF('②名簿（受講者情報を入力）'!E32=\"\",\"\",('②名簿（受講者情報を入力）'!E32))","v":""},{"$f":"IF('②名簿（受講者情報を入力）'!F32=\"\",\"\",('②名簿（受講者情報を入力）'!F32))","v":""},{"$f":"IF('②名簿（受講者情報を入力）'!G32=\"\",\"\",('②名簿（受講者情報を入力）'!G32))","v":""},{"$f":"IF('②名簿（受講者情報を入力）'!H32=\"\",\"\",('②名簿（受講者情報を入力）'!H32))","v":""},{"$f":"IF('②名簿（受講者情報を入力）'!I32=\"\",\"\",('②名簿（受講者情報を入力）'!I32))","v":""},{"$f":"IF('②名簿（受講者情報を入力）'!K32=\"\",\"\",('②名簿（受講者情報を入力）'!K32))","v":""},{"$f":"IF('②名簿（受講者情報を入力）'!L32=\"\",\"\",('②名簿（受講者情報を入力）'!L32))","v":""},{"$f":"IF('②名簿（受講者情報を入力）'!M32=\"\",\"\",('②名簿（受講者情報を入力）'!M32))","v":""},{"$f":"IF('②名簿（受講者情報を入力）'!N32=\"\",\"\",('②名簿（受講者情報を入力）'!N32))","v":""},{"$f":"IF('②名簿（受講者情報を入力）'!P32=\"\",\"\",('②名簿（受講者情報を入力）'!P32))","v":""}]
[{"$f":"IF('②名簿（受講者情報を入力）'!C33=\"\",\"\",('②名簿（受講者情報を入力）'!C33))","v":""},{"$f":"IF('②名簿（受講者情報を入力）'!D33=\"\",\"\",('②名簿（受講者情報を入力）'!D33))","v":""},{"$f":"IF('②名簿（受講者情報を入力）'!E33=\"\",\"\",('②名簿（受講者情報を入力）'!E33))","v":""},{"$f":"IF('②名簿（受講者情報を入力）'!F33=\"\",\"\",('②名簿（受講者情報を入力）'!F33))","v":""},{"$f":"IF('②名簿（受講者情報を入力）'!G33=\"\",\"\",('②名簿（受講者情報を入力）'!G33))","v":""},{"$f":"IF('②名簿（受講者情報を入力）'!H33=\"\",\"\",('②名簿（受講者情報を入力）'!H33))","v":""},{"$f":"IF('②名簿（受講者情報を入力）'!I33=\"\",\"\",('②名簿（受講者情報を入力）'!I33))","v":""},{"$f":"IF('②名簿（受講者情報を入力）'!K33=\"\",\"\",('②名簿（受講者情報を入力）'!K33))","v":""},{"$f":"IF('②名簿（受講者情報を入力）'!L33=\"\",\"\",('②名簿（受講者情報を入力）'!L33))","v":""},{"$f":"IF('②名簿（受講者情報を入力）'!M33=\"\",\"\",('②名簿（受講者情報を入力）'!M33))","v":""},{"$f":"IF('②名簿（受講者情報を入力）'!N33=\"\",\"\",('②名簿（受講者情報を入力）'!N33))","v":""},{"$f":"IF('②名簿（受講者情報を入力）'!P33=\"\",\"\",('②名簿（受講者情報を入力）'!P33))","v":""}]
[{"$f":"IF('②名簿（受講者情報を入力）'!C34=\"\",\"\",('②名簿（受講者情報を入力）'!C34))","v":""},{"$f":"IF('②名簿（受講者情報を入力）'!D34=\"\",\"\",('②名簿（受講者情報を入力）'!D34))","v":""},{"$f":"IF('②名簿（受講者情報を入力）'!E34=\"\",\"\",('②名簿（受講者情報を入力）'!E34))","v":""},{"$f":"IF('②名簿（受講者情報を入力）'!F34=\"\",\"\",('②名簿（受講者情報を入力）'!F34))","v":""},{"$f":"IF('②名簿（受講者情報を入力）'!G34=\"\",\"\",('②名簿（受講者情報を入力）'!G34))","v":""},{"$f":"IF('②名簿（受講者情報を入力）'!H34=\"\",\"\",('②名簿（受講者情報を入力）'!H34))","v":""},{"$f":"IF('②名簿（受講者情報を入力）'!I34=\"\",\"\",('②名簿（受講者情報を入力）'!I34))","v":""},{"$f":"IF('②名簿（受講者情報を入力）'!K34=\"\",\"\",('②名簿（受講者情報を入力）'!K34))","v":""},{"$f":"IF('②名簿（受講者情報を入力）'!L34=\"\",\"\",('②名簿（受講者情報を入力）'!L34))","v":""},{"$f":"IF('②名簿（受講者情報を入力）'!M34=\"\",\"\",('②名簿（受講者情報を入力）'!M34))","v":""},{"$f":"IF('②名簿（受講者情報を入力）'!N34=\"\",\"\",('②名簿（受講者情報を入力）'!N34))","v":""},{"$f":"IF('②名簿（受講者情報を入力）'!P34=\"\",\"\",('②名簿（受講者情報を入力）'!P34))","v":""}]
[{"$f":"IF('②名簿（受講者情報を入力）'!C35=\"\",\"\",('②名簿（受講者情報を入力）'!C35))","v":""},{"$f":"IF('②名簿（受講者情報を入力）'!D35=\"\",\"\",('②名簿（受講者情報を入力）'!D35))","v":""},{"$f":"IF('②名簿（受講者情報を入力）'!E35=\"\",\"\",('②名簿（受講者情報を入力）'!E35))","v":""},{"$f":"IF('②名簿（受講者情報を入力）'!F35=\"\",\"\",('②名簿（受講者情報を入力）'!F35))","v":""},{"$f":"IF('②名簿（受講者情報を入力）'!G35=\"\",\"\",('②名簿（受講者情報を入力）'!G35))","v":""},{"$f":"IF('②名簿（受講者情報を入力）'!H35=\"\",\"\",('②名簿（受講者情報を入力）'!H35))","v":""},{"$f":"IF('②名簿（受講者情報を入力）'!I35=\"\",\"\",('②名簿（受講者情報を入力）'!I35))","v":""},{"$f":"IF('②名簿（受講者情報を入力）'!K35=\"\",\"\",('②名簿（受講者情報を入力）'!K35))","v":""},{"$f":"IF('②名簿（受講者情報を入力）'!L35=\"\",\"\",('②名簿（受講者情報を入力）'!L35))","v":""},{"$f":"IF('②名簿（受講者情報を入力）'!M35=\"\",\"\",('②名簿（受講者情報を入力）'!M35))","v":""},{"$f":"IF('②名簿（受講者情報を入力）'!N35=\"\",\"\",('②名簿（受講者情報を入力）'!N35))","v":""},{"$f":"IF('②名簿（受講者情報を入力）'!P35=\"\",\"\",('②名簿（受講者情報を入力）'!P35))","v":""}]
[{"$f":"IF('②名簿（受講者情報を入力）'!C36=\"\",\"\",('②名簿（受講者情報を入力）'!C36))","v":""},{"$f":"IF('②名簿（受講者情報を入力）'!D36=\"\",\"\",('②名簿（受講者情報を入力）'!D36))","v":""},{"$f":"IF('②名簿（受講者情報を入力）'!E36=\"\",\"\",('②名簿（受講者情報を入力）'!E36))","v":""},{"$f":"IF('②名簿（受講者情報を入力）'!F36=\"\",\"\",('②名簿（受講者情報を入力）'!F36))","v":""},{"$f":"IF('②名簿（受講者情報を入力）'!G36=\"\",\"\",('②名簿（受講者情報を入力）'!G36))","v":""},{"$f":"IF('②名簿（受講者情報を入力）'!H36=\"\",\"\",('②名簿（受講者情報を入力）'!H36))","v":""},{"$f":"IF('②名簿（受講者情報を入力）'!I36=\"\",\"\",('②名簿（受講者情報を入力）'!I36))","v":""},{"$f":"IF('②名簿（受講者情報を入力）'!K36=\"\",\"\",('②名簿（受講者情報を入力）'!K36))","v":""},{"$f":"IF('②名簿（受講者情報を入力）'!L36=\"\",\"\",('②名簿（受講者情報を入力）'!L36))","v":""},{"$f":"IF('②名簿（受講者情報を入力）'!M36=\"\",\"\",('②名簿（受講者情報を入力）'!M36))","v":""},{"$f":"IF('②名簿（受講者情報を入力）'!N36=\"\",\"\",('②名簿（受講者情報を入力）'!N36))","v":""},{"$f":"IF('②名簿（受講者情報を入力）'!P36=\"\",\"\",('②名簿（受講者情報を入力）'!P36))","v":""}]
[{"$f":"IF('②名簿（受講者情報を入力）'!C37=\"\",\"\",('②名簿（受講者情報を入力）'!C37))","v":""},{"$f":"IF('②名簿（受講者情報を入力）'!D37=\"\",\"\",('②名簿（受講者情報を入力）'!D37))","v":""},{"$f":"IF('②名簿（受講者情報を入力）'!E37=\"\",\"\",('②名簿（受講者情報を入力）'!E37))","v":""},{"$f":"IF('②名簿（受講者情報を入力）'!F37=\"\",\"\",('②名簿（受講者情報を入力）'!F37))","v":""},{"$f":"IF('②名簿（受講者情報を入力）'!G37=\"\",\"\",('②名簿（受講者情報を入力）'!G37))","v":""},{"$f":"IF('②名簿（受講者情報を入力）'!H37=\"\",\"\",('②名簿（受講者情報を入力）'!H37))","v":""},{"$f":"IF('②名簿（受講者情報を入力）'!I37=\"\",\"\",('②名簿（受講者情報を入力）'!I37))","v":""},{"$f":"IF('②名簿（受講者情報を入力）'!K37=\"\",\"\",('②名簿（受講者情報を入力）'!K37))","v":""},{"$f":"IF('②名簿（受講者情報を入力）'!L37=\"\",\"\",('②名簿（受講者情報を入力）'!L37))","v":""},{"$f":"IF('②名簿（受講者情報を入力）'!M37=\"\",\"\",('②名簿（受講者情報を入力）'!M37))","v":""},{"$f":"IF('②名簿（受講者情報を入力）'!N37=\"\",\"\",('②名簿（受講者情報を入力）'!N37))","v":""},{"$f":"IF('②名簿（受講者情報を入力）'!P37=\"\",\"\",('②名簿（受講者情報を入力）'!P37))","v":""}]
[{"$f":"IF('②名簿（受講者情報を入力）'!C38=\"\",\"\",('②名簿（受講者情報を入力）'!C38))","v":""},{"$f":"IF('②名簿（受講者情報を入力）'!D38=\"\",\"\",('②名簿（受講者情報を入力）'!D38))","v":""},{"$f":"IF('②名簿（受講者情報を入力）'!E38=\"\",\"\",('②名簿（受講者情報を入力）'!E38))","v":""},{"$f":"IF('②名簿（受講者情報を入力）'!F38=\"\",\"\",('②名簿（受講者情報を入力）'!F38))","v":""},{"$f":"IF('②名簿（受講者情報を入力）'!G38=\"\",\"\",('②名簿（受講者情報を入力）'!G38))","v":""},{"$f":"IF('②名簿（受講者情報を入力）'!H38=\"\",\"\",('②名簿（受講者情報を入力）'!H38))","v":""},{"$f":"IF('②名簿（受講者情報を入力）'!I38=\"\",\"\",('②名簿（受講者情報を入力）'!I38))","v":""},{"$f":"IF('②名簿（受講者情報を入力）'!K38=\"\",\"\",('②名簿（受講者情報を入力）'!K38))","v":""},{"$f":"IF('②名簿（受講者情報を入力）'!L38=\"\",\"\",('②名簿（受講者情報を入力）'!L38))","v":""},{"$f":"IF('②名簿（受講者情報を入力）'!M38=\"\",\"\",('②名簿（受講者情報を入力）'!M38))","v":""},{"$f":"IF('②名簿（受講者情報を入力）'!N38=\"\",\"\",('②名簿（受講者情報を入力）'!N38))","v":""},{"$f":"IF('②名簿（受講者情報を入力）'!P38=\"\",\"\",('②名簿（受講者情報を入力）'!P38))","v":""}]
[{"$f":"IF('②名簿（受講者情報を入力）'!C39=\"\",\"\",('②名簿（受講者情報を入力）'!C39))","v":""},{"$f":"IF('②名簿（受講者情報を入力）'!D39=\"\",\"\",('②名簿（受講者情報を入力）'!D39))","v":""},{"$f":"IF('②名簿（受講者情報を入力）'!E39=\"\",\"\",('②名簿（受講者情報を入力）'!E39))","v":""},{"$f":"IF('②名簿（受講者情報を入力）'!F39=\"\",\"\",('②名簿（受講者情報を入力）'!F39))","v":""},{"$f":"IF('②名簿（受講者情報を入力）'!G39=\"\",\"\",('②名簿（受講者情報を入力）'!G39))","v":""},{"$f":"IF('②名簿（受講者情報を入力）'!H39=\"\",\"\",('②名簿（受講者情報を入力）'!H39))","v":""},{"$f":"IF('②名簿（受講者情報を入力）'!I39=\"\",\"\",('②名簿（受講者情報を入力）'!I39))","v":""},{"$f":"IF('②名簿（受講者情報を入力）'!K39=\"\",\"\",('②名簿（受講者情報を入力）'!K39))","v":""},{"$f":"IF('②名簿（受講者情報を入力）'!L39=\"\",\"\",('②名簿（受講者情報を入力）'!L39))","v":""},{"$f":"IF('②名簿（受講者情報を入力）'!M39=\"\",\"\",('②名簿（受講者情報を入力）'!M39))","v":""},{"$f":"IF('②名簿（受講者情報を入力）'!N39=\"\",\"\",('②名簿（受講者情報を入力）'!N39))","v":""},{"$f":"IF('②名簿（受講者情報を入力）'!P39=\"\",\"\",('②名簿（受講者情報を入力）'!P39))","v":""}]
[{"$f":"IF('②名簿（受講者情報を入力）'!C40=\"\",\"\",('②名簿（受講者情報を入力）'!C40))","v":""},{"$f":"IF('②名簿（受講者情報を入力）'!D40=\"\",\"\",('②名簿（受講者情報を入力）'!D40))","v":""},{"$f":"IF('②名簿（受講者情報を入力）'!E40=\"\",\"\",('②名簿（受講者情報を入力）'!E40))","v":""},{"$f":"IF('②名簿（受講者情報を入力）'!F40=\"\",\"\",('②名簿（受講者情報を入力）'!F40))","v":""},{"$f":"IF('②名簿（受講者情報を入力）'!G40=\"\",\"\",('②名簿（受講者情報を入力）'!G40))","v":""},{"$f":"IF('②名簿（受講者情報を入力）'!H40=\"\",\"\",('②名簿（受講者情報を入力）'!H40))","v":""},{"$f":"IF('②名簿（受講者情報を入力）'!I40=\"\",\"\",('②名簿（受講者情報を入力）'!I40))","v":""},{"$f":"IF('②名簿（受講者情報を入力）'!K40=\"\",\"\",('②名簿（受講者情報を入力）'!K40))","v":""},{"$f":"IF('②名簿（受講者情報を入力）'!L40=\"\",\"\",('②名簿（受講者情報を入力）'!L40))","v":""},{"$f":"IF('②名簿（受講者情報を入力）'!M40=\"\",\"\",('②名簿（受講者情報を入力）'!M40))","v":""},{"$f":"IF('②名簿（受講者情報を入力）'!N40=\"\",\"\",('②名簿（受講者情報を入力）'!N40))","v":""},{"$f":"IF('②名簿（受講者情報を入力）'!P40=\"\",\"\",('②名簿（受講者情報を入力）'!P40))","v":""}]
[{"$f":"IF('②名簿（受講者情報を入力）'!C41=\"\",\"\",('②名簿（受講者情報を入力）'!C41))","v":""},{"$f":"IF('②名簿（受講者情報を入力）'!D41=\"\",\"\",('②名簿（受講者情報を入力）'!D41))","v":""},{"$f":"IF('②名簿（受講者情報を入力）'!E41=\"\",\"\",('②名簿（受講者情報を入力）'!E41))","v":""},{"$f":"IF('②名簿（受講者情報を入力）'!F41=\"\",\"\",('②名簿（受講者情報を入力）'!F41))","v":""},{"$f":"IF('②名簿（受講者情報を入力）'!G41=\"\",\"\",('②名簿（受講者情報を入力）'!G41))","v":""},{"$f":"IF('②名簿（受講者情報を入力）'!H41=\"\",\"\",('②名簿（受講者情報を入力）'!H41))","v":""},{"$f":"IF('②名簿（受講者情報を入力）'!I41=\"\",\"\",('②名簿（受講者情報を入力）'!I41))","v":""},{"$f":"IF('②名簿（受講者情報を入力）'!K41=\"\",\"\",('②名簿（受講者情報を入力）'!K41))","v":""},{"$f":"IF('②名簿（受講者情報を入力）'!L41=\"\",\"\",('②名簿（受講者情報を入力）'!L41))","v":""},{"$f":"IF('②名簿（受講者情報を入力）'!M41=\"\",\"\",('②名簿（受講者情報を入力）'!M41))","v":""},{"$f":"IF('②名簿（受講者情報を入力）'!N41=\"\",\"\",('②名簿（受講者情報を入力）'!N41))","v":""},{"$f":"IF('②名簿（受講者情報を入力）'!P41=\"\",\"\",('②名簿（受講者情報を入力）'!P41))","v":""}]
[{"$f":"IF('②名簿（受講者情報を入力）'!C42=\"\",\"\",('②名簿（受講者情報を入力）'!C42))","v":""},{"$f":"IF('②名簿（受講者情報を入力）'!D42=\"\",\"\",('②名簿（受講者情報を入力）'!D42))","v":""},{"$f":"IF('②名簿（受講者情報を入力）'!E42=\"\",\"\",('②名簿（受講者情報を入力）'!E42))","v":""},{"$f":"IF('②名簿（受講者情報を入力）'!F42=\"\",\"\",('②名簿（受講者情報を入力）'!F42))","v":""},{"$f":"IF('②名簿（受講者情報を入力）'!G42=\"\",\"\",('②名簿（受講者情報を入力）'!G42))","v":""},{"$f":"IF('②名簿（受講者情報を入力）'!H42=\"\",\"\",('②名簿（受講者情報を入力）'!H42))","v":""},{"$f":"IF('②名簿（受講者情報を入力）'!I42=\"\",\"\",('②名簿（受講者情報を入力）'!I42))","v":""},{"$f":"IF('②名簿（受講者情報を入力）'!K42=\"\",\"\",('②名簿（受講者情報を入力）'!K42))","v":""},{"$f":"IF('②名簿（受講者情報を入力）'!L42=\"\",\"\",('②名簿（受講者情報を入力）'!L42))","v":""},{"$f":"IF('②名簿（受講者情報を入力）'!M42=\"\",\"\",('②名簿（受講者情報を入力）'!M42))","v":""},{"$f":"IF('②名簿（受講者情報を入力）'!N42=\"\",\"\",('②名簿（受講者情報を入力）'!N42))","v":""},{"$f":"IF('②名簿（受講者情報を入力）'!P42=\"\",\"\",('②名簿（受講者情報を入力）'!P42))","v":""}]
[{"$f":"IF('②名簿（受講者情報を入力）'!C43=\"\",\"\",('②名簿（受講者情報を入力）'!C43))","v":""},{"$f":"IF('②名簿（受講者情報を入力）'!D43=\"\",\"\",('②名簿（受講者情報を入力）'!D43))","v":""},{"$f":"IF('②名簿（受講者情報を入力）'!E43=\"\",\"\",('②名簿（受講者情報を入力）'!E43))","v":""},{"$f":"IF('②名簿（受講者情報を入力）'!F43=\"\",\"\",('②名簿（受講者情報を入力）'!F43))","v":""},{"$f":"IF('②名簿（受講者情報を入力）'!G43=\"\",\"\",('②名簿（受講者情報を入力）'!G43))","v":""},{"$f":"IF('②名簿（受講者情報を入力）'!H43=\"\",\"\",('②名簿（受講者情報を入力）'!H43))","v":""},{"$f":"IF('②名簿（受講者情報を入力）'!I43=\"\",\"\",('②名簿（受講者情報を入力）'!I43))","v":""},{"$f":"IF('②名簿（受講者情報を入力）'!K43=\"\",\"\",('②名簿（受講者情報を入力）'!K43))","v":""},{"$f":"IF('②名簿（受講者情報を入力）'!L43=\"\",\"\",('②名簿（受講者情報を入力）'!L43))","v":""},{"$f":"IF('②名簿（受講者情報を入力）'!M43=\"\",\"\",('②名簿（受講者情報を入力）'!M43))","v":""},{"$f":"IF('②名簿（受講者情報を入力）'!N43=\"\",\"\",('②名簿（受講者情報を入力）'!N43))","v":""},{"$f":"IF('②名簿（受講者情報を入力）'!P43=\"\",\"\",('②名簿（受講者情報を入力）'!P43))","v":""}]
[{"$f":"IF('②名簿（受講者情報を入力）'!C44=\"\",\"\",('②名簿（受講者情報を入力）'!C44))","v":""},{"$f":"IF('②名簿（受講者情報を入力）'!D44=\"\",\"\",('②名簿（受講者情報を入力）'!D44))","v":""},{"$f":"IF('②名簿（受講者情報を入力）'!E44=\"\",\"\",('②名簿（受講者情報を入力）'!E44))","v":""},{"$f":"IF('②名簿（受講者情報を入力）'!F44=\"\",\"\",('②名簿（受講者情報を入力）'!F44))","v":""},{"$f":"IF('②名簿（受講者情報を入力）'!G44=\"\",\"\",('②名簿（受講者情報を入力）'!G44))","v":""},{"$f":"IF('②名簿（受講者情報を入力）'!H44=\"\",\"\",('②名簿（受講者情報を入力）'!H44))","v":""},{"$f":"IF('②名簿（受講者情報を入力）'!I44=\"\",\"\",('②名簿（受講者情報を入力）'!I44))","v":""},{"$f":"IF('②名簿（受講者情報を入力）'!K44=\"\",\"\",('②名簿（受講者情報を入力）'!K44))","v":""},{"$f":"IF('②名簿（受講者情報を入力）'!L44=\"\",\"\",('②名簿（受講者情報を入力）'!L44))","v":""},{"$f":"IF('②名簿（受講者情報を入力）'!M44=\"\",\"\",('②名簿（受講者情報を入力）'!M44))","v":""},{"$f":"IF('②名簿（受講者情報を入力）'!N44=\"\",\"\",('②名簿（受講者情報を入力）'!N44))","v":""},{"$f":"IF('②名簿（受講者情報を入力）'!P44=\"\",\"\",('②名簿（受講者情報を入力）'!P44))","v":""}]
[{"$f":"IF('②名簿（受講者情報を入力）'!C45=\"\",\"\",('②名簿（受講者情報を入力）'!C45))","v":""},{"$f":"IF('②名簿（受講者情報を入力）'!D45=\"\",\"\",('②名簿（受講者情報を入力）'!D45))","v":""},{"$f":"IF('②名簿（受講者情報を入力）'!E45=\"\",\"\",('②名簿（受講者情報を入力）'!E45))","v":""},{"$f":"IF('②名簿（受講者情報を入力）'!F45=\"\",\"\",('②名簿（受講者情報を入力）'!F45))","v":""},{"$f":"IF('②名簿（受講者情報を入力）'!G45=\"\",\"\",('②名簿（受講者情報を入力）'!G45))","v":""},{"$f":"IF('②名簿（受講者情報を入力）'!H45=\"\",\"\",('②名簿（受講者情報を入力）'!H45))","v":""},{"$f":"IF('②名簿（受講者情報を入力）'!I45=\"\",\"\",('②名簿（受講者情報を入力）'!I45))","v":""},{"$f":"IF('②名簿（受講者情報を入力）'!K45=\"\",\"\",('②名簿（受講者情報を入力）'!K45))","v":""},{"$f":"IF('②名簿（受講者情報を入力）'!L45=\"\",\"\",('②名簿（受講者情報を入力）'!L45))","v":""},{"$f":"IF('②名簿（受講者情報を入力）'!M45=\"\",\"\",('②名簿（受講者情報を入力）'!M45))","v":""},{"$f":"IF('②名簿（受講者情報を入力）'!N45=\"\",\"\",('②名簿（受講者情報を入力）'!N45))","v":""},{"$f":"IF('②名簿（受講者情報を入力）'!P45=\"\",\"\",('②名簿（受講者情報を入力）'!P45))","v":""}]
[{"$f":"IF('②名簿（受講者情報を入力）'!C46=\"\",\"\",('②名簿（受講者情報を入力）'!C46))","v":""},{"$f":"IF('②名簿（受講者情報を入力）'!D46=\"\",\"\",('②名簿（受講者情報を入力）'!D46))","v":""},{"$f":"IF('②名簿（受講者情報を入力）'!E46=\"\",\"\",('②名簿（受講者情報を入力）'!E46))","v":""},{"$f":"IF('②名簿（受講者情報を入力）'!F46=\"\",\"\",('②名簿（受講者情報を入力）'!F46))","v":""},{"$f":"IF('②名簿（受講者情報を入力）'!G46=\"\",\"\",('②名簿（受講者情報を入力）'!G46))","v":""},{"$f":"IF('②名簿（受講者情報を入力）'!H46=\"\",\"\",('②名簿（受講者情報を入力）'!H46))","v":""},{"$f":"IF('②名簿（受講者情報を入力）'!I46=\"\",\"\",('②名簿（受講者情報を入力）'!I46))","v":""},{"$f":"IF('②名簿（受講者情報を入力）'!K46=\"\",\"\",('②名簿（受講者情報を入力）'!K46))","v":""},{"$f":"IF('②名簿（受講者情報を入力）'!L46=\"\",\"\",('②名簿（受講者情報を入力）'!L46))","v":""},{"$f":"IF('②名簿（受講者情報を入力）'!M46=\"\",\"\",('②名簿（受講者情報を入力）'!M46))","v":""},{"$f":"IF('②名簿（受講者情報を入力）'!N46=\"\",\"\",('②名簿（受講者情報を入力）'!N46))","v":""},{"$f":"IF('②名簿（受講者情報を入力）'!P46=\"\",\"\",('②名簿（受講者情報を入力）'!P46))","v":""}]
[{"$f":"IF('②名簿（受講者情報を入力）'!C47=\"\",\"\",('②名簿（受講者情報を入力）'!C47))","v":""},{"$f":"IF('②名簿（受講者情報を入力）'!D47=\"\",\"\",('②名簿（受講者情報を入力）'!D47))","v":""},{"$f":"IF('②名簿（受講者情報を入力）'!E47=\"\",\"\",('②名簿（受講者情報を入力）'!E47))","v":""},{"$f":"IF('②名簿（受講者情報を入力）'!F47=\"\",\"\",('②名簿（受講者情報を入力）'!F47))","v":""},{"$f":"IF('②名簿（受講者情報を入力）'!G47=\"\",\"\",('②名簿（受講者情報を入力）'!G47))","v":""},{"$f":"IF('②名簿（受講者情報を入力）'!H47=\"\",\"\",('②名簿（受講者情報を入力）'!H47))","v":""},{"$f":"IF('②名簿（受講者情報を入力）'!I47=\"\",\"\",('②名簿（受講者情報を入力）'!I47))","v":""},{"$f":"IF('②名簿（受講者情報を入力）'!K47=\"\",\"\",('②名簿（受講者情報を入力）'!K47))","v":""},{"$f":"IF('②名簿（受講者情報を入力）'!L47=\"\",\"\",('②名簿（受講者情報を入力）'!L47))","v":""},{"$f":"IF('②名簿（受講者情報を入力）'!M47=\"\",\"\",('②名簿（受講者情報を入力）'!M47))","v":""},{"$f":"IF('②名簿（受講者情報を入力）'!N47=\"\",\"\",('②名簿（受講者情報を入力）'!N47))","v":""},{"$f":"IF('②名簿（受講者情報を入力）'!P47=\"\",\"\",('②名簿（受講者情報を入力）'!P47))","v":""}]
[{"$f":"IF('②名簿（受講者情報を入力）'!C48=\"\",\"\",('②名簿（受講者情報を入力）'!C48))","v":""},{"$f":"IF('②名簿（受講者情報を入力）'!D48=\"\",\"\",('②名簿（受講者情報を入力）'!D48))","v":""},{"$f":"IF('②名簿（受講者情報を入力）'!E48=\"\",\"\",('②名簿（受講者情報を入力）'!E48))","v":""},{"$f":"IF('②名簿（受講者情報を入力）'!F48=\"\",\"\",('②名簿（受講者情報を入力）'!F48))","v":""},{"$f":"IF('②名簿（受講者情報を入力）'!G48=\"\",\"\",('②名簿（受講者情報を入力）'!G48))","v":""},{"$f":"IF('②名簿（受講者情報を入力）'!H48=\"\",\"\",('②名簿（受講者情報を入力）'!H48))","v":""},{"$f":"IF('②名簿（受講者情報を入力）'!I48=\"\",\"\",('②名簿（受講者情報を入力）'!I48))","v":""},{"$f":"IF('②名簿（受講者情報を入力）'!K48=\"\",\"\",('②名簿（受講者情報を入力）'!K48))","v":""},{"$f":"IF('②名簿（受講者情報を入力）'!L48=\"\",\"\",('②名簿（受講者情報を入力）'!L48))","v":""},{"$f":"IF('②名簿（受講者情報を入力）'!M48=\"\",\"\",('②名簿（受講者情報を入力）'!M48))","v":""},{"$f":"IF('②名簿（受講者情報を入力）'!N48=\"\",\"\",('②名簿（受講者情報を入力）'!N48))","v":""},{"$f":"IF('②名簿（受講者情報を入力）'!P48=\"\",\"\",('②名簿（受講者情報を入力）'!P48))","v":""}]
[{"$f":"IF('②名簿（受講者情報を入力）'!C49=\"\",\"\",('②名簿（受講者情報を入力）'!C49))","v":""},{"$f":"IF('②名簿（受講者情報を入力）'!D49=\"\",\"\",('②名簿（受講者情報を入力）'!D49))","v":""},{"$f":"IF('②名簿（受講者情報を入力）'!E49=\"\",\"\",('②名簿（受講者情報を入力）'!E49))","v":""},{"$f":"IF('②名簿（受講者情報を入力）'!F49=\"\",\"\",('②名簿（受講者情報を入力）'!F49))","v":""},{"$f":"IF('②名簿（受講者情報を入力）'!G49=\"\",\"\",('②名簿（受講者情報を入力）'!G49))","v":""},{"$f":"IF('②名簿（受講者情報を入力）'!H49=\"\",\"\",('②名簿（受講者情報を入力）'!H49))","v":""},{"$f":"IF('②名簿（受講者情報を入力）'!I49=\"\",\"\",('②名簿（受講者情報を入力）'!I49))","v":""},{"$f":"IF('②名簿（受講者情報を入力）'!K49=\"\",\"\",('②名簿（受講者情報を入力）'!K49))","v":""},{"$f":"IF('②名簿（受講者情報を入力）'!L49=\"\",\"\",('②名簿（受講者情報を入力）'!L49))","v":""},{"$f":"IF('②名簿（受講者情報を入力）'!M49=\"\",\"\",('②名簿（受講者情報を入力）'!M49))","v":""},{"$f":"IF('②名簿（受講者情報を入力）'!N49=\"\",\"\",('②名簿（受講者情報を入力）'!N49))","v":""},{"$f":"IF('②名簿（受講者情報を入力）'!P49=\"\",\"\",('②名簿（受講者情報を入力）'!P49))","v":""}]
[{"$f":"IF('②名簿（受講者情報を入力）'!C50=\"\",\"\",('②名簿（受講者情報を入力）'!C50))","v":""},{"$f":"IF('②名簿（受講者情報を入力）'!D50=\"\",\"\",('②名簿（受講者情報を入力）'!D50))","v":""},{"$f":"IF('②名簿（受講者情報を入力）'!E50=\"\",\"\",('②名簿（受講者情報を入力）'!E50))","v":""},{"$f":"IF('②名簿（受講者情報を入力）'!F50=\"\",\"\",('②名簿（受講者情報を入力）'!F50))","v":""},{"$f":"IF('②名簿（受講者情報を入力）'!G50=\"\",\"\",('②名簿（受講者情報を入力）'!G50))","v":""},{"$f":"IF('②名簿（受講者情報を入力）'!H50=\"\",\"\",('②名簿（受講者情報を入力）'!H50))","v":""},{"$f":"IF('②名簿（受講者情報を入力）'!I50=\"\",\"\",('②名簿（受講者情報を入力）'!I50))","v":""},{"$f":"IF('②名簿（受講者情報を入力）'!K50=\"\",\"\",('②名簿（受講者情報を入力）'!K50))","v":""},{"$f":"IF('②名簿（受講者情報を入力）'!L50=\"\",\"\",('②名簿（受講者情報を入力）'!L50))","v":""},{"$f":"IF('②名簿（受講者情報を入力）'!M50=\"\",\"\",('②名簿（受講者情報を入力）'!M50))","v":""},{"$f":"IF('②名簿（受講者情報を入力）'!N50=\"\",\"\",('②名簿（受講者情報を入力）'!N50))","v":""},{"$f":"IF('②名簿（受講者情報を入力）'!P50=\"\",\"\",('②名簿（受講者情報を入力）'!P50))","v":""}]
[{"$f":"IF('②名簿（受講者情報を入力）'!C51=\"\",\"\",('②名簿（受講者情報を入力）'!C51))","v":""},{"$f":"IF('②名簿（受講者情報を入力）'!D51=\"\",\"\",('②名簿（受講者情報を入力）'!D51))","v":""},{"$f":"IF('②名簿（受講者情報を入力）'!E51=\"\",\"\",('②名簿（受講者情報を入力）'!E51))","v":""},{"$f":"IF('②名簿（受講者情報を入力）'!F51=\"\",\"\",('②名簿（受講者情報を入力）'!F51))","v":""},{"$f":"IF('②名簿（受講者情報を入力）'!G51=\"\",\"\",('②名簿（受講者情報を入力）'!G51))","v":""},{"$f":"IF('②名簿（受講者情報を入力）'!H51=\"\",\"\",('②名簿（受講者情報を入力）'!H51))","v":""},{"$f":"IF('②名簿（受講者情報を入力）'!I51=\"\",\"\",('②名簿（受講者情報を入力）'!I51))","v":""},{"$f":"IF('②名簿（受講者情報を入力）'!K51=\"\",\"\",('②名簿（受講者情報を入力）'!K51))","v":""},{"$f":"IF('②名簿（受講者情報を入力）'!L51=\"\",\"\",('②名簿（受講者情報を入力）'!L51))","v":""},{"$f":"IF('②名簿（受講者情報を入力）'!M51=\"\",\"\",('②名簿（受講者情報を入力）'!M51))","v":""},{"$f":"IF('②名簿（受講者情報を入力）'!N51=\"\",\"\",('②名簿（受講者情報を入力）'!N51))","v":""},{"$f":"IF('②名簿（受講者情報を入力）'!P51=\"\",\"\",('②名簿（受講者情報を入力）'!P51))","v":""}]
[{"$f":"IF('②名簿（受講者情報を入力）'!C52=\"\",\"\",('②名簿（受講者情報を入力）'!C52))","v":""},{"$f":"IF('②名簿（受講者情報を入力）'!D52=\"\",\"\",('②名簿（受講者情報を入力）'!D52))","v":""},{"$f":"IF('②名簿（受講者情報を入力）'!E52=\"\",\"\",('②名簿（受講者情報を入力）'!E52))","v":""},{"$f":"IF('②名簿（受講者情報を入力）'!F52=\"\",\"\",('②名簿（受講者情報を入力）'!F52))","v":""},{"$f":"IF('②名簿（受講者情報を入力）'!G52=\"\",\"\",('②名簿（受講者情報を入力）'!G52))","v":""},{"$f":"IF('②名簿（受講者情報を入力）'!H52=\"\",\"\",('②名簿（受講者情報を入力）'!H52))","v":""},{"$f":"IF('②名簿（受講者情報を入力）'!I52=\"\",\"\",('②名簿（受講者情報を入力）'!I52))","v":""},{"$f":"IF('②名簿（受講者情報を入力）'!K52=\"\",\"\",('②名簿（受講者情報を入力）'!K52))","v":""},{"$f":"IF('②名簿（受講者情報を入力）'!L52=\"\",\"\",('②名簿（受講者情報を入力）'!L52))","v":""},{"$f":"IF('②名簿（受講者情報を入力）'!M52=\"\",\"\",('②名簿（受講者情報を入力）'!M52))","v":""},{"$f":"IF('②名簿（受講者情報を入力）'!N52=\"\",\"\",('②名簿（受講者情報を入力）'!N52))","v":""},{"$f":"IF('②名簿（受講者情報を入力）'!P52=\"\",\"\",('②名簿（受講者情報を入力）'!P52))","v":""}]
[{"$f":"IF('②名簿（受講者情報を入力）'!C53=\"\",\"\",('②名簿（受講者情報を入力）'!C53))","v":""},{"$f":"IF('②名簿（受講者情報を入力）'!D53=\"\",\"\",('②名簿（受講者情報を入力）'!D53))","v":""},{"$f":"IF('②名簿（受講者情報を入力）'!E53=\"\",\"\",('②名簿（受講者情報を入力）'!E53))","v":""},{"$f":"IF('②名簿（受講者情報を入力）'!F53=\"\",\"\",('②名簿（受講者情報を入力）'!F53))","v":""},{"$f":"IF('②名簿（受講者情報を入力）'!G53=\"\",\"\",('②名簿（受講者情報を入力）'!G53))","v":""},{"$f":"IF('②名簿（受講者情報を入力）'!H53=\"\",\"\",('②名簿（受講者情報を入力）'!H53))","v":""},{"$f":"IF('②名簿（受講者情報を入力）'!I53=\"\",\"\",('②名簿（受講者情報を入力）'!I53))","v":""},{"$f":"IF('②名簿（受講者情報を入力）'!K53=\"\",\"\",('②名簿（受講者情報を入力）'!K53))","v":""},{"$f":"IF('②名簿（受講者情報を入力）'!L53=\"\",\"\",('②名簿（受講者情報を入力）'!L53))","v":""},{"$f":"IF('②名簿（受講者情報を入力）'!M53=\"\",\"\",('②名簿（受講者情報を入力）'!M53))","v":""},{"$f":"IF('②名簿（受講者情報を入力）'!N53=\"\",\"\",('②名簿（受講者情報を入力）'!N53))","v":""},{"$f":"IF('②名簿（受講者情報を入力）'!P53=\"\",\"\",('②名簿（受講者情報を入力）'!P53))","v":""}]
[{"$f":"IF('②名簿（受講者情報を入力）'!C54=\"\",\"\",('②名簿（受講者情報を入力）'!C54))","v":""},{"$f":"IF('②名簿（受講者情報を入力）'!D54=\"\",\"\",('②名簿（受講者情報を入力）'!D54))","v":""},{"$f":"IF('②名簿（受講者情報を入力）'!E54=\"\",\"\",('②名簿（受講者情報を入力）'!E54))","v":""},{"$f":"IF('②名簿（受講者情報を入力）'!F54=\"\",\"\",('②名簿（受講者情報を入力）'!F54))","v":""},{"$f":"IF('②名簿（受講者情報を入力）'!G54=\"\",\"\",('②名簿（受講者情報を入力）'!G54))","v":""},{"$f":"IF('②名簿（受講者情報を入力）'!H54=\"\",\"\",('②名簿（受講者情報を入力）'!H54))","v":""},{"$f":"IF('②名簿（受講者情報を入力）'!I54=\"\",\"\",('②名簿（受講者情報を入力）'!I54))","v":""},{"$f":"IF('②名簿（受講者情報を入力）'!K54=\"\",\"\",('②名簿（受講者情報を入力）'!K54))","v":""},{"$f":"IF('②名簿（受講者情報を入力）'!L54=\"\",\"\",('②名簿（受講者情報を入力）'!L54))","v":""},{"$f":"IF('②名簿（受講者情報を入力）'!M54=\"\",\"\",('②名簿（受講者情報を入力）'!M54))","v":""},{"$f":"IF('②名簿（受講者情報を入力）'!N54=\"\",\"\",('②名簿（受講者情報を入力）'!N54))","v":""},{"$f":"IF('②名簿（受講者情報を入力）'!P54=\"\",\"\",('②名簿（受講者情報を入力）'!P54))","v":""}]
[{"$f":"IF('②名簿（受講者情報を入力）'!C55=\"\",\"\",('②名簿（受講者情報を入力）'!C55))","v":""},{"$f":"IF('②名簿（受講者情報を入力）'!D55=\"\",\"\",('②名簿（受講者情報を入力）'!D55))","v":""},{"$f":"IF('②名簿（受講者情報を入力）'!E55=\"\",\"\",('②名簿（受講者情報を入力）'!E55))","v":""},{"$f":"IF('②名簿（受講者情報を入力）'!F55=\"\",\"\",('②名簿（受講者情報を入力）'!F55))","v":""},{"$f":"IF('②名簿（受講者情報を入力）'!G55=\"\",\"\",('②名簿（受講者情報を入力）'!G55))","v":""},{"$f":"IF('②名簿（受講者情報を入力）'!H55=\"\",\"\",('②名簿（受講者情報を入力）'!H55))","v":""},{"$f":"IF('②名簿（受講者情報を入力）'!I55=\"\",\"\",('②名簿（受講者情報を入力）'!I55))","v":""},{"$f":"IF('②名簿（受講者情報を入力）'!K55=\"\",\"\",('②名簿（受講者情報を入力）'!K55))","v":""},{"$f":"IF('②名簿（受講者情報を入力）'!L55=\"\",\"\",('②名簿（受講者情報を入力）'!L55))","v":""},{"$f":"IF('②名簿（受講者情報を入力）'!M55=\"\",\"\",('②名簿（受講者情報を入力）'!M55))","v":""},{"$f":"IF('②名簿（受講者情報を入力）'!N55=\"\",\"\",('②名簿（受講者情報を入力）'!N55))","v":""},{"$f":"IF('②名簿（受講者情報を入力）'!P55=\"\",\"\",('②名簿（受講者情報を入力）'!P55))","v":""}]
[{"$f":"IF('②名簿（受講者情報を入力）'!C56=\"\",\"\",('②名簿（受講者情報を入力）'!C56))","v":""},{"$f":"IF('②名簿（受講者情報を入力）'!D56=\"\",\"\",('②名簿（受講者情報を入力）'!D56))","v":""},{"$f":"IF('②名簿（受講者情報を入力）'!E56=\"\",\"\",('②名簿（受講者情報を入力）'!E56))","v":""},{"$f":"IF('②名簿（受講者情報を入力）'!F56=\"\",\"\",('②名簿（受講者情報を入力）'!F56))","v":""},{"$f":"IF('②名簿（受講者情報を入力）'!G56=\"\",\"\",('②名簿（受講者情報を入力）'!G56))","v":""},{"$f":"IF('②名簿（受講者情報を入力）'!H56=\"\",\"\",('②名簿（受講者情報を入力）'!H56))","v":""},{"$f":"IF('②名簿（受講者情報を入力）'!I56=\"\",\"\",('②名簿（受講者情報を入力）'!I56))","v":""},{"$f":"IF('②名簿（受講者情報を入力）'!K56=\"\",\"\",('②名簿（受講者情報を入力）'!K56))","v":""},{"$f":"IF('②名簿（受講者情報を入力）'!L56=\"\",\"\",('②名簿（受講者情報を入力）'!L56))","v":""},{"$f":"IF('②名簿（受講者情報を入力）'!M56=\"\",\"\",('②名簿（受講者情報を入力）'!M56))","v":""},{"$f":"IF('②名簿（受講者情報を入力）'!N56=\"\",\"\",('②名簿（受講者情報を入力）'!N56))","v":""},{"$f":"IF('②名簿（受講者情報を入力）'!P56=\"\",\"\",('②名簿（受講者情報を入力）'!P56))","v":""}]
[{"$f":"IF('②名簿（受講者情報を入力）'!C57=\"\",\"\",('②名簿（受講者情報を入力）'!C57))","v":""},{"$f":"IF('②名簿（受講者情報を入力）'!D57=\"\",\"\",('②名簿（受講者情報を入力）'!D57))","v":""},{"$f":"IF('②名簿（受講者情報を入力）'!E57=\"\",\"\",('②名簿（受講者情報を入力）'!E57))","v":""},{"$f":"IF('②名簿（受講者情報を入力）'!F57=\"\",\"\",('②名簿（受講者情報を入力）'!F57))","v":""},{"$f":"IF('②名簿（受講者情報を入力）'!G57=\"\",\"\",('②名簿（受講者情報を入力）'!G57))","v":""},{"$f":"IF('②名簿（受講者情報を入力）'!H57=\"\",\"\",('②名簿（受講者情報を入力）'!H57))","v":""},{"$f":"IF('②名簿（受講者情報を入力）'!I57=\"\",\"\",('②名簿（受講者情報を入力）'!I57))","v":""},{"$f":"IF('②名簿（受講者情報を入力）'!K57=\"\",\"\",('②名簿（受講者情報を入力）'!K57))","v":""},{"$f":"IF('②名簿（受講者情報を入力）'!L57=\"\",\"\",('②名簿（受講者情報を入力）'!L57))","v":""},{"$f":"IF('②名簿（受講者情報を入力）'!M57=\"\",\"\",('②名簿（受講者情報を入力）'!M57))","v":""},{"$f":"IF('②名簿（受講者情報を入力）'!N57=\"\",\"\",('②名簿（受講者情報を入力）'!N57))","v":""},{"$f":"IF('②名簿（受講者情報を入力）'!P57=\"\",\"\",('②名簿（受講者情報を入力）'!P57))","v":""}]
[{"$f":"IF('②名簿（受講者情報を入力）'!C58=\"\",\"\",('②名簿（受講者情報を入力）'!C58))","v":""},{"$f":"IF('②名簿（受講者情報を入力）'!D58=\"\",\"\",('②名簿（受講者情報を入力）'!D58))","v":""},{"$f":"IF('②名簿（受講者情報を入力）'!E58=\"\",\"\",('②名簿（受講者情報を入力）'!E58))","v":""},{"$f":"IF('②名簿（受講者情報を入力）'!F58=\"\",\"\",('②名簿（受講者情報を入力）'!F58))","v":""},{"$f":"IF('②名簿（受講者情報を入力）'!G58=\"\",\"\",('②名簿（受講者情報を入力）'!G58))","v":""},{"$f":"IF('②名簿（受講者情報を入力）'!H58=\"\",\"\",('②名簿（受講者情報を入力）'!H58))","v":""},{"$f":"IF('②名簿（受講者情報を入力）'!I58=\"\",\"\",('②名簿（受講者情報を入力）'!I58))","v":""},{"$f":"IF('②名簿（受講者情報を入力）'!K58=\"\",\"\",('②名簿（受講者情報を入力）'!K58))","v":""},{"$f":"IF('②名簿（受講者情報を入力）'!L58=\"\",\"\",('②名簿（受講者情報を入力）'!L58))","v":""},{"$f":"IF('②名簿（受講者情報を入力）'!M58=\"\",\"\",('②名簿（受講者情報を入力）'!M58))","v":""},{"$f":"IF('②名簿（受講者情報を入力）'!N58=\"\",\"\",('②名簿（受講者情報を入力）'!N58))","v":""},{"$f":"IF('②名簿（受講者情報を入力）'!P58=\"\",\"\",('②名簿（受講者情報を入力）'!P58))","v":""}]
[{"$f":"IF('②名簿（受講者情報を入力）'!C59=\"\",\"\",('②名簿（受講者情報を入力）'!C59))","v":""},{"$f":"IF('②名簿（受講者情報を入力）'!D59=\"\",\"\",('②名簿（受講者情報を入力）'!D59))","v":""},{"$f":"IF('②名簿（受講者情報を入力）'!E59=\"\",\"\",('②名簿（受講者情報を入力）'!E59))","v":""},{"$f":"IF('②名簿（受講者情報を入力）'!F59=\"\",\"\",('②名簿（受講者情報を入力）'!F59))","v":""},{"$f":"IF('②名簿（受講者情報を入力）'!G59=\"\",\"\",('②名簿（受講者情報を入力）'!G59))","v":""},{"$f":"IF('②名簿（受講者情報を入力）'!H59=\"\",\"\",('②名簿（受講者情報を入力）'!H59))","v":""},{"$f":"IF('②名簿（受講者情報を入力）'!I59=\"\",\"\",('②名簿（受講者情報を入力）'!I59))","v":""},{"$f":"IF('②名簿（受講者情報を入力）'!K59=\"\",\"\",('②名簿（受講者情報を入力）'!K59))","v":""},{"$f":"IF('②名簿（受講者情報を入力）'!L59=\"\",\"\",('②名簿（受講者情報を入力）'!L59))","v":""},{"$f":"IF('②名簿（受講者情報を入力）'!M59=\"\",\"\",('②名簿（受講者情報を入力）'!M59))","v":""},{"$f":"IF('②名簿（受講者情報を入力）'!N59=\"\",\"\",('②名簿（受講者情報を入力）'!N59))","v":""},{"$f":"IF('②名簿（受講者情報を入力）'!P59=\"\",\"\",('②名簿（受講者情報を入力）'!P59))","v":""}]
[{"$f":"IF('②名簿（受講者情報を入力）'!C60=\"\",\"\",('②名簿（受講者情報を入力）'!C60))","v":""},{"$f":"IF('②名簿（受講者情報を入力）'!D60=\"\",\"\",('②名簿（受講者情報を入力）'!D60))","v":""},{"$f":"IF('②名簿（受講者情報を入力）'!E60=\"\",\"\",('②名簿（受講者情報を入力）'!E60))","v":""},{"$f":"IF('②名簿（受講者情報を入力）'!F60=\"\",\"\",('②名簿（受講者情報を入力）'!F60))","v":""},{"$f":"IF('②名簿（受講者情報を入力）'!G60=\"\",\"\",('②名簿（受講者情報を入力）'!G60))","v":""},{"$f":"IF('②名簿（受講者情報を入力）'!H60=\"\",\"\",('②名簿（受講者情報を入力）'!H60))","v":""},{"$f":"IF('②名簿（受講者情報を入力）'!I60=\"\",\"\",('②名簿（受講者情報を入力）'!I60))","v":""},{"$f":"IF('②名簿（受講者情報を入力）'!K60=\"\",\"\",('②名簿（受講者情報を入力）'!K60))","v":""},{"$f":"IF('②名簿（受講者情報を入力）'!L60=\"\",\"\",('②名簿（受講者情報を入力）'!L60))","v":""},{"$f":"IF('②名簿（受講者情報を入力）'!M60=\"\",\"\",('②名簿（受講者情報を入力）'!M60))","v":""},{"$f":"IF('②名簿（受講者情報を入力）'!N60=\"\",\"\",('②名簿（受講者情報を入力）'!N60))","v":""},{"$f":"IF('②名簿（受講者情報を入力）'!P60=\"\",\"\",('②名簿（受講者情報を入力）'!P60))","v":""}]
[{"$f":"IF('②名簿（受講者情報を入力）'!C61=\"\",\"\",('②名簿（受講者情報を入力）'!C61))","v":""},{"$f":"IF('②名簿（受講者情報を入力）'!D61=\"\",\"\",('②名簿（受講者情報を入力）'!D61))","v":""},{"$f":"IF('②名簿（受講者情報を入力）'!E61=\"\",\"\",('②名簿（受講者情報を入力）'!E61))","v":""},{"$f":"IF('②名簿（受講者情報を入力）'!F61=\"\",\"\",('②名簿（受講者情報を入力）'!F61))","v":""},{"$f":"IF('②名簿（受講者情報を入力）'!G61=\"\",\"\",('②名簿（受講者情報を入力）'!G61))","v":""},{"$f":"IF('②名簿（受講者情報を入力）'!H61=\"\",\"\",('②名簿（受講者情報を入力）'!H61))","v":""},{"$f":"IF('②名簿（受講者情報を入力）'!I61=\"\",\"\",('②名簿（受講者情報を入力）'!I61))","v":""},{"$f":"IF('②名簿（受講者情報を入力）'!K61=\"\",\"\",('②名簿（受講者情報を入力）'!K61))","v":""},{"$f":"IF('②名簿（受講者情報を入力）'!L61=\"\",\"\",('②名簿（受講者情報を入力）'!L61))","v":""},{"$f":"IF('②名簿（受講者情報を入力）'!M61=\"\",\"\",('②名簿（受講者情報を入力）'!M61))","v":""},{"$f":"IF('②名簿（受講者情報を入力）'!N61=\"\",\"\",('②名簿（受講者情報を入力）'!N61))","v":""},{"$f":"IF('②名簿（受講者情報を入力）'!P61=\"\",\"\",('②名簿（受講者情報を入力）'!P61))","v":""}]
[{"$f":"IF('②名簿（受講者情報を入力）'!C62=\"\",\"\",('②名簿（受講者情報を入力）'!C62))","v":""},{"$f":"IF('②名簿（受講者情報を入力）'!D62=\"\",\"\",('②名簿（受講者情報を入力）'!D62))","v":""},{"$f":"IF('②名簿（受講者情報を入力）'!E62=\"\",\"\",('②名簿（受講者情報を入力）'!E62))","v":""},{"$f":"IF('②名簿（受講者情報を入力）'!F62=\"\",\"\",('②名簿（受講者情報を入力）'!F62))","v":""},{"$f":"IF('②名簿（受講者情報を入力）'!G62=\"\",\"\",('②名簿（受講者情報を入力）'!G62))","v":""},{"$f":"IF('②名簿（受講者情報を入力）'!H62=\"\",\"\",('②名簿（受講者情報を入力）'!H62))","v":""},{"$f":"IF('②名簿（受講者情報を入力）'!I62=\"\",\"\",('②名簿（受講者情報を入力）'!I62))","v":""},{"$f":"IF('②名簿（受講者情報を入力）'!K62=\"\",\"\",('②名簿（受講者情報を入力）'!K62))","v":""},{"$f":"IF('②名簿（受講者情報を入力）'!L62=\"\",\"\",('②名簿（受講者情報を入力）'!L62))","v":""},{"$f":"IF('②名簿（受講者情報を入力）'!M62=\"\",\"\",('②名簿（受講者情報を入力）'!M62))","v":""},{"$f":"IF('②名簿（受講者情報を入力）'!N62=\"\",\"\",('②名簿（受講者情報を入力）'!N62))","v":""},{"$f":"IF('②名簿（受講者情報を入力）'!P62=\"\",\"\",('②名簿（受講者情報を入力）'!P62))","v":""}]
[{"$f":"IF('②名簿（受講者情報を入力）'!C63=\"\",\"\",('②名簿（受講者情報を入力）'!C63))","v":""},{"$f":"IF('②名簿（受講者情報を入力）'!D63=\"\",\"\",('②名簿（受講者情報を入力）'!D63))","v":""},{"$f":"IF('②名簿（受講者情報を入力）'!E63=\"\",\"\",('②名簿（受講者情報を入力）'!E63))","v":""},{"$f":"IF('②名簿（受講者情報を入力）'!F63=\"\",\"\",('②名簿（受講者情報を入力）'!F63))","v":""},{"$f":"IF('②名簿（受講者情報を入力）'!G63=\"\",\"\",('②名簿（受講者情報を入力）'!G63))","v":""},{"$f":"IF('②名簿（受講者情報を入力）'!H63=\"\",\"\",('②名簿（受講者情報を入力）'!H63))","v":""},{"$f":"IF('②名簿（受講者情報を入力）'!I63=\"\",\"\",('②名簿（受講者情報を入力）'!I63))","v":""},{"$f":"IF('②名簿（受講者情報を入力）'!K63=\"\",\"\",('②名簿（受講者情報を入力）'!K63))","v":""},{"$f":"IF('②名簿（受講者情報を入力）'!L63=\"\",\"\",('②名簿（受講者情報を入力）'!L63))","v":""},{"$f":"IF('②名簿（受講者情報を入力）'!M63=\"\",\"\",('②名簿（受講者情報を入力）'!M63))","v":""},{"$f":"IF('②名簿（受講者情報を入力）'!N63=\"\",\"\",('②名簿（受講者情報を入力）'!N63))","v":""},{"$f":"IF('②名簿（受講者情報を入力）'!P63=\"\",\"\",('②名簿（受講者情報を入力）'!P63))","v":""}]
[{"$f":"IF('②名簿（受講者情報を入力）'!C64=\"\",\"\",('②名簿（受講者情報を入力）'!C64))","v":""},{"$f":"IF('②名簿（受講者情報を入力）'!D64=\"\",\"\",('②名簿（受講者情報を入力）'!D64))","v":""},{"$f":"IF('②名簿（受講者情報を入力）'!E64=\"\",\"\",('②名簿（受講者情報を入力）'!E64))","v":""},{"$f":"IF('②名簿（受講者情報を入力）'!F64=\"\",\"\",('②名簿（受講者情報を入力）'!F64))","v":""},{"$f":"IF('②名簿（受講者情報を入力）'!G64=\"\",\"\",('②名簿（受講者情報を入力）'!G64))","v":""},{"$f":"IF('②名簿（受講者情報を入力）'!H64=\"\",\"\",('②名簿（受講者情報を入力）'!H64))","v":""},{"$f":"IF('②名簿（受講者情報を入力）'!I64=\"\",\"\",('②名簿（受講者情報を入力）'!I64))","v":""},{"$f":"IF('②名簿（受講者情報を入力）'!K64=\"\",\"\",('②名簿（受講者情報を入力）'!K64))","v":""},{"$f":"IF('②名簿（受講者情報を入力）'!L64=\"\",\"\",('②名簿（受講者情報を入力）'!L64))","v":""},{"$f":"IF('②名簿（受講者情報を入力）'!M64=\"\",\"\",('②名簿（受講者情報を入力）'!M64))","v":""},{"$f":"IF('②名簿（受講者情報を入力）'!N64=\"\",\"\",('②名簿（受講者情報を入力）'!N64))","v":""},{"$f":"IF('②名簿（受講者情報を入力）'!P64=\"\",\"\",('②名簿（受講者情報を入力）'!P64))","v":""}]
[{"$f":"IF('②名簿（受講者情報を入力）'!C65=\"\",\"\",('②名簿（受講者情報を入力）'!C65))","v":""},{"$f":"IF('②名簿（受講者情報を入力）'!D65=\"\",\"\",('②名簿（受講者情報を入力）'!D65))","v":""},{"$f":"IF('②名簿（受講者情報を入力）'!E65=\"\",\"\",('②名簿（受講者情報を入力）'!E65))","v":""},{"$f":"IF('②名簿（受講者情報を入力）'!F65=\"\",\"\",('②名簿（受講者情報を入力）'!F65))","v":""},{"$f":"IF('②名簿（受講者情報を入力）'!G65=\"\",\"\",('②名簿（受講者情報を入力）'!G65))","v":""},{"$f":"IF('②名簿（受講者情報を入力）'!H65=\"\",\"\",('②名簿（受講者情報を入力）'!H65))","v":""},{"$f":"IF('②名簿（受講者情報を入力）'!I65=\"\",\"\",('②名簿（受講者情報を入力）'!I65))","v":""},{"$f":"IF('②名簿（受講者情報を入力）'!K65=\"\",\"\",('②名簿（受講者情報を入力）'!K65))","v":""},{"$f":"IF('②名簿（受講者情報を入力）'!L65=\"\",\"\",('②名簿（受講者情報を入力）'!L65))","v":""},{"$f":"IF('②名簿（受講者情報を入力）'!M65=\"\",\"\",('②名簿（受講者情報を入力）'!M65))","v":""},{"$f":"IF('②名簿（受講者情報を入力）'!N65=\"\",\"\",('②名簿（受講者情報を入力）'!N65))","v":""},{"$f":"IF('②名簿（受講者情報を入力）'!P65=\"\",\"\",('②名簿（受講者情報を入力）'!P65))","v":""}]
[{"$f":"IF('②名簿（受講者情報を入力）'!C66=\"\",\"\",('②名簿（受講者情報を入力）'!C66))","v":""},{"$f":"IF('②名簿（受講者情報を入力）'!D66=\"\",\"\",('②名簿（受講者情報を入力）'!D66))","v":""},{"$f":"IF('②名簿（受講者情報を入力）'!E66=\"\",\"\",('②名簿（受講者情報を入力）'!E66))","v":""},{"$f":"IF('②名簿（受講者情報を入力）'!F66=\"\",\"\",('②名簿（受講者情報を入力）'!F66))","v":""},{"$f":"IF('②名簿（受講者情報を入力）'!G66=\"\",\"\",('②名簿（受講者情報を入力）'!G66))","v":""},{"$f":"IF('②名簿（受講者情報を入力）'!H66=\"\",\"\",('②名簿（受講者情報を入力）'!H66))","v":""},{"$f":"IF('②名簿（受講者情報を入力）'!I66=\"\",\"\",('②名簿（受講者情報を入力）'!I66))","v":""},{"$f":"IF('②名簿（受講者情報を入力）'!K66=\"\",\"\",('②名簿（受講者情報を入力）'!K66))","v":""},{"$f":"IF('②名簿（受講者情報を入力）'!L66=\"\",\"\",('②名簿（受講者情報を入力）'!L66))","v":""},{"$f":"IF('②名簿（受講者情報を入力）'!M66=\"\",\"\",('②名簿（受講者情報を入力）'!M66))","v":""},{"$f":"IF('②名簿（受講者情報を入力）'!N66=\"\",\"\",('②名簿（受講者情報を入力）'!N66))","v":""},{"$f":"IF('②名簿（受講者情報を入力）'!P66=\"\",\"\",('②名簿（受講者情報を入力）'!P66))","v":""}]
[{"$f":"IF('②名簿（受講者情報を入力）'!C67=\"\",\"\",('②名簿（受講者情報を入力）'!C67))","v":""},{"$f":"IF('②名簿（受講者情報を入力）'!D67=\"\",\"\",('②名簿（受講者情報を入力）'!D67))","v":""},{"$f":"IF('②名簿（受講者情報を入力）'!E67=\"\",\"\",('②名簿（受講者情報を入力）'!E67))","v":""},{"$f":"IF('②名簿（受講者情報を入力）'!F67=\"\",\"\",('②名簿（受講者情報を入力）'!F67))","v":""},{"$f":"IF('②名簿（受講者情報を入力）'!G67=\"\",\"\",('②名簿（受講者情報を入力）'!G67))","v":""},{"$f":"IF('②名簿（受講者情報を入力）'!H67=\"\",\"\",('②名簿（受講者情報を入力）'!H67))","v":""},{"$f":"IF('②名簿（受講者情報を入力）'!I67=\"\",\"\",('②名簿（受講者情報を入力）'!I67))","v":""},{"$f":"IF('②名簿（受講者情報を入力）'!K67=\"\",\"\",('②名簿（受講者情報を入力）'!K67))","v":""},{"$f":"IF('②名簿（受講者情報を入力）'!L67=\"\",\"\",('②名簿（受講者情報を入力）'!L67))","v":""},{"$f":"IF('②名簿（受講者情報を入力）'!M67=\"\",\"\",('②名簿（受講者情報を入力）'!M67))","v":""},{"$f":"IF('②名簿（受講者情報を入力）'!N67=\"\",\"\",('②名簿（受講者情報を入力）'!N67))","v":""},{"$f":"IF('②名簿（受講者情報を入力）'!P67=\"\",\"\",('②名簿（受講者情報を入力）'!P67))","v":""}]
[{"$f":"IF('②名簿（受講者情報を入力）'!C68=\"\",\"\",('②名簿（受講者情報を入力）'!C68))","v":""},{"$f":"IF('②名簿（受講者情報を入力）'!D68=\"\",\"\",('②名簿（受講者情報を入力）'!D68))","v":""},{"$f":"IF('②名簿（受講者情報を入力）'!E68=\"\",\"\",('②名簿（受講者情報を入力）'!E68))","v":""},{"$f":"IF('②名簿（受講者情報を入力）'!F68=\"\",\"\",('②名簿（受講者情報を入力）'!F68))","v":""},{"$f":"IF('②名簿（受講者情報を入力）'!G68=\"\",\"\",('②名簿（受講者情報を入力）'!G68))","v":""},{"$f":"IF('②名簿（受講者情報を入力）'!H68=\"\",\"\",('②名簿（受講者情報を入力）'!H68))","v":""},{"$f":"IF('②名簿（受講者情報を入力）'!I68=\"\",\"\",('②名簿（受講者情報を入力）'!I68))","v":""},{"$f":"IF('②名簿（受講者情報を入力）'!K68=\"\",\"\",('②名簿（受講者情報を入力）'!K68))","v":""},{"$f":"IF('②名簿（受講者情報を入力）'!L68=\"\",\"\",('②名簿（受講者情報を入力）'!L68))","v":""},{"$f":"IF('②名簿（受講者情報を入力）'!M68=\"\",\"\",('②名簿（受講者情報を入力）'!M68))","v":""},{"$f":"IF('②名簿（受講者情報を入力）'!N68=\"\",\"\",('②名簿（受講者情報を入力）'!N68))","v":""},{"$f":"IF('②名簿（受講者情報を入力）'!P68=\"\",\"\",('②名簿（受講者情報を入力）'!P68))","v":""}]
[{"$f":"IF('②名簿（受講者情報を入力）'!C69=\"\",\"\",('②名簿（受講者情報を入力）'!C69))","v":""},{"$f":"IF('②名簿（受講者情報を入力）'!D69=\"\",\"\",('②名簿（受講者情報を入力）'!D69))","v":""},{"$f":"IF('②名簿（受講者情報を入力）'!E69=\"\",\"\",('②名簿（受講者情報を入力）'!E69))","v":""},{"$f":"IF('②名簿（受講者情報を入力）'!F69=\"\",\"\",('②名簿（受講者情報を入力）'!F69))","v":""},{"$f":"IF('②名簿（受講者情報を入力）'!G69=\"\",\"\",('②名簿（受講者情報を入力）'!G69))","v":""},{"$f":"IF('②名簿（受講者情報を入力）'!H69=\"\",\"\",('②名簿（受講者情報を入力）'!H69))","v":""},{"$f":"IF('②名簿（受講者情報を入力）'!I69=\"\",\"\",('②名簿（受講者情報を入力）'!I69))","v":""},{"$f":"IF('②名簿（受講者情報を入力）'!K69=\"\",\"\",('②名簿（受講者情報を入力）'!K69))","v":""},{"$f":"IF('②名簿（受講者情報を入力）'!L69=\"\",\"\",('②名簿（受講者情報を入力）'!L69))","v":""},{"$f":"IF('②名簿（受講者情報を入力）'!M69=\"\",\"\",('②名簿（受講者情報を入力）'!M69))","v":""},{"$f":"IF('②名簿（受講者情報を入力）'!N69=\"\",\"\",('②名簿（受講者情報を入力）'!N69))","v":""},{"$f":"IF('②名簿（受講者情報を入力）'!P69=\"\",\"\",('②名簿（受講者情報を入力）'!P69))","v":""}]
[{"$f":"IF('②名簿（受講者情報を入力）'!C70=\"\",\"\",('②名簿（受講者情報を入力）'!C70))","v":""},{"$f":"IF('②名簿（受講者情報を入力）'!D70=\"\",\"\",('②名簿（受講者情報を入力）'!D70))","v":""},{"$f":"IF('②名簿（受講者情報を入力）'!E70=\"\",\"\",('②名簿（受講者情報を入力）'!E70))","v":""},{"$f":"IF('②名簿（受講者情報を入力）'!F70=\"\",\"\",('②名簿（受講者情報を入力）'!F70))","v":""},{"$f":"IF('②名簿（受講者情報を入力）'!G70=\"\",\"\",('②名簿（受講者情報を入力）'!G70))","v":""},{"$f":"IF('②名簿（受講者情報を入力）'!H70=\"\",\"\",('②名簿（受講者情報を入力）'!H70))","v":""},{"$f":"IF('②名簿（受講者情報を入力）'!I70=\"\",\"\",('②名簿（受講者情報を入力）'!I70))","v":""},{"$f":"IF('②名簿（受講者情報を入力）'!K70=\"\",\"\",('②名簿（受講者情報を入力）'!K70))","v":""},{"$f":"IF('②名簿（受講者情報を入力）'!L70=\"\",\"\",('②名簿（受講者情報を入力）'!L70))","v":""},{"$f":"IF('②名簿（受講者情報を入力）'!M70=\"\",\"\",('②名簿（受講者情報を入力）'!M70))","v":""},{"$f":"IF('②名簿（受講者情報を入力）'!N70=\"\",\"\",('②名簿（受講者情報を入力）'!N70))","v":""},{"$f":"IF('②名簿（受講者情報を入力）'!P70=\"\",\"\",('②名簿（受講者情報を入力）'!P70))","v":""}]
[{"$f":"IF('②名簿（受講者情報を入力）'!C71=\"\",\"\",('②名簿（受講者情報を入力）'!C71))","v":""},{"$f":"IF('②名簿（受講者情報を入力）'!D71=\"\",\"\",('②名簿（受講者情報を入力）'!D71))","v":""},{"$f":"IF('②名簿（受講者情報を入力）'!E71=\"\",\"\",('②名簿（受講者情報を入力）'!E71))","v":""},{"$f":"IF('②名簿（受講者情報を入力）'!F71=\"\",\"\",('②名簿（受講者情報を入力）'!F71))","v":""},{"$f":"IF('②名簿（受講者情報を入力）'!G71=\"\",\"\",('②名簿（受講者情報を入力）'!G71))","v":""},{"$f":"IF('②名簿（受講者情報を入力）'!H71=\"\",\"\",('②名簿（受講者情報を入力）'!H71))","v":""},{"$f":"IF('②名簿（受講者情報を入力）'!I71=\"\",\"\",('②名簿（受講者情報を入力）'!I71))","v":""},{"$f":"IF('②名簿（受講者情報を入力）'!K71=\"\",\"\",('②名簿（受講者情報を入力）'!K71))","v":""},{"$f":"IF('②名簿（受講者情報を入力）'!L71=\"\",\"\",('②名簿（受講者情報を入力）'!L71))","v":""},{"$f":"IF('②名簿（受講者情報を入力）'!M71=\"\",\"\",('②名簿（受講者情報を入力）'!M71))","v":""},{"$f":"IF('②名簿（受講者情報を入力）'!N71=\"\",\"\",('②名簿（受講者情報を入力）'!N71))","v":""},{"$f":"IF('②名簿（受講者情報を入力）'!P71=\"\",\"\",('②名簿（受講者情報を入力）'!P71))","v":""}]
[{"$f":"IF('②名簿（受講者情報を入力）'!C72=\"\",\"\",('②名簿（受講者情報を入力）'!C72))","v":""},{"$f":"IF('②名簿（受講者情報を入力）'!D72=\"\",\"\",('②名簿（受講者情報を入力）'!D72))","v":""},{"$f":"IF('②名簿（受講者情報を入力）'!E72=\"\",\"\",('②名簿（受講者情報を入力）'!E72))","v":""},{"$f":"IF('②名簿（受講者情報を入力）'!F72=\"\",\"\",('②名簿（受講者情報を入力）'!F72))","v":""},{"$f":"IF('②名簿（受講者情報を入力）'!G72=\"\",\"\",('②名簿（受講者情報を入力）'!G72))","v":""},{"$f":"IF('②名簿（受講者情報を入力）'!H72=\"\",\"\",('②名簿（受講者情報を入力）'!H72))","v":""},{"$f":"IF('②名簿（受講者情報を入力）'!I72=\"\",\"\",('②名簿（受講者情報を入力）'!I72))","v":""},{"$f":"IF('②名簿（受講者情報を入力）'!K72=\"\",\"\",('②名簿（受講者情報を入力）'!K72))","v":""},{"$f":"IF('②名簿（受講者情報を入力）'!L72=\"\",\"\",('②名簿（受講者情報を入力）'!L72))","v":""},{"$f":"IF('②名簿（受講者情報を入力）'!M72=\"\",\"\",('②名簿（受講者情報を入力）'!M72))","v":""},{"$f":"IF('②名簿（受講者情報を入力）'!N72=\"\",\"\",('②名簿（受講者情報を入力）'!N72))","v":""},{"$f":"IF('②名簿（受講者情報を入力）'!P72=\"\",\"\",('②名簿（受講者情報を入力）'!P72))","v":""}]
[{"$f":"IF('②名簿（受講者情報を入力）'!C73=\"\",\"\",('②名簿（受講者情報を入力）'!C73))","v":""},{"$f":"IF('②名簿（受講者情報を入力）'!D73=\"\",\"\",('②名簿（受講者情報を入力）'!D73))","v":""},{"$f":"IF('②名簿（受講者情報を入力）'!E73=\"\",\"\",('②名簿（受講者情報を入力）'!E73))","v":""},{"$f":"IF('②名簿（受講者情報を入力）'!F73=\"\",\"\",('②名簿（受講者情報を入力）'!F73))","v":""},{"$f":"IF('②名簿（受講者情報を入力）'!G73=\"\",\"\",('②名簿（受講者情報を入力）'!G73))","v":""},{"$f":"IF('②名簿（受講者情報を入力）'!H73=\"\",\"\",('②名簿（受講者情報を入力）'!H73))","v":""},{"$f":"IF('②名簿（受講者情報を入力）'!I73=\"\",\"\",('②名簿（受講者情報を入力）'!I73))","v":""},{"$f":"IF('②名簿（受講者情報を入力）'!K73=\"\",\"\",('②名簿（受講者情報を入力）'!K73))","v":""},{"$f":"IF('②名簿（受講者情報を入力）'!L73=\"\",\"\",('②名簿（受講者情報を入力）'!L73))","v":""},{"$f":"IF('②名簿（受講者情報を入力）'!M73=\"\",\"\",('②名簿（受講者情報を入力）'!M73))","v":""},{"$f":"IF('②名簿（受講者情報を入力）'!N73=\"\",\"\",('②名簿（受講者情報を入力）'!N73))","v":""},{"$f":"IF('②名簿（受講者情報を入力）'!P73=\"\",\"\",('②名簿（受講者情報を入力）'!P73))","v":""}]
[{"$f":"IF('②名簿（受講者情報を入力）'!C74=\"\",\"\",('②名簿（受講者情報を入力）'!C74))","v":""},{"$f":"IF('②名簿（受講者情報を入力）'!D74=\"\",\"\",('②名簿（受講者情報を入力）'!D74))","v":""},{"$f":"IF('②名簿（受講者情報を入力）'!E74=\"\",\"\",('②名簿（受講者情報を入力）'!E74))","v":""},{"$f":"IF('②名簿（受講者情報を入力）'!F74=\"\",\"\",('②名簿（受講者情報を入力）'!F74))","v":""},{"$f":"IF('②名簿（受講者情報を入力）'!G74=\"\",\"\",('②名簿（受講者情報を入力）'!G74))","v":""},{"$f":"IF('②名簿（受講者情報を入力）'!H74=\"\",\"\",('②名簿（受講者情報を入力）'!H74))","v":""},{"$f":"IF('②名簿（受講者情報を入力）'!I74=\"\",\"\",('②名簿（受講者情報を入力）'!I74))","v":""},{"$f":"IF('②名簿（受講者情報を入力）'!K74=\"\",\"\",('②名簿（受講者情報を入力）'!K74))","v":""},{"$f":"IF('②名簿（受講者情報を入力）'!L74=\"\",\"\",('②名簿（受講者情報を入力）'!L74))","v":""},{"$f":"IF('②名簿（受講者情報を入力）'!M74=\"\",\"\",('②名簿（受講者情報を入力）'!M74))","v":""},{"$f":"IF('②名簿（受講者情報を入力）'!N74=\"\",\"\",('②名簿（受講者情報を入力）'!N74))","v":""},{"$f":"IF('②名簿（受講者情報を入力）'!P74=\"\",\"\",('②名簿（受講者情報を入力）'!P74))","v":""}]
[{"$f":"IF('②名簿（受講者情報を入力）'!C75=\"\",\"\",('②名簿（受講者情報を入力）'!C75))","v":""},{"$f":"IF('②名簿（受講者情報を入力）'!D75=\"\",\"\",('②名簿（受講者情報を入力）'!D75))","v":""},{"$f":"IF('②名簿（受講者情報を入力）'!E75=\"\",\"\",('②名簿（受講者情報を入力）'!E75))","v":""},{"$f":"IF('②名簿（受講者情報を入力）'!F75=\"\",\"\",('②名簿（受講者情報を入力）'!F75))","v":""},{"$f":"IF('②名簿（受講者情報を入力）'!G75=\"\",\"\",('②名簿（受講者情報を入力）'!G75))","v":""},{"$f":"IF('②名簿（受講者情報を入力）'!H75=\"\",\"\",('②名簿（受講者情報を入力）'!H75))","v":""},{"$f":"IF('②名簿（受講者情報を入力）'!I75=\"\",\"\",('②名簿（受講者情報を入力）'!I75))","v":""},{"$f":"IF('②名簿（受講者情報を入力）'!K75=\"\",\"\",('②名簿（受講者情報を入力）'!K75))","v":""},{"$f":"IF('②名簿（受講者情報を入力）'!L75=\"\",\"\",('②名簿（受講者情報を入力）'!L75))","v":""},{"$f":"IF('②名簿（受講者情報を入力）'!M75=\"\",\"\",('②名簿（受講者情報を入力）'!M75))","v":""},{"$f":"IF('②名簿（受講者情報を入力）'!N75=\"\",\"\",('②名簿（受講者情報を入力）'!N75))","v":""},{"$f":"IF('②名簿（受講者情報を入力）'!P75=\"\",\"\",('②名簿（受講者情報を入力）'!P75))","v":""}]
[{"$f":"IF('②名簿（受講者情報を入力）'!C76=\"\",\"\",('②名簿（受講者情報を入力）'!C76))","v":""},{"$f":"IF('②名簿（受講者情報を入力）'!D76=\"\",\"\",('②名簿（受講者情報を入力）'!D76))","v":""},{"$f":"IF('②名簿（受講者情報を入力）'!E76=\"\",\"\",('②名簿（受講者情報を入力）'!E76))","v":""},{"$f":"IF('②名簿（受講者情報を入力）'!F76=\"\",\"\",('②名簿（受講者情報を入力）'!F76))","v":""},{"$f":"IF('②名簿（受講者情報を入力）'!G76=\"\",\"\",('②名簿（受講者情報を入力）'!G76))","v":""},{"$f":"IF('②名簿（受講者情報を入力）'!H76=\"\",\"\",('②名簿（受講者情報を入力）'!H76))","v":""},{"$f":"IF('②名簿（受講者情報を入力）'!I76=\"\",\"\",('②名簿（受講者情報を入力）'!I76))","v":""},{"$f":"IF('②名簿（受講者情報を入力）'!K76=\"\",\"\",('②名簿（受講者情報を入力）'!K76))","v":""},{"$f":"IF('②名簿（受講者情報を入力）'!L76=\"\",\"\",('②名簿（受講者情報を入力）'!L76))","v":""},{"$f":"IF('②名簿（受講者情報を入力）'!M76=\"\",\"\",('②名簿（受講者情報を入力）'!M76))","v":""},{"$f":"IF('②名簿（受講者情報を入力）'!N76=\"\",\"\",('②名簿（受講者情報を入力）'!N76))","v":""},{"$f":"IF('②名簿（受講者情報を入力）'!P76=\"\",\"\",('②名簿（受講者情報を入力）'!P76))","v":""}]
[{"$f":"IF('②名簿（受講者情報を入力）'!C77=\"\",\"\",('②名簿（受講者情報を入力）'!C77))","v":""},{"$f":"IF('②名簿（受講者情報を入力）'!D77=\"\",\"\",('②名簿（受講者情報を入力）'!D77))","v":""},{"$f":"IF('②名簿（受講者情報を入力）'!E77=\"\",\"\",('②名簿（受講者情報を入力）'!E77))","v":""},{"$f":"IF('②名簿（受講者情報を入力）'!F77=\"\",\"\",('②名簿（受講者情報を入力）'!F77))","v":""},{"$f":"IF('②名簿（受講者情報を入力）'!G77=\"\",\"\",('②名簿（受講者情報を入力）'!G77))","v":""},{"$f":"IF('②名簿（受講者情報を入力）'!H77=\"\",\"\",('②名簿（受講者情報を入力）'!H77))","v":""},{"$f":"IF('②名簿（受講者情報を入力）'!I77=\"\",\"\",('②名簿（受講者情報を入力）'!I77))","v":""},{"$f":"IF('②名簿（受講者情報を入力）'!K77=\"\",\"\",('②名簿（受講者情報を入力）'!K77))","v":""},{"$f":"IF('②名簿（受講者情報を入力）'!L77=\"\",\"\",('②名簿（受講者情報を入力）'!L77))","v":""},{"$f":"IF('②名簿（受講者情報を入力）'!M77=\"\",\"\",('②名簿（受講者情報を入力）'!M77))","v":""},{"$f":"IF('②名簿（受講者情報を入力）'!N77=\"\",\"\",('②名簿（受講者情報を入力）'!N77))","v":""},{"$f":"IF('②名簿（受講者情報を入力）'!P77=\"\",\"\",('②名簿（受講者情報を入力）'!P77))","v":""}]
[{"$f":"IF('②名簿（受講者情報を入力）'!C78=\"\",\"\",('②名簿（受講者情報を入力）'!C78))","v":""},{"$f":"IF('②名簿（受講者情報を入力）'!D78=\"\",\"\",('②名簿（受講者情報を入力）'!D78))","v":""},{"$f":"IF('②名簿（受講者情報を入力）'!E78=\"\",\"\",('②名簿（受講者情報を入力）'!E78))","v":""},{"$f":"IF('②名簿（受講者情報を入力）'!F78=\"\",\"\",('②名簿（受講者情報を入力）'!F78))","v":""},{"$f":"IF('②名簿（受講者情報を入力）'!G78=\"\",\"\",('②名簿（受講者情報を入力）'!G78))","v":""},{"$f":"IF('②名簿（受講者情報を入力）'!H78=\"\",\"\",('②名簿（受講者情報を入力）'!H78))","v":""},{"$f":"IF('②名簿（受講者情報を入力）'!I78=\"\",\"\",('②名簿（受講者情報を入力）'!I78))","v":""},{"$f":"IF('②名簿（受講者情報を入力）'!K78=\"\",\"\",('②名簿（受講者情報を入力）'!K78))","v":""},{"$f":"IF('②名簿（受講者情報を入力）'!L78=\"\",\"\",('②名簿（受講者情報を入力）'!L78))","v":""},{"$f":"IF('②名簿（受講者情報を入力）'!M78=\"\",\"\",('②名簿（受講者情報を入力）'!M78))","v":""},{"$f":"IF('②名簿（受講者情報を入力）'!N78=\"\",\"\",('②名簿（受講者情報を入力）'!N78))","v":""},{"$f":"IF('②名簿（受講者情報を入力）'!P78=\"\",\"\",('②名簿（受講者情報を入力）'!P78))","v":""}]
[{"$f":"IF('②名簿（受講者情報を入力）'!C79=\"\",\"\",('②名簿（受講者情報を入力）'!C79))","v":""},{"$f":"IF('②名簿（受講者情報を入力）'!D79=\"\",\"\",('②名簿（受講者情報を入力）'!D79))","v":""},{"$f":"IF('②名簿（受講者情報を入力）'!E79=\"\",\"\",('②名簿（受講者情報を入力）'!E79))","v":""},{"$f":"IF('②名簿（受講者情報を入力）'!F79=\"\",\"\",('②名簿（受講者情報を入力）'!F79))","v":""},{"$f":"IF('②名簿（受講者情報を入力）'!G79=\"\",\"\",('②名簿（受講者情報を入力）'!G79))","v":""},{"$f":"IF('②名簿（受講者情報を入力）'!H79=\"\",\"\",('②名簿（受講者情報を入力）'!H79))","v":""},{"$f":"IF('②名簿（受講者情報を入力）'!I79=\"\",\"\",('②名簿（受講者情報を入力）'!I79))","v":""},{"$f":"IF('②名簿（受講者情報を入力）'!K79=\"\",\"\",('②名簿（受講者情報を入力）'!K79))","v":""},{"$f":"IF('②名簿（受講者情報を入力）'!L79=\"\",\"\",('②名簿（受講者情報を入力）'!L79))","v":""},{"$f":"IF('②名簿（受講者情報を入力）'!M79=\"\",\"\",('②名簿（受講者情報を入力）'!M79))","v":""},{"$f":"IF('②名簿（受講者情報を入力）'!N79=\"\",\"\",('②名簿（受講者情報を入力）'!N79))","v":""},{"$f":"IF('②名簿（受講者情報を入力）'!P79=\"\",\"\",('②名簿（受講者情報を入力）'!P79))","v":""}]
[{"$f":"IF('②名簿（受講者情報を入力）'!C80=\"\",\"\",('②名簿（受講者情報を入力）'!C80))","v":""},{"$f":"IF('②名簿（受講者情報を入力）'!D80=\"\",\"\",('②名簿（受講者情報を入力）'!D80))","v":""},{"$f":"IF('②名簿（受講者情報を入力）'!E80=\"\",\"\",('②名簿（受講者情報を入力）'!E80))","v":""},{"$f":"IF('②名簿（受講者情報を入力）'!F80=\"\",\"\",('②名簿（受講者情報を入力）'!F80))","v":""},{"$f":"IF('②名簿（受講者情報を入力）'!G80=\"\",\"\",('②名簿（受講者情報を入力）'!G80))","v":""},{"$f":"IF('②名簿（受講者情報を入力）'!H80=\"\",\"\",('②名簿（受講者情報を入力）'!H80))","v":""},{"$f":"IF('②名簿（受講者情報を入力）'!I80=\"\",\"\",('②名簿（受講者情報を入力）'!I80))","v":""},{"$f":"IF('②名簿（受講者情報を入力）'!K80=\"\",\"\",('②名簿（受講者情報を入力）'!K80))","v":""},{"$f":"IF('②名簿（受講者情報を入力）'!L80=\"\",\"\",('②名簿（受講者情報を入力）'!L80))","v":""},{"$f":"IF('②名簿（受講者情報を入力）'!M80=\"\",\"\",('②名簿（受講者情報を入力）'!M80))","v":""},{"$f":"IF('②名簿（受講者情報を入力）'!N80=\"\",\"\",('②名簿（受講者情報を入力）'!N80))","v":""},{"$f":"IF('②名簿（受講者情報を入力）'!P80=\"\",\"\",('②名簿（受講者情報を入力）'!P80))","v":""}]
[{"$f":"IF('②名簿（受講者情報を入力）'!C81=\"\",\"\",('②名簿（受講者情報を入力）'!C81))","v":""},{"$f":"IF('②名簿（受講者情報を入力）'!D81=\"\",\"\",('②名簿（受講者情報を入力）'!D81))","v":""},{"$f":"IF('②名簿（受講者情報を入力）'!E81=\"\",\"\",('②名簿（受講者情報を入力）'!E81))","v":""},{"$f":"IF('②名簿（受講者情報を入力）'!F81=\"\",\"\",('②名簿（受講者情報を入力）'!F81))","v":""},{"$f":"IF('②名簿（受講者情報を入力）'!G81=\"\",\"\",('②名簿（受講者情報を入力）'!G81))","v":""},{"$f":"IF('②名簿（受講者情報を入力）'!H81=\"\",\"\",('②名簿（受講者情報を入力）'!H81))","v":""},{"$f":"IF('②名簿（受講者情報を入力）'!I81=\"\",\"\",('②名簿（受講者情報を入力）'!I81))","v":""},{"$f":"IF('②名簿（受講者情報を入力）'!K81=\"\",\"\",('②名簿（受講者情報を入力）'!K81))","v":""},{"$f":"IF('②名簿（受講者情報を入力）'!L81=\"\",\"\",('②名簿（受講者情報を入力）'!L81))","v":""},{"$f":"IF('②名簿（受講者情報を入力）'!M81=\"\",\"\",('②名簿（受講者情報を入力）'!M81))","v":""},{"$f":"IF('②名簿（受講者情報を入力）'!N81=\"\",\"\",('②名簿（受講者情報を入力）'!N81))","v":""},{"$f":"IF('②名簿（受講者情報を入力）'!P81=\"\",\"\",('②名簿（受講者情報を入力）'!P81))","v":""}]
[{"$f":"IF('②名簿（受講者情報を入力）'!C82=\"\",\"\",('②名簿（受講者情報を入力）'!C82))","v":""},{"$f":"IF('②名簿（受講者情報を入力）'!D82=\"\",\"\",('②名簿（受講者情報を入力）'!D82))","v":""},{"$f":"IF('②名簿（受講者情報を入力）'!E82=\"\",\"\",('②名簿（受講者情報を入力）'!E82))","v":""},{"$f":"IF('②名簿（受講者情報を入力）'!F82=\"\",\"\",('②名簿（受講者情報を入力）'!F82))","v":""},{"$f":"IF('②名簿（受講者情報を入力）'!G82=\"\",\"\",('②名簿（受講者情報を入力）'!G82))","v":""},{"$f":"IF('②名簿（受講者情報を入力）'!H82=\"\",\"\",('②名簿（受講者情報を入力）'!H82))","v":""},{"$f":"IF('②名簿（受講者情報を入力）'!I82=\"\",\"\",('②名簿（受講者情報を入力）'!I82))","v":""},{"$f":"IF('②名簿（受講者情報を入力）'!K82=\"\",\"\",('②名簿（受講者情報を入力）'!K82))","v":""},{"$f":"IF('②名簿（受講者情報を入力）'!L82=\"\",\"\",('②名簿（受講者情報を入力）'!L82))","v":""},{"$f":"IF('②名簿（受講者情報を入力）'!M82=\"\",\"\",('②名簿（受講者情報を入力）'!M82))","v":""},{"$f":"IF('②名簿（受講者情報を入力）'!N82=\"\",\"\",('②名簿（受講者情報を入力）'!N82))","v":""},{"$f":"IF('②名簿（受講者情報を入力）'!P82=\"\",\"\",('②名簿（受講者情報を入力）'!P82))","v":""}]
[{"$f":"IF('②名簿（受講者情報を入力）'!C83=\"\",\"\",('②名簿（受講者情報を入力）'!C83))","v":""},{"$f":"IF('②名簿（受講者情報を入力）'!D83=\"\",\"\",('②名簿（受講者情報を入力）'!D83))","v":""},{"$f":"IF('②名簿（受講者情報を入力）'!E83=\"\",\"\",('②名簿（受講者情報を入力）'!E83))","v":""},{"$f":"IF('②名簿（受講者情報を入力）'!F83=\"\",\"\",('②名簿（受講者情報を入力）'!F83))","v":""},{"$f":"IF('②名簿（受講者情報を入力）'!G83=\"\",\"\",('②名簿（受講者情報を入力）'!G83))","v":""},{"$f":"IF('②名簿（受講者情報を入力）'!H83=\"\",\"\",('②名簿（受講者情報を入力）'!H83))","v":""},{"$f":"IF('②名簿（受講者情報を入力）'!I83=\"\",\"\",('②名簿（受講者情報を入力）'!I83))","v":""},{"$f":"IF('②名簿（受講者情報を入力）'!K83=\"\",\"\",('②名簿（受講者情報を入力）'!K83))","v":""},{"$f":"IF('②名簿（受講者情報を入力）'!L83=\"\",\"\",('②名簿（受講者情報を入力）'!L83))","v":""},{"$f":"IF('②名簿（受講者情報を入力）'!M83=\"\",\"\",('②名簿（受講者情報を入力）'!M83))","v":""},{"$f":"IF('②名簿（受講者情報を入力）'!N83=\"\",\"\",('②名簿（受講者情報を入力）'!N83))","v":""},{"$f":"IF('②名簿（受講者情報を入力）'!P83=\"\",\"\",('②名簿（受講者情報を入力）'!P83))","v":""}]
[{"$f":"IF('②名簿（受講者情報を入力）'!C84=\"\",\"\",('②名簿（受講者情報を入力）'!C84))","v":""},{"$f":"IF('②名簿（受講者情報を入力）'!D84=\"\",\"\",('②名簿（受講者情報を入力）'!D84))","v":""},{"$f":"IF('②名簿（受講者情報を入力）'!E84=\"\",\"\",('②名簿（受講者情報を入力）'!E84))","v":""},{"$f":"IF('②名簿（受講者情報を入力）'!F84=\"\",\"\",('②名簿（受講者情報を入力）'!F84))","v":""},{"$f":"IF('②名簿（受講者情報を入力）'!G84=\"\",\"\",('②名簿（受講者情報を入力）'!G84))","v":""},{"$f":"IF('②名簿（受講者情報を入力）'!H84=\"\",\"\",('②名簿（受講者情報を入力）'!H84))","v":""},{"$f":"IF('②名簿（受講者情報を入力）'!I84=\"\",\"\",('②名簿（受講者情報を入力）'!I84))","v":""},{"$f":"IF('②名簿（受講者情報を入力）'!K84=\"\",\"\",('②名簿（受講者情報を入力）'!K84))","v":""},{"$f":"IF('②名簿（受講者情報を入力）'!L84=\"\",\"\",('②名簿（受講者情報を入力）'!L84))","v":""},{"$f":"IF('②名簿（受講者情報を入力）'!M84=\"\",\"\",('②名簿（受講者情報を入力）'!M84))","v":""},{"$f":"IF('②名簿（受講者情報を入力）'!N84=\"\",\"\",('②名簿（受講者情報を入力）'!N84))","v":""},{"$f":"IF('②名簿（受講者情報を入力）'!P84=\"\",\"\",('②名簿（受講者情報を入力）'!P84))","v":""}]
[{"$f":"IF('②名簿（受講者情報を入力）'!C85=\"\",\"\",('②名簿（受講者情報を入力）'!C85))","v":""},{"$f":"IF('②名簿（受講者情報を入力）'!D85=\"\",\"\",('②名簿（受講者情報を入力）'!D85))","v":""},{"$f":"IF('②名簿（受講者情報を入力）'!E85=\"\",\"\",('②名簿（受講者情報を入力）'!E85))","v":""},{"$f":"IF('②名簿（受講者情報を入力）'!F85=\"\",\"\",('②名簿（受講者情報を入力）'!F85))","v":""},{"$f":"IF('②名簿（受講者情報を入力）'!G85=\"\",\"\",('②名簿（受講者情報を入力）'!G85))","v":""},{"$f":"IF('②名簿（受講者情報を入力）'!H85=\"\",\"\",('②名簿（受講者情報を入力）'!H85))","v":""},{"$f":"IF('②名簿（受講者情報を入力）'!I85=\"\",\"\",('②名簿（受講者情報を入力）'!I85))","v":""},{"$f":"IF('②名簿（受講者情報を入力）'!K85=\"\",\"\",('②名簿（受講者情報を入力）'!K85))","v":""},{"$f":"IF('②名簿（受講者情報を入力）'!L85=\"\",\"\",('②名簿（受講者情報を入力）'!L85))","v":""},{"$f":"IF('②名簿（受講者情報を入力）'!M85=\"\",\"\",('②名簿（受講者情報を入力）'!M85))","v":""},{"$f":"IF('②名簿（受講者情報を入力）'!N85=\"\",\"\",('②名簿（受講者情報を入力）'!N85))","v":""},{"$f":"IF('②名簿（受講者情報を入力）'!P85=\"\",\"\",('②名簿（受講者情報を入力）'!P85))","v":""}]
[{"$f":"IF('②名簿（受講者情報を入力）'!C86=\"\",\"\",('②名簿（受講者情報を入力）'!C86))","v":""},{"$f":"IF('②名簿（受講者情報を入力）'!D86=\"\",\"\",('②名簿（受講者情報を入力）'!D86))","v":""},{"$f":"IF('②名簿（受講者情報を入力）'!E86=\"\",\"\",('②名簿（受講者情報を入力）'!E86))","v":""},{"$f":"IF('②名簿（受講者情報を入力）'!F86=\"\",\"\",('②名簿（受講者情報を入力）'!F86))","v":""},{"$f":"IF('②名簿（受講者情報を入力）'!G86=\"\",\"\",('②名簿（受講者情報を入力）'!G86))","v":""},{"$f":"IF('②名簿（受講者情報を入力）'!H86=\"\",\"\",('②名簿（受講者情報を入力）'!H86))","v":""},{"$f":"IF('②名簿（受講者情報を入力）'!I86=\"\",\"\",('②名簿（受講者情報を入力）'!I86))","v":""},{"$f":"IF('②名簿（受講者情報を入力）'!K86=\"\",\"\",('②名簿（受講者情報を入力）'!K86))","v":""},{"$f":"IF('②名簿（受講者情報を入力）'!L86=\"\",\"\",('②名簿（受講者情報を入力）'!L86))","v":""},{"$f":"IF('②名簿（受講者情報を入力）'!M86=\"\",\"\",('②名簿（受講者情報を入力）'!M86))","v":""},{"$f":"IF('②名簿（受講者情報を入力）'!N86=\"\",\"\",('②名簿（受講者情報を入力）'!N86))","v":""},{"$f":"IF('②名簿（受講者情報を入力）'!P86=\"\",\"\",('②名簿（受講者情報を入力）'!P86))","v":""}]
[{"$f":"IF('②名簿（受講者情報を入力）'!C87=\"\",\"\",('②名簿（受講者情報を入力）'!C87))","v":""},{"$f":"IF('②名簿（受講者情報を入力）'!D87=\"\",\"\",('②名簿（受講者情報を入力）'!D87))","v":""},{"$f":"IF('②名簿（受講者情報を入力）'!E87=\"\",\"\",('②名簿（受講者情報を入力）'!E87))","v":""},{"$f":"IF('②名簿（受講者情報を入力）'!F87=\"\",\"\",('②名簿（受講者情報を入力）'!F87))","v":""},{"$f":"IF('②名簿（受講者情報を入力）'!G87=\"\",\"\",('②名簿（受講者情報を入力）'!G87))","v":""},{"$f":"IF('②名簿（受講者情報を入力）'!H87=\"\",\"\",('②名簿（受講者情報を入力）'!H87))","v":""},{"$f":"IF('②名簿（受講者情報を入力）'!I87=\"\",\"\",('②名簿（受講者情報を入力）'!I87))","v":""},{"$f":"IF('②名簿（受講者情報を入力）'!K87=\"\",\"\",('②名簿（受講者情報を入力）'!K87))","v":""},{"$f":"IF('②名簿（受講者情報を入力）'!L87=\"\",\"\",('②名簿（受講者情報を入力）'!L87))","v":""},{"$f":"IF('②名簿（受講者情報を入力）'!M87=\"\",\"\",('②名簿（受講者情報を入力）'!M87))","v":""},{"$f":"IF('②名簿（受講者情報を入力）'!N87=\"\",\"\",('②名簿（受講者情報を入力）'!N87))","v":""},{"$f":"IF('②名簿（受講者情報を入力）'!P87=\"\",\"\",('②名簿（受講者情報を入力）'!P87))","v":""}]
[{"$f":"IF('②名簿（受講者情報を入力）'!C88=\"\",\"\",('②名簿（受講者情報を入力）'!C88))","v":""},{"$f":"IF('②名簿（受講者情報を入力）'!D88=\"\",\"\",('②名簿（受講者情報を入力）'!D88))","v":""},{"$f":"IF('②名簿（受講者情報を入力）'!E88=\"\",\"\",('②名簿（受講者情報を入力）'!E88))","v":""},{"$f":"IF('②名簿（受講者情報を入力）'!F88=\"\",\"\",('②名簿（受講者情報を入力）'!F88))","v":""},{"$f":"IF('②名簿（受講者情報を入力）'!G88=\"\",\"\",('②名簿（受講者情報を入力）'!G88))","v":""},{"$f":"IF('②名簿（受講者情報を入力）'!H88=\"\",\"\",('②名簿（受講者情報を入力）'!H88))","v":""},{"$f":"IF('②名簿（受講者情報を入力）'!I88=\"\",\"\",('②名簿（受講者情報を入力）'!I88))","v":""},{"$f":"IF('②名簿（受講者情報を入力）'!K88=\"\",\"\",('②名簿（受講者情報を入力）'!K88))","v":""},{"$f":"IF('②名簿（受講者情報を入力）'!L88=\"\",\"\",('②名簿（受講者情報を入力）'!L88))","v":""},{"$f":"IF('②名簿（受講者情報を入力）'!M88=\"\",\"\",('②名簿（受講者情報を入力）'!M88))","v":""},{"$f":"IF('②名簿（受講者情報を入力）'!N88=\"\",\"\",('②名簿（受講者情報を入力）'!N88))","v":""},{"$f":"IF('②名簿（受講者情報を入力）'!P88=\"\",\"\",('②名簿（受講者情報を入力）'!P88))","v":""}]
[{"$f":"IF('②名簿（受講者情報を入力）'!C89=\"\",\"\",('②名簿（受講者情報を入力）'!C89))","v":""},{"$f":"IF('②名簿（受講者情報を入力）'!D89=\"\",\"\",('②名簿（受講者情報を入力）'!D89))","v":""},{"$f":"IF('②名簿（受講者情報を入力）'!E89=\"\",\"\",('②名簿（受講者情報を入力）'!E89))","v":""},{"$f":"IF('②名簿（受講者情報を入力）'!F89=\"\",\"\",('②名簿（受講者情報を入力）'!F89))","v":""},{"$f":"IF('②名簿（受講者情報を入力）'!G89=\"\",\"\",('②名簿（受講者情報を入力）'!G89))","v":""},{"$f":"IF('②名簿（受講者情報を入力）'!H89=\"\",\"\",('②名簿（受講者情報を入力）'!H89))","v":""},{"$f":"IF('②名簿（受講者情報を入力）'!I89=\"\",\"\",('②名簿（受講者情報を入力）'!I89))","v":""},{"$f":"IF('②名簿（受講者情報を入力）'!K89=\"\",\"\",('②名簿（受講者情報を入力）'!K89))","v":""},{"$f":"IF('②名簿（受講者情報を入力）'!L89=\"\",\"\",('②名簿（受講者情報を入力）'!L89))","v":""},{"$f":"IF('②名簿（受講者情報を入力）'!M89=\"\",\"\",('②名簿（受講者情報を入力）'!M89))","v":""},{"$f":"IF('②名簿（受講者情報を入力）'!N89=\"\",\"\",('②名簿（受講者情報を入力）'!N89))","v":""},{"$f":"IF('②名簿（受講者情報を入力）'!P89=\"\",\"\",('②名簿（受講者情報を入力）'!P89))","v":""}]
[{"$f":"IF('②名簿（受講者情報を入力）'!C90=\"\",\"\",('②名簿（受講者情報を入力）'!C90))","v":""},{"$f":"IF('②名簿（受講者情報を入力）'!D90=\"\",\"\",('②名簿（受講者情報を入力）'!D90))","v":""},{"$f":"IF('②名簿（受講者情報を入力）'!E90=\"\",\"\",('②名簿（受講者情報を入力）'!E90))","v":""},{"$f":"IF('②名簿（受講者情報を入力）'!F90=\"\",\"\",('②名簿（受講者情報を入力）'!F90))","v":""},{"$f":"IF('②名簿（受講者情報を入力）'!G90=\"\",\"\",('②名簿（受講者情報を入力）'!G90))","v":""},{"$f":"IF('②名簿（受講者情報を入力）'!H90=\"\",\"\",('②名簿（受講者情報を入力）'!H90))","v":""},{"$f":"IF('②名簿（受講者情報を入力）'!I90=\"\",\"\",('②名簿（受講者情報を入力）'!I90))","v":""},{"$f":"IF('②名簿（受講者情報を入力）'!K90=\"\",\"\",('②名簿（受講者情報を入力）'!K90))","v":""},{"$f":"IF('②名簿（受講者情報を入力）'!L90=\"\",\"\",('②名簿（受講者情報を入力）'!L90))","v":""},{"$f":"IF('②名簿（受講者情報を入力）'!M90=\"\",\"\",('②名簿（受講者情報を入力）'!M90))","v":""},{"$f":"IF('②名簿（受講者情報を入力）'!N90=\"\",\"\",('②名簿（受講者情報を入力）'!N90))","v":""},{"$f":"IF('②名簿（受講者情報を入力）'!P90=\"\",\"\",('②名簿（受講者情報を入力）'!P90))","v":""}]
[{"$f":"IF('②名簿（受講者情報を入力）'!C91=\"\",\"\",('②名簿（受講者情報を入力）'!C91))","v":""},{"$f":"IF('②名簿（受講者情報を入力）'!D91=\"\",\"\",('②名簿（受講者情報を入力）'!D91))","v":""},{"$f":"IF('②名簿（受講者情報を入力）'!E91=\"\",\"\",('②名簿（受講者情報を入力）'!E91))","v":""},{"$f":"IF('②名簿（受講者情報を入力）'!F91=\"\",\"\",('②名簿（受講者情報を入力）'!F91))","v":""},{"$f":"IF('②名簿（受講者情報を入力）'!G91=\"\",\"\",('②名簿（受講者情報を入力）'!G91))","v":""},{"$f":"IF('②名簿（受講者情報を入力）'!H91=\"\",\"\",('②名簿（受講者情報を入力）'!H91))","v":""},{"$f":"IF('②名簿（受講者情報を入力）'!I91=\"\",\"\",('②名簿（受講者情報を入力）'!I91))","v":""},{"$f":"IF('②名簿（受講者情報を入力）'!K91=\"\",\"\",('②名簿（受講者情報を入力）'!K91))","v":""},{"$f":"IF('②名簿（受講者情報を入力）'!L91=\"\",\"\",('②名簿（受講者情報を入力）'!L91))","v":""},{"$f":"IF('②名簿（受講者情報を入力）'!M91=\"\",\"\",('②名簿（受講者情報を入力）'!M91))","v":""},{"$f":"IF('②名簿（受講者情報を入力）'!N91=\"\",\"\",('②名簿（受講者情報を入力）'!N91))","v":""},{"$f":"IF('②名簿（受講者情報を入力）'!P91=\"\",\"\",('②名簿（受講者情報を入力）'!P91))","v":""}]
[{"$f":"IF('②名簿（受講者情報を入力）'!C92=\"\",\"\",('②名簿（受講者情報を入力）'!C92))","v":""},{"$f":"IF('②名簿（受講者情報を入力）'!D92=\"\",\"\",('②名簿（受講者情報を入力）'!D92))","v":""},{"$f":"IF('②名簿（受講者情報を入力）'!E92=\"\",\"\",('②名簿（受講者情報を入力）'!E92))","v":""},{"$f":"IF('②名簿（受講者情報を入力）'!F92=\"\",\"\",('②名簿（受講者情報を入力）'!F92))","v":""},{"$f":"IF('②名簿（受講者情報を入力）'!G92=\"\",\"\",('②名簿（受講者情報を入力）'!G92))","v":""},{"$f":"IF('②名簿（受講者情報を入力）'!H92=\"\",\"\",('②名簿（受講者情報を入力）'!H92))","v":""},{"$f":"IF('②名簿（受講者情報を入力）'!I92=\"\",\"\",('②名簿（受講者情報を入力）'!I92))","v":""},{"$f":"IF('②名簿（受講者情報を入力）'!K92=\"\",\"\",('②名簿（受講者情報を入力）'!K92))","v":""},{"$f":"IF('②名簿（受講者情報を入力）'!L92=\"\",\"\",('②名簿（受講者情報を入力）'!L92))","v":""},{"$f":"IF('②名簿（受講者情報を入力）'!M92=\"\",\"\",('②名簿（受講者情報を入力）'!M92))","v":""},{"$f":"IF('②名簿（受講者情報を入力）'!N92=\"\",\"\",('②名簿（受講者情報を入力）'!N92))","v":""},{"$f":"IF('②名簿（受講者情報を入力）'!P92=\"\",\"\",('②名簿（受講者情報を入力）'!P92))","v":""}]
[{"$f":"IF('②名簿（受講者情報を入力）'!C93=\"\",\"\",('②名簿（受講者情報を入力）'!C93))","v":""},{"$f":"IF('②名簿（受講者情報を入力）'!D93=\"\",\"\",('②名簿（受講者情報を入力）'!D93))","v":""},{"$f":"IF('②名簿（受講者情報を入力）'!E93=\"\",\"\",('②名簿（受講者情報を入力）'!E93))","v":""},{"$f":"IF('②名簿（受講者情報を入力）'!F93=\"\",\"\",('②名簿（受講者情報を入力）'!F93))","v":""},{"$f":"IF('②名簿（受講者情報を入力）'!G93=\"\",\"\",('②名簿（受講者情報を入力）'!G93))","v":""},{"$f":"IF('②名簿（受講者情報を入力）'!H93=\"\",\"\",('②名簿（受講者情報を入力）'!H93))","v":""},{"$f":"IF('②名簿（受講者情報を入力）'!I93=\"\",\"\",('②名簿（受講者情報を入力）'!I93))","v":""},{"$f":"IF('②名簿（受講者情報を入力）'!K93=\"\",\"\",('②名簿（受講者情報を入力）'!K93))","v":""},{"$f":"IF('②名簿（受講者情報を入力）'!L93=\"\",\"\",('②名簿（受講者情報を入力）'!L93))","v":""},{"$f":"IF('②名簿（受講者情報を入力）'!M93=\"\",\"\",('②名簿（受講者情報を入力）'!M93))","v":""},{"$f":"IF('②名簿（受講者情報を入力）'!N93=\"\",\"\",('②名簿（受講者情報を入力）'!N93))","v":""},{"$f":"IF('②名簿（受講者情報を入力）'!P93=\"\",\"\",('②名簿（受講者情報を入力）'!P93))","v":""}]
[{"$f":"IF('②名簿（受講者情報を入力）'!C94=\"\",\"\",('②名簿（受講者情報を入力）'!C94))","v":""},{"$f":"IF('②名簿（受講者情報を入力）'!D94=\"\",\"\",('②名簿（受講者情報を入力）'!D94))","v":""},{"$f":"IF('②名簿（受講者情報を入力）'!E94=\"\",\"\",('②名簿（受講者情報を入力）'!E94))","v":""},{"$f":"IF('②名簿（受講者情報を入力）'!F94=\"\",\"\",('②名簿（受講者情報を入力）'!F94))","v":""},{"$f":"IF('②名簿（受講者情報を入力）'!G94=\"\",\"\",('②名簿（受講者情報を入力）'!G94))","v":""},{"$f":"IF('②名簿（受講者情報を入力）'!H94=\"\",\"\",('②名簿（受講者情報を入力）'!H94))","v":""},{"$f":"IF('②名簿（受講者情報を入力）'!I94=\"\",\"\",('②名簿（受講者情報を入力）'!I94))","v":""},{"$f":"IF('②名簿（受講者情報を入力）'!K94=\"\",\"\",('②名簿（受講者情報を入力）'!K94))","v":""},{"$f":"IF('②名簿（受講者情報を入力）'!L94=\"\",\"\",('②名簿（受講者情報を入力）'!L94))","v":""},{"$f":"IF('②名簿（受講者情報を入力）'!M94=\"\",\"\",('②名簿（受講者情報を入力）'!M94))","v":""},{"$f":"IF('②名簿（受講者情報を入力）'!N94=\"\",\"\",('②名簿（受講者情報を入力）'!N94))","v":""},{"$f":"IF('②名簿（受講者情報を入力）'!P94=\"\",\"\",('②名簿（受講者情報を入力）'!P94))","v":""}]
[{"$f":"IF('②名簿（受講者情報を入力）'!C95=\"\",\"\",('②名簿（受講者情報を入力）'!C95))","v":""},{"$f":"IF('②名簿（受講者情報を入力）'!D95=\"\",\"\",('②名簿（受講者情報を入力）'!D95))","v":""},{"$f":"IF('②名簿（受講者情報を入力）'!E95=\"\",\"\",('②名簿（受講者情報を入力）'!E95))","v":""},{"$f":"IF('②名簿（受講者情報を入力）'!F95=\"\",\"\",('②名簿（受講者情報を入力）'!F95))","v":""},{"$f":"IF('②名簿（受講者情報を入力）'!G95=\"\",\"\",('②名簿（受講者情報を入力）'!G95))","v":""},{"$f":"IF('②名簿（受講者情報を入力）'!H95=\"\",\"\",('②名簿（受講者情報を入力）'!H95))","v":""},{"$f":"IF('②名簿（受講者情報を入力）'!I95=\"\",\"\",('②名簿（受講者情報を入力）'!I95))","v":""},{"$f":"IF('②名簿（受講者情報を入力）'!K95=\"\",\"\",('②名簿（受講者情報を入力）'!K95))","v":""},{"$f":"IF('②名簿（受講者情報を入力）'!L95=\"\",\"\",('②名簿（受講者情報を入力）'!L95))","v":""},{"$f":"IF('②名簿（受講者情報を入力）'!M95=\"\",\"\",('②名簿（受講者情報を入力）'!M95))","v":""},{"$f":"IF('②名簿（受講者情報を入力）'!N95=\"\",\"\",('②名簿（受講者情報を入力）'!N95))","v":""},{"$f":"IF('②名簿（受講者情報を入力）'!P95=\"\",\"\",('②名簿（受講者情報を入力）'!P95))","v":""}]
[{"$f":"IF('②名簿（受講者情報を入力）'!C96=\"\",\"\",('②名簿（受講者情報を入力）'!C96))","v":""},{"$f":"IF('②名簿（受講者情報を入力）'!D96=\"\",\"\",('②名簿（受講者情報を入力）'!D96))","v":""},{"$f":"IF('②名簿（受講者情報を入力）'!E96=\"\",\"\",('②名簿（受講者情報を入力）'!E96))","v":""},{"$f":"IF('②名簿（受講者情報を入力）'!F96=\"\",\"\",('②名簿（受講者情報を入力）'!F96))","v":""},{"$f":"IF('②名簿（受講者情報を入力）'!G96=\"\",\"\",('②名簿（受講者情報を入力）'!G96))","v":""},{"$f":"IF('②名簿（受講者情報を入力）'!H96=\"\",\"\",('②名簿（受講者情報を入力）'!H96))","v":""},{"$f":"IF('②名簿（受講者情報を入力）'!I96=\"\",\"\",('②名簿（受講者情報を入力）'!I96))","v":""},{"$f":"IF('②名簿（受講者情報を入力）'!K96=\"\",\"\",('②名簿（受講者情報を入力）'!K96))","v":""},{"$f":"IF('②名簿（受講者情報を入力）'!L96=\"\",\"\",('②名簿（受講者情報を入力）'!L96))","v":""},{"$f":"IF('②名簿（受講者情報を入力）'!M96=\"\",\"\",('②名簿（受講者情報を入力）'!M96))","v":""},{"$f":"IF('②名簿（受講者情報を入力）'!N96=\"\",\"\",('②名簿（受講者情報を入力）'!N96))","v":""},{"$f":"IF('②名簿（受講者情報を入力）'!P96=\"\",\"\",('②名簿（受講者情報を入力）'!P96))","v":""}]
[{"$f":"IF('②名簿（受講者情報を入力）'!C97=\"\",\"\",('②名簿（受講者情報を入力）'!C97))","v":""},{"$f":"IF('②名簿（受講者情報を入力）'!D97=\"\",\"\",('②名簿（受講者情報を入力）'!D97))","v":""},{"$f":"IF('②名簿（受講者情報を入力）'!E97=\"\",\"\",('②名簿（受講者情報を入力）'!E97))","v":""},{"$f":"IF('②名簿（受講者情報を入力）'!F97=\"\",\"\",('②名簿（受講者情報を入力）'!F97))","v":""},{"$f":"IF('②名簿（受講者情報を入力）'!G97=\"\",\"\",('②名簿（受講者情報を入力）'!G97))","v":""},{"$f":"IF('②名簿（受講者情報を入力）'!H97=\"\",\"\",('②名簿（受講者情報を入力）'!H97))","v":""},{"$f":"IF('②名簿（受講者情報を入力）'!I97=\"\",\"\",('②名簿（受講者情報を入力）'!I97))","v":""},{"$f":"IF('②名簿（受講者情報を入力）'!K97=\"\",\"\",('②名簿（受講者情報を入力）'!K97))","v":""},{"$f":"IF('②名簿（受講者情報を入力）'!L97=\"\",\"\",('②名簿（受講者情報を入力）'!L97))","v":""},{"$f":"IF('②名簿（受講者情報を入力）'!M97=\"\",\"\",('②名簿（受講者情報を入力）'!M97))","v":""},{"$f":"IF('②名簿（受講者情報を入力）'!N97=\"\",\"\",('②名簿（受講者情報を入力）'!N97))","v":""},{"$f":"IF('②名簿（受講者情報を入力）'!P97=\"\",\"\",('②名簿（受講者情報を入力）'!P97))","v":""}]
[{"$f":"IF('②名簿（受講者情報を入力）'!C98=\"\",\"\",('②名簿（受講者情報を入力）'!C98))","v":""},{"$f":"IF('②名簿（受講者情報を入力）'!D98=\"\",\"\",('②名簿（受講者情報を入力）'!D98))","v":""},{"$f":"IF('②名簿（受講者情報を入力）'!E98=\"\",\"\",('②名簿（受講者情報を入力）'!E98))","v":""},{"$f":"IF('②名簿（受講者情報を入力）'!F98=\"\",\"\",('②名簿（受講者情報を入力）'!F98))","v":""},{"$f":"IF('②名簿（受講者情報を入力）'!G98=\"\",\"\",('②名簿（受講者情報を入力）'!G98))","v":""},{"$f":"IF('②名簿（受講者情報を入力）'!H98=\"\",\"\",('②名簿（受講者情報を入力）'!H98))","v":""},{"$f":"IF('②名簿（受講者情報を入力）'!I98=\"\",\"\",('②名簿（受講者情報を入力）'!I98))","v":""},{"$f":"IF('②名簿（受講者情報を入力）'!K98=\"\",\"\",('②名簿（受講者情報を入力）'!K98))","v":""},{"$f":"IF('②名簿（受講者情報を入力）'!L98=\"\",\"\",('②名簿（受講者情報を入力）'!L98))","v":""},{"$f":"IF('②名簿（受講者情報を入力）'!M98=\"\",\"\",('②名簿（受講者情報を入力）'!M98))","v":""},{"$f":"IF('②名簿（受講者情報を入力）'!N98=\"\",\"\",('②名簿（受講者情報を入力）'!N98))","v":""},{"$f":"IF('②名簿（受講者情報を入力）'!P98=\"\",\"\",('②名簿（受講者情報を入力）'!P98))","v":""}]
[{"$f":"IF('②名簿（受講者情報を入力）'!C99=\"\",\"\",('②名簿（受講者情報を入力）'!C99))","v":""},{"$f":"IF('②名簿（受講者情報を入力）'!D99=\"\",\"\",('②名簿（受講者情報を入力）'!D99))","v":""},{"$f":"IF('②名簿（受講者情報を入力）'!E99=\"\",\"\",('②名簿（受講者情報を入力）'!E99))","v":""},{"$f":"IF('②名簿（受講者情報を入力）'!F99=\"\",\"\",('②名簿（受講者情報を入力）'!F99))","v":""},{"$f":"IF('②名簿（受講者情報を入力）'!G99=\"\",\"\",('②名簿（受講者情報を入力）'!G99))","v":""},{"$f":"IF('②名簿（受講者情報を入力）'!H99=\"\",\"\",('②名簿（受講者情報を入力）'!H99))","v":""},{"$f":"IF('②名簿（受講者情報を入力）'!I99=\"\",\"\",('②名簿（受講者情報を入力）'!I99))","v":""},{"$f":"IF('②名簿（受講者情報を入力）'!K99=\"\",\"\",('②名簿（受講者情報を入力）'!K99))","v":""},{"$f":"IF('②名簿（受講者情報を入力）'!L99=\"\",\"\",('②名簿（受講者情報を入力）'!L99))","v":""},{"$f":"IF('②名簿（受講者情報を入力）'!M99=\"\",\"\",('②名簿（受講者情報を入力）'!M99))","v":""},{"$f":"IF('②名簿（受講者情報を入力）'!N99=\"\",\"\",('②名簿（受講者情報を入力）'!N99))","v":""},{"$f":"IF('②名簿（受講者情報を入力）'!P99=\"\",\"\",('②名簿（受講者情報を入力）'!P99))","v":""}]
[{"$f":"IF('②名簿（受講者情報を入力）'!C100=\"\",\"\",('②名簿（受講者情報を入力）'!C100))","v":""},{"$f":"IF('②名簿（受講者情報を入力）'!D100=\"\",\"\",('②名簿（受講者情報を入力）'!D100))","v":""},{"$f":"IF('②名簿（受講者情報を入力）'!E100=\"\",\"\",('②名簿（受講者情報を入力）'!E100))","v":""},{"$f":"IF('②名簿（受講者情報を入力）'!F100=\"\",\"\",('②名簿（受講者情報を入力）'!F100))","v":""},{"$f":"IF('②名簿（受講者情報を入力）'!G100=\"\",\"\",('②名簿（受講者情報を入力）'!G100))","v":""},{"$f":"IF('②名簿（受講者情報を入力）'!H100=\"\",\"\",('②名簿（受講者情報を入力）'!H100))","v":""},{"$f":"IF('②名簿（受講者情報を入力）'!I100=\"\",\"\",('②名簿（受講者情報を入力）'!I100))","v":""},{"$f":"IF('②名簿（受講者情報を入力）'!K100=\"\",\"\",('②名簿（受講者情報を入力）'!K100))","v":""},{"$f":"IF('②名簿（受講者情報を入力）'!L100=\"\",\"\",('②名簿（受講者情報を入力）'!L100))","v":""},{"$f":"IF('②名簿（受講者情報を入力）'!M100=\"\",\"\",('②名簿（受講者情報を入力）'!M100))","v":""},{"$f":"IF('②名簿（受講者情報を入力）'!N100=\"\",\"\",('②名簿（受講者情報を入力）'!N100))","v":""},{"$f":"IF('②名簿（受講者情報を入力）'!P100=\"\",\"\",('②名簿（受講者情報を入力）'!P100))","v":""}]
[{"$f":"IF('②名簿（受講者情報を入力）'!C101=\"\",\"\",('②名簿（受講者情報を入力）'!C101))","v":""},{"$f":"IF('②名簿（受講者情報を入力）'!D101=\"\",\"\",('②名簿（受講者情報を入力）'!D101))","v":""},{"$f":"IF('②名簿（受講者情報を入力）'!E101=\"\",\"\",('②名簿（受講者情報を入力）'!E101))","v":""},{"$f":"IF('②名簿（受講者情報を入力）'!F101=\"\",\"\",('②名簿（受講者情報を入力）'!F101))","v":""},{"$f":"IF('②名簿（受講者情報を入力）'!G101=\"\",\"\",('②名簿（受講者情報を入力）'!G101))","v":""},{"$f":"IF('②名簿（受講者情報を入力）'!H101=\"\",\"\",('②名簿（受講者情報を入力）'!H101))","v":""},{"$f":"IF('②名簿（受講者情報を入力）'!I101=\"\",\"\",('②名簿（受講者情報を入力）'!I101))","v":""},{"$f":"IF('②名簿（受講者情報を入力）'!K101=\"\",\"\",('②名簿（受講者情報を入力）'!K101))","v":""},{"$f":"IF('②名簿（受講者情報を入力）'!L101=\"\",\"\",('②名簿（受講者情報を入力）'!L101))","v":""},{"$f":"IF('②名簿（受講者情報を入力）'!M101=\"\",\"\",('②名簿（受講者情報を入力）'!M101))","v":""},{"$f":"IF('②名簿（受講者情報を入力）'!N101=\"\",\"\",('②名簿（受講者情報を入力）'!N101))","v":""},{"$f":"IF('②名簿（受講者情報を入力）'!P101=\"\",\"\",('②名簿（受講者情報を入力）'!P101))","v":""}]
[{"$f":"IF('②名簿（受講者情報を入力）'!C102=\"\",\"\",('②名簿（受講者情報を入力）'!C102))","v":""},{"$f":"IF('②名簿（受講者情報を入力）'!D102=\"\",\"\",('②名簿（受講者情報を入力）'!D102))","v":""},{"$f":"IF('②名簿（受講者情報を入力）'!E102=\"\",\"\",('②名簿（受講者情報を入力）'!E102))","v":""},{"$f":"IF('②名簿（受講者情報を入力）'!F102=\"\",\"\",('②名簿（受講者情報を入力）'!F102))","v":""},{"$f":"IF('②名簿（受講者情報を入力）'!G102=\"\",\"\",('②名簿（受講者情報を入力）'!G102))","v":""},{"$f":"IF('②名簿（受講者情報を入力）'!H102=\"\",\"\",('②名簿（受講者情報を入力）'!H102))","v":""},{"$f":"IF('②名簿（受講者情報を入力）'!I102=\"\",\"\",('②名簿（受講者情報を入力）'!I102))","v":""},{"$f":"IF('②名簿（受講者情報を入力）'!K102=\"\",\"\",('②名簿（受講者情報を入力）'!K102))","v":""},{"$f":"IF('②名簿（受講者情報を入力）'!L102=\"\",\"\",('②名簿（受講者情報を入力）'!L102))","v":""},{"$f":"IF('②名簿（受講者情報を入力）'!M102=\"\",\"\",('②名簿（受講者情報を入力）'!M102))","v":""},{"$f":"IF('②名簿（受講者情報を入力）'!N102=\"\",\"\",('②名簿（受講者情報を入力）'!N102))","v":""},{"$f":"IF('②名簿（受講者情報を入力）'!P102=\"\",\"\",('②名簿（受講者情報を入力）'!P102))","v":""}]
[{"$f":"IF('②名簿（受講者情報を入力）'!C103=\"\",\"\",('②名簿（受講者情報を入力）'!C103))","v":""},{"$f":"IF('②名簿（受講者情報を入力）'!D103=\"\",\"\",('②名簿（受講者情報を入力）'!D103))","v":""},{"$f":"IF('②名簿（受講者情報を入力）'!E103=\"\",\"\",('②名簿（受講者情報を入力）'!E103))","v":""},{"$f":"IF('②名簿（受講者情報を入力）'!F103=\"\",\"\",('②名簿（受講者情報を入力）'!F103))","v":""},{"$f":"IF('②名簿（受講者情報を入力）'!G103=\"\",\"\",('②名簿（受講者情報を入力）'!G103))","v":""},{"$f":"IF('②名簿（受講者情報を入力）'!H103=\"\",\"\",('②名簿（受講者情報を入力）'!H103))","v":""},{"$f":"IF('②名簿（受講者情報を入力）'!I103=\"\",\"\",('②名簿（受講者情報を入力）'!I103))","v":""},{"$f":"IF('②名簿（受講者情報を入力）'!K103=\"\",\"\",('②名簿（受講者情報を入力）'!K103))","v":""},{"$f":"IF('②名簿（受講者情報を入力）'!L103=\"\",\"\",('②名簿（受講者情報を入力）'!L103))","v":""},{"$f":"IF('②名簿（受講者情報を入力）'!M103=\"\",\"\",('②名簿（受講者情報を入力）'!M103))","v":""},{"$f":"IF('②名簿（受講者情報を入力）'!N103=\"\",\"\",('②名簿（受講者情報を入力）'!N103))","v":""},{"$f":"IF('②名簿（受講者情報を入力）'!P103=\"\",\"\",('②名簿（受講者情報を入力）'!P103))","v":""}]
[{"$f":"IF('②名簿（受講者情報を入力）'!C104=\"\",\"\",('②名簿（受講者情報を入力）'!C104))","v":""},{"$f":"IF('②名簿（受講者情報を入力）'!D104=\"\",\"\",('②名簿（受講者情報を入力）'!D104))","v":""},{"$f":"IF('②名簿（受講者情報を入力）'!E104=\"\",\"\",('②名簿（受講者情報を入力）'!E104))","v":""},{"$f":"IF('②名簿（受講者情報を入力）'!F104=\"\",\"\",('②名簿（受講者情報を入力）'!F104))","v":""},{"$f":"IF('②名簿（受講者情報を入力）'!G104=\"\",\"\",('②名簿（受講者情報を入力）'!G104))","v":""},{"$f":"IF('②名簿（受講者情報を入力）'!H104=\"\",\"\",('②名簿（受講者情報を入力）'!H104))","v":""},{"$f":"IF('②名簿（受講者情報を入力）'!I104=\"\",\"\",('②名簿（受講者情報を入力）'!I104))","v":""},{"$f":"IF('②名簿（受講者情報を入力）'!K104=\"\",\"\",('②名簿（受講者情報を入力）'!K104))","v":""},{"$f":"IF('②名簿（受講者情報を入力）'!L104=\"\",\"\",('②名簿（受講者情報を入力）'!L104))","v":""},{"$f":"IF('②名簿（受講者情報を入力）'!M104=\"\",\"\",('②名簿（受講者情報を入力）'!M104))","v":""},{"$f":"IF('②名簿（受講者情報を入力）'!N104=\"\",\"\",('②名簿（受講者情報を入力）'!N104))","v":""},{"$f":"IF('②名簿（受講者情報を入力）'!P104=\"\",\"\",('②名簿（受講者情報を入力）'!P104))","v":""}]
[{"$f":"IF('②名簿（受講者情報を入力）'!C105=\"\",\"\",('②名簿（受講者情報を入力）'!C105))","v":""},{"$f":"IF('②名簿（受講者情報を入力）'!D105=\"\",\"\",('②名簿（受講者情報を入力）'!D105))","v":""},{"$f":"IF('②名簿（受講者情報を入力）'!E105=\"\",\"\",('②名簿（受講者情報を入力）'!E105))","v":""},{"$f":"IF('②名簿（受講者情報を入力）'!F105=\"\",\"\",('②名簿（受講者情報を入力）'!F105))","v":""},{"$f":"IF('②名簿（受講者情報を入力）'!G105=\"\",\"\",('②名簿（受講者情報を入力）'!G105))","v":""},{"$f":"IF('②名簿（受講者情報を入力）'!H105=\"\",\"\",('②名簿（受講者情報を入力）'!H105))","v":""},{"$f":"IF('②名簿（受講者情報を入力）'!I105=\"\",\"\",('②名簿（受講者情報を入力）'!I105))","v":""},{"$f":"IF('②名簿（受講者情報を入力）'!K105=\"\",\"\",('②名簿（受講者情報を入力）'!K105))","v":""},{"$f":"IF('②名簿（受講者情報を入力）'!L105=\"\",\"\",('②名簿（受講者情報を入力）'!L105))","v":""},{"$f":"IF('②名簿（受講者情報を入力）'!M105=\"\",\"\",('②名簿（受講者情報を入力）'!M105))","v":""},{"$f":"IF('②名簿（受講者情報を入力）'!N105=\"\",\"\",('②名簿（受講者情報を入力）'!N105))","v":""},{"$f":"IF('②名簿（受講者情報を入力）'!P105=\"\",\"\",('②名簿（受講者情報を入力）'!P105))","v":""}]
[{"$f":"IF('②名簿（受講者情報を入力）'!C106=\"\",\"\",('②名簿（受講者情報を入力）'!C106))","v":""},{"$f":"IF('②名簿（受講者情報を入力）'!D106=\"\",\"\",('②名簿（受講者情報を入力）'!D106))","v":""},{"$f":"IF('②名簿（受講者情報を入力）'!E106=\"\",\"\",('②名簿（受講者情報を入力）'!E106))","v":""},{"$f":"IF('②名簿（受講者情報を入力）'!F106=\"\",\"\",('②名簿（受講者情報を入力）'!F106))","v":""},{"$f":"IF('②名簿（受講者情報を入力）'!G106=\"\",\"\",('②名簿（受講者情報を入力）'!G106))","v":""},{"$f":"IF('②名簿（受講者情報を入力）'!H106=\"\",\"\",('②名簿（受講者情報を入力）'!H106))","v":""},{"$f":"IF('②名簿（受講者情報を入力）'!I106=\"\",\"\",('②名簿（受講者情報を入力）'!I106))","v":""},{"$f":"IF('②名簿（受講者情報を入力）'!K106=\"\",\"\",('②名簿（受講者情報を入力）'!K106))","v":""},{"$f":"IF('②名簿（受講者情報を入力）'!L106=\"\",\"\",('②名簿（受講者情報を入力）'!L106))","v":""},{"$f":"IF('②名簿（受講者情報を入力）'!M106=\"\",\"\",('②名簿（受講者情報を入力）'!M106))","v":""},{"$f":"IF('②名簿（受講者情報を入力）'!N106=\"\",\"\",('②名簿（受講者情報を入力）'!N106))","v":""},{"$f":"IF('②名簿（受講者情報を入力）'!P106=\"\",\"\",('②名簿（受講者情報を入力）'!P106))","v":""}]
[{"$f":"IF('②名簿（受講者情報を入力）'!C107=\"\",\"\",('②名簿（受講者情報を入力）'!C107))","v":""},{"$f":"IF('②名簿（受講者情報を入力）'!D107=\"\",\"\",('②名簿（受講者情報を入力）'!D107))","v":""},{"$f":"IF('②名簿（受講者情報を入力）'!E107=\"\",\"\",('②名簿（受講者情報を入力）'!E107))","v":""},{"$f":"IF('②名簿（受講者情報を入力）'!F107=\"\",\"\",('②名簿（受講者情報を入力）'!F107))","v":""},{"$f":"IF('②名簿（受講者情報を入力）'!G107=\"\",\"\",('②名簿（受講者情報を入力）'!G107))","v":""},{"$f":"IF('②名簿（受講者情報を入力）'!H107=\"\",\"\",('②名簿（受講者情報を入力）'!H107))","v":""},{"$f":"IF('②名簿（受講者情報を入力）'!I107=\"\",\"\",('②名簿（受講者情報を入力）'!I107))","v":""},{"$f":"IF('②名簿（受講者情報を入力）'!K107=\"\",\"\",('②名簿（受講者情報を入力）'!K107))","v":""},{"$f":"IF('②名簿（受講者情報を入力）'!L107=\"\",\"\",('②名簿（受講者情報を入力）'!L107))","v":""},{"$f":"IF('②名簿（受講者情報を入力）'!M107=\"\",\"\",('②名簿（受講者情報を入力）'!M107))","v":""},{"$f":"IF('②名簿（受講者情報を入力）'!N107=\"\",\"\",('②名簿（受講者情報を入力）'!N107))","v":""},{"$f":"IF('②名簿（受講者情報を入力）'!P107=\"\",\"\",('②名簿（受講者情報を入力）'!P107))","v":""}]
[{"$f":"IF('②名簿（受講者情報を入力）'!C108=\"\",\"\",('②名簿（受講者情報を入力）'!C108))","v":""},{"$f":"IF('②名簿（受講者情報を入力）'!D108=\"\",\"\",('②名簿（受講者情報を入力）'!D108))","v":""},{"$f":"IF('②名簿（受講者情報を入力）'!E108=\"\",\"\",('②名簿（受講者情報を入力）'!E108))","v":""},{"$f":"IF('②名簿（受講者情報を入力）'!F108=\"\",\"\",('②名簿（受講者情報を入力）'!F108))","v":""},{"$f":"IF('②名簿（受講者情報を入力）'!G108=\"\",\"\",('②名簿（受講者情報を入力）'!G108))","v":""},{"$f":"IF('②名簿（受講者情報を入力）'!H108=\"\",\"\",('②名簿（受講者情報を入力）'!H108))","v":""},{"$f":"IF('②名簿（受講者情報を入力）'!I108=\"\",\"\",('②名簿（受講者情報を入力）'!I108))","v":""},{"$f":"IF('②名簿（受講者情報を入力）'!K108=\"\",\"\",('②名簿（受講者情報を入力）'!K108))","v":""},{"$f":"IF('②名簿（受講者情報を入力）'!L108=\"\",\"\",('②名簿（受講者情報を入力）'!L108))","v":""},{"$f":"IF('②名簿（受講者情報を入力）'!M108=\"\",\"\",('②名簿（受講者情報を入力）'!M108))","v":""},{"$f":"IF('②名簿（受講者情報を入力）'!N108=\"\",\"\",('②名簿（受講者情報を入力）'!N108))","v":""},{"$f":"IF('②名簿（受講者情報を入力）'!P108=\"\",\"\",('②名簿（受講者情報を入力）'!P108))","v":""}]
[{"$f":"IF('②名簿（受講者情報を入力）'!C109=\"\",\"\",('②名簿（受講者情報を入力）'!C109))","v":""},{"$f":"IF('②名簿（受講者情報を入力）'!D109=\"\",\"\",('②名簿（受講者情報を入力）'!D109))","v":""},{"$f":"IF('②名簿（受講者情報を入力）'!E109=\"\",\"\",('②名簿（受講者情報を入力）'!E109))","v":""},{"$f":"IF('②名簿（受講者情報を入力）'!F109=\"\",\"\",('②名簿（受講者情報を入力）'!F109))","v":""},{"$f":"IF('②名簿（受講者情報を入力）'!G109=\"\",\"\",('②名簿（受講者情報を入力）'!G109))","v":""},{"$f":"IF('②名簿（受講者情報を入力）'!H109=\"\",\"\",('②名簿（受講者情報を入力）'!H109))","v":""},{"$f":"IF('②名簿（受講者情報を入力）'!I109=\"\",\"\",('②名簿（受講者情報を入力）'!I109))","v":""},{"$f":"IF('②名簿（受講者情報を入力）'!K109=\"\",\"\",('②名簿（受講者情報を入力）'!K109))","v":""},{"$f":"IF('②名簿（受講者情報を入力）'!L109=\"\",\"\",('②名簿（受講者情報を入力）'!L109))","v":""},{"$f":"IF('②名簿（受講者情報を入力）'!M109=\"\",\"\",('②名簿（受講者情報を入力）'!M109))","v":""},{"$f":"IF('②名簿（受講者情報を入力）'!N109=\"\",\"\",('②名簿（受講者情報を入力）'!N109))","v":""},{"$f":"IF('②名簿（受講者情報を入力）'!P109=\"\",\"\",('②名簿（受講者情報を入力）'!P109))","v":""}]
[{"$f":"IF('②名簿（受講者情報を入力）'!C110=\"\",\"\",('②名簿（受講者情報を入力）'!C110))","v":""},{"$f":"IF('②名簿（受講者情報を入力）'!D110=\"\",\"\",('②名簿（受講者情報を入力）'!D110))","v":""},{"$f":"IF('②名簿（受講者情報を入力）'!E110=\"\",\"\",('②名簿（受講者情報を入力）'!E110))","v":""},{"$f":"IF('②名簿（受講者情報を入力）'!F110=\"\",\"\",('②名簿（受講者情報を入力）'!F110))","v":""},{"$f":"IF('②名簿（受講者情報を入力）'!G110=\"\",\"\",('②名簿（受講者情報を入力）'!G110))","v":""},{"$f":"IF('②名簿（受講者情報を入力）'!H110=\"\",\"\",('②名簿（受講者情報を入力）'!H110))","v":""},{"$f":"IF('②名簿（受講者情報を入力）'!I110=\"\",\"\",('②名簿（受講者情報を入力）'!I110))","v":""},{"$f":"IF('②名簿（受講者情報を入力）'!K110=\"\",\"\",('②名簿（受講者情報を入力）'!K110))","v":""},{"$f":"IF('②名簿（受講者情報を入力）'!L110=\"\",\"\",('②名簿（受講者情報を入力）'!L110))","v":""},{"$f":"IF('②名簿（受講者情報を入力）'!M110=\"\",\"\",('②名簿（受講者情報を入力）'!M110))","v":""},{"$f":"IF('②名簿（受講者情報を入力）'!N110=\"\",\"\",('②名簿（受講者情報を入力）'!N110))","v":""},{"$f":"IF('②名簿（受講者情報を入力）'!P110=\"\",\"\",('②名簿（受講者情報を入力）'!P110))","v":""}]
[{"$f":"IF('②名簿（受講者情報を入力）'!C111=\"\",\"\",('②名簿（受講者情報を入力）'!C111))","v":""},{"$f":"IF('②名簿（受講者情報を入力）'!D111=\"\",\"\",('②名簿（受講者情報を入力）'!D111))","v":""},{"$f":"IF('②名簿（受講者情報を入力）'!E111=\"\",\"\",('②名簿（受講者情報を入力）'!E111))","v":""},{"$f":"IF('②名簿（受講者情報を入力）'!F111=\"\",\"\",('②名簿（受講者情報を入力）'!F111))","v":""},{"$f":"IF('②名簿（受講者情報を入力）'!G111=\"\",\"\",('②名簿（受講者情報を入力）'!G111))","v":""},{"$f":"IF('②名簿（受講者情報を入力）'!H111=\"\",\"\",('②名簿（受講者情報を入力）'!H111))","v":""},{"$f":"IF('②名簿（受講者情報を入力）'!I111=\"\",\"\",('②名簿（受講者情報を入力）'!I111))","v":""},{"$f":"IF('②名簿（受講者情報を入力）'!K111=\"\",\"\",('②名簿（受講者情報を入力）'!K111))","v":""},{"$f":"IF('②名簿（受講者情報を入力）'!L111=\"\",\"\",('②名簿（受講者情報を入力）'!L111))","v":""},{"$f":"IF('②名簿（受講者情報を入力）'!M111=\"\",\"\",('②名簿（受講者情報を入力）'!M111))","v":""},{"$f":"IF('②名簿（受講者情報を入力）'!N111=\"\",\"\",('②名簿（受講者情報を入力）'!N111))","v":""},{"$f":"IF('②名簿（受講者情報を入力）'!P111=\"\",\"\",('②名簿（受講者情報を入力）'!P111))","v":""}]
[{"$f":"IF('②名簿（受講者情報を入力）'!C112=\"\",\"\",('②名簿（受講者情報を入力）'!C112))","v":""},{"$f":"IF('②名簿（受講者情報を入力）'!D112=\"\",\"\",('②名簿（受講者情報を入力）'!D112))","v":""},{"$f":"IF('②名簿（受講者情報を入力）'!E112=\"\",\"\",('②名簿（受講者情報を入力）'!E112))","v":""},{"$f":"IF('②名簿（受講者情報を入力）'!F112=\"\",\"\",('②名簿（受講者情報を入力）'!F112))","v":""},{"$f":"IF('②名簿（受講者情報を入力）'!G112=\"\",\"\",('②名簿（受講者情報を入力）'!G112))","v":""},{"$f":"IF('②名簿（受講者情報を入力）'!H112=\"\",\"\",('②名簿（受講者情報を入力）'!H112))","v":""},{"$f":"IF('②名簿（受講者情報を入力）'!I112=\"\",\"\",('②名簿（受講者情報を入力）'!I112))","v":""},{"$f":"IF('②名簿（受講者情報を入力）'!K112=\"\",\"\",('②名簿（受講者情報を入力）'!K112))","v":""},{"$f":"IF('②名簿（受講者情報を入力）'!L112=\"\",\"\",('②名簿（受講者情報を入力）'!L112))","v":""},{"$f":"IF('②名簿（受講者情報を入力）'!M112=\"\",\"\",('②名簿（受講者情報を入力）'!M112))","v":""},{"$f":"IF('②名簿（受講者情報を入力）'!N112=\"\",\"\",('②名簿（受講者情報を入力）'!N112))","v":""},{"$f":"IF('②名簿（受講者情報を入力）'!P112=\"\",\"\",('②名簿（受講者情報を入力）'!P112))","v":""}]
[{"$f":"IF('②名簿（受講者情報を入力）'!C113=\"\",\"\",('②名簿（受講者情報を入力）'!C113))","v":""},{"$f":"IF('②名簿（受講者情報を入力）'!D113=\"\",\"\",('②名簿（受講者情報を入力）'!D113))","v":""},{"$f":"IF('②名簿（受講者情報を入力）'!E113=\"\",\"\",('②名簿（受講者情報を入力）'!E113))","v":""},{"$f":"IF('②名簿（受講者情報を入力）'!F113=\"\",\"\",('②名簿（受講者情報を入力）'!F113))","v":""},{"$f":"IF('②名簿（受講者情報を入力）'!G113=\"\",\"\",('②名簿（受講者情報を入力）'!G113))","v":""},{"$f":"IF('②名簿（受講者情報を入力）'!H113=\"\",\"\",('②名簿（受講者情報を入力）'!H113))","v":""},{"$f":"IF('②名簿（受講者情報を入力）'!I113=\"\",\"\",('②名簿（受講者情報を入力）'!I113))","v":""},{"$f":"IF('②名簿（受講者情報を入力）'!K113=\"\",\"\",('②名簿（受講者情報を入力）'!K113))","v":""},{"$f":"IF('②名簿（受講者情報を入力）'!L113=\"\",\"\",('②名簿（受講者情報を入力）'!L113))","v":""},{"$f":"IF('②名簿（受講者情報を入力）'!M113=\"\",\"\",('②名簿（受講者情報を入力）'!M113))","v":""},{"$f":"IF('②名簿（受講者情報を入力）'!N113=\"\",\"\",('②名簿（受講者情報を入力）'!N113))","v":""},{"$f":"IF('②名簿（受講者情報を入力）'!P113=\"\",\"\",('②名簿（受講者情報を入力）'!P113))","v":""}]
[{"$f":"IF('②名簿（受講者情報を入力）'!C114=\"\",\"\",('②名簿（受講者情報を入力）'!C114))","v":""},{"$f":"IF('②名簿（受講者情報を入力）'!D114=\"\",\"\",('②名簿（受講者情報を入力）'!D114))","v":""},{"$f":"IF('②名簿（受講者情報を入力）'!E114=\"\",\"\",('②名簿（受講者情報を入力）'!E114))","v":""},{"$f":"IF('②名簿（受講者情報を入力）'!F114=\"\",\"\",('②名簿（受講者情報を入力）'!F114))","v":""},{"$f":"IF('②名簿（受講者情報を入力）'!G114=\"\",\"\",('②名簿（受講者情報を入力）'!G114))","v":""},{"$f":"IF('②名簿（受講者情報を入力）'!H114=\"\",\"\",('②名簿（受講者情報を入力）'!H114))","v":""},{"$f":"IF('②名簿（受講者情報を入力）'!I114=\"\",\"\",('②名簿（受講者情報を入力）'!I114))","v":""},{"$f":"IF('②名簿（受講者情報を入力）'!K114=\"\",\"\",('②名簿（受講者情報を入力）'!K114))","v":""},{"$f":"IF('②名簿（受講者情報を入力）'!L114=\"\",\"\",('②名簿（受講者情報を入力）'!L114))","v":""},{"$f":"IF('②名簿（受講者情報を入力）'!M114=\"\",\"\",('②名簿（受講者情報を入力）'!M114))","v":""},{"$f":"IF('②名簿（受講者情報を入力）'!N114=\"\",\"\",('②名簿（受講者情報を入力）'!N114))","v":""},{"$f":"IF('②名簿（受講者情報を入力）'!P114=\"\",\"\",('②名簿（受講者情報を入力）'!P114))","v":""}]
[{"$f":"IF('②名簿（受講者情報を入力）'!C115=\"\",\"\",('②名簿（受講者情報を入力）'!C115))","v":""},{"$f":"IF('②名簿（受講者情報を入力）'!D115=\"\",\"\",('②名簿（受講者情報を入力）'!D115))","v":""},{"$f":"IF('②名簿（受講者情報を入力）'!E115=\"\",\"\",('②名簿（受講者情報を入力）'!E115))","v":""},{"$f":"IF('②名簿（受講者情報を入力）'!F115=\"\",\"\",('②名簿（受講者情報を入力）'!F115))","v":""},{"$f":"IF('②名簿（受講者情報を入力）'!G115=\"\",\"\",('②名簿（受講者情報を入力）'!G115))","v":""},{"$f":"IF('②名簿（受講者情報を入力）'!H115=\"\",\"\",('②名簿（受講者情報を入力）'!H115))","v":""},{"$f":"IF('②名簿（受講者情報を入力）'!I115=\"\",\"\",('②名簿（受講者情報を入力）'!I115))","v":""},{"$f":"IF('②名簿（受講者情報を入力）'!K115=\"\",\"\",('②名簿（受講者情報を入力）'!K115))","v":""},{"$f":"IF('②名簿（受講者情報を入力）'!L115=\"\",\"\",('②名簿（受講者情報を入力）'!L115))","v":""},{"$f":"IF('②名簿（受講者情報を入力）'!M115=\"\",\"\",('②名簿（受講者情報を入力）'!M115))","v":""},{"$f":"IF('②名簿（受講者情報を入力）'!N115=\"\",\"\",('②名簿（受講者情報を入力）'!N115))","v":""},{"$f":"IF('②名簿（受講者情報を入力）'!P115=\"\",\"\",('②名簿（受講者情報を入力）'!P115))","v":""}]
[{"$f":"IF('②名簿（受講者情報を入力）'!C116=\"\",\"\",('②名簿（受講者情報を入力）'!C116))","v":""},{"$f":"IF('②名簿（受講者情報を入力）'!D116=\"\",\"\",('②名簿（受講者情報を入力）'!D116))","v":""},{"$f":"IF('②名簿（受講者情報を入力）'!E116=\"\",\"\",('②名簿（受講者情報を入力）'!E116))","v":""},{"$f":"IF('②名簿（受講者情報を入力）'!F116=\"\",\"\",('②名簿（受講者情報を入力）'!F116))","v":""},{"$f":"IF('②名簿（受講者情報を入力）'!G116=\"\",\"\",('②名簿（受講者情報を入力）'!G116))","v":""},{"$f":"IF('②名簿（受講者情報を入力）'!H116=\"\",\"\",('②名簿（受講者情報を入力）'!H116))","v":""},{"$f":"IF('②名簿（受講者情報を入力）'!I116=\"\",\"\",('②名簿（受講者情報を入力）'!I116))","v":""},{"$f":"IF('②名簿（受講者情報を入力）'!K116=\"\",\"\",('②名簿（受講者情報を入力）'!K116))","v":""},{"$f":"IF('②名簿（受講者情報を入力）'!L116=\"\",\"\",('②名簿（受講者情報を入力）'!L116))","v":""},{"$f":"IF('②名簿（受講者情報を入力）'!M116=\"\",\"\",('②名簿（受講者情報を入力）'!M116))","v":""},{"$f":"IF('②名簿（受講者情報を入力）'!N116=\"\",\"\",('②名簿（受講者情報を入力）'!N116))","v":""},{"$f":"IF('②名簿（受講者情報を入力）'!P116=\"\",\"\",('②名簿（受講者情報を入力）'!P116))","v":""}]
[{"$f":"IF('②名簿（受講者情報を入力）'!C117=\"\",\"\",('②名簿（受講者情報を入力）'!C117))","v":""},{"$f":"IF('②名簿（受講者情報を入力）'!D117=\"\",\"\",('②名簿（受講者情報を入力）'!D117))","v":""},{"$f":"IF('②名簿（受講者情報を入力）'!E117=\"\",\"\",('②名簿（受講者情報を入力）'!E117))","v":""},{"$f":"IF('②名簿（受講者情報を入力）'!F117=\"\",\"\",('②名簿（受講者情報を入力）'!F117))","v":""},{"$f":"IF('②名簿（受講者情報を入力）'!G117=\"\",\"\",('②名簿（受講者情報を入力）'!G117))","v":""},{"$f":"IF('②名簿（受講者情報を入力）'!H117=\"\",\"\",('②名簿（受講者情報を入力）'!H117))","v":""},{"$f":"IF('②名簿（受講者情報を入力）'!I117=\"\",\"\",('②名簿（受講者情報を入力）'!I117))","v":""},{"$f":"IF('②名簿（受講者情報を入力）'!K117=\"\",\"\",('②名簿（受講者情報を入力）'!K117))","v":""},{"$f":"IF('②名簿（受講者情報を入力）'!L117=\"\",\"\",('②名簿（受講者情報を入力）'!L117))","v":""},{"$f":"IF('②名簿（受講者情報を入力）'!M117=\"\",\"\",('②名簿（受講者情報を入力）'!M117))","v":""},{"$f":"IF('②名簿（受講者情報を入力）'!N117=\"\",\"\",('②名簿（受講者情報を入力）'!N117))","v":""},{"$f":"IF('②名簿（受講者情報を入力）'!P117=\"\",\"\",('②名簿（受講者情報を入力）'!P117))","v":""}]
[{"$f":"IF('②名簿（受講者情報を入力）'!C118=\"\",\"\",('②名簿（受講者情報を入力）'!C118))","v":""},{"$f":"IF('②名簿（受講者情報を入力）'!D118=\"\",\"\",('②名簿（受講者情報を入力）'!D118))","v":""},{"$f":"IF('②名簿（受講者情報を入力）'!E118=\"\",\"\",('②名簿（受講者情報を入力）'!E118))","v":""},{"$f":"IF('②名簿（受講者情報を入力）'!F118=\"\",\"\",('②名簿（受講者情報を入力）'!F118))","v":""},{"$f":"IF('②名簿（受講者情報を入力）'!G118=\"\",\"\",('②名簿（受講者情報を入力）'!G118))","v":""},{"$f":"IF('②名簿（受講者情報を入力）'!H118=\"\",\"\",('②名簿（受講者情報を入力）'!H118))","v":""},{"$f":"IF('②名簿（受講者情報を入力）'!I118=\"\",\"\",('②名簿（受講者情報を入力）'!I118))","v":""},{"$f":"IF('②名簿（受講者情報を入力）'!K118=\"\",\"\",('②名簿（受講者情報を入力）'!K118))","v":""},{"$f":"IF('②名簿（受講者情報を入力）'!L118=\"\",\"\",('②名簿（受講者情報を入力）'!L118))","v":""},{"$f":"IF('②名簿（受講者情報を入力）'!M118=\"\",\"\",('②名簿（受講者情報を入力）'!M118))","v":""},{"$f":"IF('②名簿（受講者情報を入力）'!N118=\"\",\"\",('②名簿（受講者情報を入力）'!N118))","v":""},{"$f":"IF('②名簿（受講者情報を入力）'!P118=\"\",\"\",('②名簿（受講者情報を入力）'!P118))","v":""}]
[{"$f":"IF('②名簿（受講者情報を入力）'!C119=\"\",\"\",('②名簿（受講者情報を入力）'!C119))","v":""},{"$f":"IF('②名簿（受講者情報を入力）'!D119=\"\",\"\",('②名簿（受講者情報を入力）'!D119))","v":""},{"$f":"IF('②名簿（受講者情報を入力）'!E119=\"\",\"\",('②名簿（受講者情報を入力）'!E119))","v":""},{"$f":"IF('②名簿（受講者情報を入力）'!F119=\"\",\"\",('②名簿（受講者情報を入力）'!F119))","v":""},{"$f":"IF('②名簿（受講者情報を入力）'!G119=\"\",\"\",('②名簿（受講者情報を入力）'!G119))","v":""},{"$f":"IF('②名簿（受講者情報を入力）'!H119=\"\",\"\",('②名簿（受講者情報を入力）'!H119))","v":""},{"$f":"IF('②名簿（受講者情報を入力）'!I119=\"\",\"\",('②名簿（受講者情報を入力）'!I119))","v":""},{"$f":"IF('②名簿（受講者情報を入力）'!K119=\"\",\"\",('②名簿（受講者情報を入力）'!K119))","v":""},{"$f":"IF('②名簿（受講者情報を入力）'!L119=\"\",\"\",('②名簿（受講者情報を入力）'!L119))","v":""},{"$f":"IF('②名簿（受講者情報を入力）'!M119=\"\",\"\",('②名簿（受講者情報を入力）'!M119))","v":""},{"$f":"IF('②名簿（受講者情報を入力）'!N119=\"\",\"\",('②名簿（受講者情報を入力）'!N119))","v":""},{"$f":"IF('②名簿（受講者情報を入力）'!P119=\"\",\"\",('②名簿（受講者情報を入力）'!P119))","v":""}]
[{"$f":"IF('②名簿（受講者情報を入力）'!C120=\"\",\"\",('②名簿（受講者情報を入力）'!C120))","v":""},{"$f":"IF('②名簿（受講者情報を入力）'!D120=\"\",\"\",('②名簿（受講者情報を入力）'!D120))","v":""},{"$f":"IF('②名簿（受講者情報を入力）'!E120=\"\",\"\",('②名簿（受講者情報を入力）'!E120))","v":""},{"$f":"IF('②名簿（受講者情報を入力）'!F120=\"\",\"\",('②名簿（受講者情報を入力）'!F120))","v":""},{"$f":"IF('②名簿（受講者情報を入力）'!G120=\"\",\"\",('②名簿（受講者情報を入力）'!G120))","v":""},{"$f":"IF('②名簿（受講者情報を入力）'!H120=\"\",\"\",('②名簿（受講者情報を入力）'!H120))","v":""},{"$f":"IF('②名簿（受講者情報を入力）'!I120=\"\",\"\",('②名簿（受講者情報を入力）'!I120))","v":""},{"$f":"IF('②名簿（受講者情報を入力）'!K120=\"\",\"\",('②名簿（受講者情報を入力）'!K120))","v":""},{"$f":"IF('②名簿（受講者情報を入力）'!L120=\"\",\"\",('②名簿（受講者情報を入力）'!L120))","v":""},{"$f":"IF('②名簿（受講者情報を入力）'!M120=\"\",\"\",('②名簿（受講者情報を入力）'!M120))","v":""},{"$f":"IF('②名簿（受講者情報を入力）'!N120=\"\",\"\",('②名簿（受講者情報を入力）'!N120))","v":""},{"$f":"IF('②名簿（受講者情報を入力）'!P120=\"\",\"\",('②名簿（受講者情報を入力）'!P120))","v":""}]
[{"$f":"IF('②名簿（受講者情報を入力）'!C121=\"\",\"\",('②名簿（受講者情報を入力）'!C121))","v":""},{"$f":"IF('②名簿（受講者情報を入力）'!D121=\"\",\"\",('②名簿（受講者情報を入力）'!D121))","v":""},{"$f":"IF('②名簿（受講者情報を入力）'!E121=\"\",\"\",('②名簿（受講者情報を入力）'!E121))","v":""},{"$f":"IF('②名簿（受講者情報を入力）'!F121=\"\",\"\",('②名簿（受講者情報を入力）'!F121))","v":""},{"$f":"IF('②名簿（受講者情報を入力）'!G121=\"\",\"\",('②名簿（受講者情報を入力）'!G121))","v":""},{"$f":"IF('②名簿（受講者情報を入力）'!H121=\"\",\"\",('②名簿（受講者情報を入力）'!H121))","v":""},{"$f":"IF('②名簿（受講者情報を入力）'!I121=\"\",\"\",('②名簿（受講者情報を入力）'!I121))","v":""},{"$f":"IF('②名簿（受講者情報を入力）'!K121=\"\",\"\",('②名簿（受講者情報を入力）'!K121))","v":""},{"$f":"IF('②名簿（受講者情報を入力）'!L121=\"\",\"\",('②名簿（受講者情報を入力）'!L121))","v":""},{"$f":"IF('②名簿（受講者情報を入力）'!M121=\"\",\"\",('②名簿（受講者情報を入力）'!M121))","v":""},{"$f":"IF('②名簿（受講者情報を入力）'!N121=\"\",\"\",('②名簿（受講者情報を入力）'!N121))","v":""},{"$f":"IF('②名簿（受講者情報を入力）'!P121=\"\",\"\",('②名簿（受講者情報を入力）'!P121))","v":""}]
[{"$f":"IF('②名簿（受講者情報を入力）'!C122=\"\",\"\",('②名簿（受講者情報を入力）'!C122))","v":""},{"$f":"IF('②名簿（受講者情報を入力）'!D122=\"\",\"\",('②名簿（受講者情報を入力）'!D122))","v":""},{"$f":"IF('②名簿（受講者情報を入力）'!E122=\"\",\"\",('②名簿（受講者情報を入力）'!E122))","v":""},{"$f":"IF('②名簿（受講者情報を入力）'!F122=\"\",\"\",('②名簿（受講者情報を入力）'!F122))","v":""},{"$f":"IF('②名簿（受講者情報を入力）'!G122=\"\",\"\",('②名簿（受講者情報を入力）'!G122))","v":""},{"$f":"IF('②名簿（受講者情報を入力）'!H122=\"\",\"\",('②名簿（受講者情報を入力）'!H122))","v":""},{"$f":"IF('②名簿（受講者情報を入力）'!I122=\"\",\"\",('②名簿（受講者情報を入力）'!I122))","v":""},{"$f":"IF('②名簿（受講者情報を入力）'!K122=\"\",\"\",('②名簿（受講者情報を入力）'!K122))","v":""},{"$f":"IF('②名簿（受講者情報を入力）'!L122=\"\",\"\",('②名簿（受講者情報を入力）'!L122))","v":""},{"$f":"IF('②名簿（受講者情報を入力）'!M122=\"\",\"\",('②名簿（受講者情報を入力）'!M122))","v":""},{"$f":"IF('②名簿（受講者情報を入力）'!N122=\"\",\"\",('②名簿（受講者情報を入力）'!N122))","v":""},{"$f":"IF('②名簿（受講者情報を入力）'!P122=\"\",\"\",('②名簿（受講者情報を入力）'!P122))","v":""}]
[{"$f":"IF('②名簿（受講者情報を入力）'!C123=\"\",\"\",('②名簿（受講者情報を入力）'!C123))","v":""},{"$f":"IF('②名簿（受講者情報を入力）'!D123=\"\",\"\",('②名簿（受講者情報を入力）'!D123))","v":""},{"$f":"IF('②名簿（受講者情報を入力）'!E123=\"\",\"\",('②名簿（受講者情報を入力）'!E123))","v":""},{"$f":"IF('②名簿（受講者情報を入力）'!F123=\"\",\"\",('②名簿（受講者情報を入力）'!F123))","v":""},{"$f":"IF('②名簿（受講者情報を入力）'!G123=\"\",\"\",('②名簿（受講者情報を入力）'!G123))","v":""},{"$f":"IF('②名簿（受講者情報を入力）'!H123=\"\",\"\",('②名簿（受講者情報を入力）'!H123))","v":""},{"$f":"IF('②名簿（受講者情報を入力）'!I123=\"\",\"\",('②名簿（受講者情報を入力）'!I123))","v":""},{"$f":"IF('②名簿（受講者情報を入力）'!K123=\"\",\"\",('②名簿（受講者情報を入力）'!K123))","v":""},{"$f":"IF('②名簿（受講者情報を入力）'!L123=\"\",\"\",('②名簿（受講者情報を入力）'!L123))","v":""},{"$f":"IF('②名簿（受講者情報を入力）'!M123=\"\",\"\",('②名簿（受講者情報を入力）'!M123))","v":""},{"$f":"IF('②名簿（受講者情報を入力）'!N123=\"\",\"\",('②名簿（受講者情報を入力）'!N123))","v":""},{"$f":"IF('②名簿（受講者情報を入力）'!P123=\"\",\"\",('②名簿（受講者情報を入力）'!P123))","v":""}]
[{"$f":"IF('②名簿（受講者情報を入力）'!C124=\"\",\"\",('②名簿（受講者情報を入力）'!C124))","v":""},{"$f":"IF('②名簿（受講者情報を入力）'!D124=\"\",\"\",('②名簿（受講者情報を入力）'!D124))","v":""},{"$f":"IF('②名簿（受講者情報を入力）'!E124=\"\",\"\",('②名簿（受講者情報を入力）'!E124))","v":""},{"$f":"IF('②名簿（受講者情報を入力）'!F124=\"\",\"\",('②名簿（受講者情報を入力）'!F124))","v":""},{"$f":"IF('②名簿（受講者情報を入力）'!G124=\"\",\"\",('②名簿（受講者情報を入力）'!G124))","v":""},{"$f":"IF('②名簿（受講者情報を入力）'!H124=\"\",\"\",('②名簿（受講者情報を入力）'!H124))","v":""},{"$f":"IF('②名簿（受講者情報を入力）'!I124=\"\",\"\",('②名簿（受講者情報を入力）'!I124))","v":""},{"$f":"IF('②名簿（受講者情報を入力）'!K124=\"\",\"\",('②名簿（受講者情報を入力）'!K124))","v":""},{"$f":"IF('②名簿（受講者情報を入力）'!L124=\"\",\"\",('②名簿（受講者情報を入力）'!L124))","v":""},{"$f":"IF('②名簿（受講者情報を入力）'!M124=\"\",\"\",('②名簿（受講者情報を入力）'!M124))","v":""},{"$f":"IF('②名簿（受講者情報を入力）'!N124=\"\",\"\",('②名簿（受講者情報を入力）'!N124))","v":""},{"$f":"IF('②名簿（受講者情報を入力）'!P124=\"\",\"\",('②名簿（受講者情報を入力）'!P124))","v":""}]
[{"$f":"IF('②名簿（受講者情報を入力）'!C125=\"\",\"\",('②名簿（受講者情報を入力）'!C125))","v":""},{"$f":"IF('②名簿（受講者情報を入力）'!D125=\"\",\"\",('②名簿（受講者情報を入力）'!D125))","v":""},{"$f":"IF('②名簿（受講者情報を入力）'!E125=\"\",\"\",('②名簿（受講者情報を入力）'!E125))","v":""},{"$f":"IF('②名簿（受講者情報を入力）'!F125=\"\",\"\",('②名簿（受講者情報を入力）'!F125))","v":""},{"$f":"IF('②名簿（受講者情報を入力）'!G125=\"\",\"\",('②名簿（受講者情報を入力）'!G125))","v":""},{"$f":"IF('②名簿（受講者情報を入力）'!H125=\"\",\"\",('②名簿（受講者情報を入力）'!H125))","v":""},{"$f":"IF('②名簿（受講者情報を入力）'!I125=\"\",\"\",('②名簿（受講者情報を入力）'!I125))","v":""},{"$f":"IF('②名簿（受講者情報を入力）'!K125=\"\",\"\",('②名簿（受講者情報を入力）'!K125))","v":""},{"$f":"IF('②名簿（受講者情報を入力）'!L125=\"\",\"\",('②名簿（受講者情報を入力）'!L125))","v":""},{"$f":"IF('②名簿（受講者情報を入力）'!M125=\"\",\"\",('②名簿（受講者情報を入力）'!M125))","v":""},{"$f":"IF('②名簿（受講者情報を入力）'!N125=\"\",\"\",('②名簿（受講者情報を入力）'!N125))","v":""},{"$f":"IF('②名簿（受講者情報を入力）'!P125=\"\",\"\",('②名簿（受講者情報を入力）'!P125))","v":""}]
[{"$f":"IF('②名簿（受講者情報を入力）'!C126=\"\",\"\",('②名簿（受講者情報を入力）'!C126))","v":""},{"$f":"IF('②名簿（受講者情報を入力）'!D126=\"\",\"\",('②名簿（受講者情報を入力）'!D126))","v":""},{"$f":"IF('②名簿（受講者情報を入力）'!E126=\"\",\"\",('②名簿（受講者情報を入力）'!E126))","v":""},{"$f":"IF('②名簿（受講者情報を入力）'!F126=\"\",\"\",('②名簿（受講者情報を入力）'!F126))","v":""},{"$f":"IF('②名簿（受講者情報を入力）'!G126=\"\",\"\",('②名簿（受講者情報を入力）'!G126))","v":""},{"$f":"IF('②名簿（受講者情報を入力）'!H126=\"\",\"\",('②名簿（受講者情報を入力）'!H126))","v":""},{"$f":"IF('②名簿（受講者情報を入力）'!I126=\"\",\"\",('②名簿（受講者情報を入力）'!I126))","v":""},{"$f":"IF('②名簿（受講者情報を入力）'!K126=\"\",\"\",('②名簿（受講者情報を入力）'!K126))","v":""},{"$f":"IF('②名簿（受講者情報を入力）'!L126=\"\",\"\",('②名簿（受講者情報を入力）'!L126))","v":""},{"$f":"IF('②名簿（受講者情報を入力）'!M126=\"\",\"\",('②名簿（受講者情報を入力）'!M126))","v":""},{"$f":"IF('②名簿（受講者情報を入力）'!N126=\"\",\"\",('②名簿（受講者情報を入力）'!N126))","v":""},{"$f":"IF('②名簿（受講者情報を入力）'!P126=\"\",\"\",('②名簿（受講者情報を入力）'!P126))","v":""}]
[{"$f":"IF('②名簿（受講者情報を入力）'!C127=\"\",\"\",('②名簿（受講者情報を入力）'!C127))","v":""},{"$f":"IF('②名簿（受講者情報を入力）'!D127=\"\",\"\",('②名簿（受講者情報を入力）'!D127))","v":""},{"$f":"IF('②名簿（受講者情報を入力）'!E127=\"\",\"\",('②名簿（受講者情報を入力）'!E127))","v":""},{"$f":"IF('②名簿（受講者情報を入力）'!F127=\"\",\"\",('②名簿（受講者情報を入力）'!F127))","v":""},{"$f":"IF('②名簿（受講者情報を入力）'!G127=\"\",\"\",('②名簿（受講者情報を入力）'!G127))","v":""},{"$f":"IF('②名簿（受講者情報を入力）'!H127=\"\",\"\",('②名簿（受講者情報を入力）'!H127))","v":""},{"$f":"IF('②名簿（受講者情報を入力）'!I127=\"\",\"\",('②名簿（受講者情報を入力）'!I127))","v":""},{"$f":"IF('②名簿（受講者情報を入力）'!K127=\"\",\"\",('②名簿（受講者情報を入力）'!K127))","v":""},{"$f":"IF('②名簿（受講者情報を入力）'!L127=\"\",\"\",('②名簿（受講者情報を入力）'!L127))","v":""},{"$f":"IF('②名簿（受講者情報を入力）'!M127=\"\",\"\",('②名簿（受講者情報を入力）'!M127))","v":""},{"$f":"IF('②名簿（受講者情報を入力）'!N127=\"\",\"\",('②名簿（受講者情報を入力）'!N127))","v":""},{"$f":"IF('②名簿（受講者情報を入力）'!P127=\"\",\"\",('②名簿（受講者情報を入力）'!P127))","v":""}]
[{"$f":"IF('②名簿（受講者情報を入力）'!C128=\"\",\"\",('②名簿（受講者情報を入力）'!C128))","v":""},{"$f":"IF('②名簿（受講者情報を入力）'!D128=\"\",\"\",('②名簿（受講者情報を入力）'!D128))","v":""},{"$f":"IF('②名簿（受講者情報を入力）'!E128=\"\",\"\",('②名簿（受講者情報を入力）'!E128))","v":""},{"$f":"IF('②名簿（受講者情報を入力）'!F128=\"\",\"\",('②名簿（受講者情報を入力）'!F128))","v":""},{"$f":"IF('②名簿（受講者情報を入力）'!G128=\"\",\"\",('②名簿（受講者情報を入力）'!G128))","v":""},{"$f":"IF('②名簿（受講者情報を入力）'!H128=\"\",\"\",('②名簿（受講者情報を入力）'!H128))","v":""},{"$f":"IF('②名簿（受講者情報を入力）'!I128=\"\",\"\",('②名簿（受講者情報を入力）'!I128))","v":""},{"$f":"IF('②名簿（受講者情報を入力）'!K128=\"\",\"\",('②名簿（受講者情報を入力）'!K128))","v":""},{"$f":"IF('②名簿（受講者情報を入力）'!L128=\"\",\"\",('②名簿（受講者情報を入力）'!L128))","v":""},{"$f":"IF('②名簿（受講者情報を入力）'!M128=\"\",\"\",('②名簿（受講者情報を入力）'!M128))","v":""},{"$f":"IF('②名簿（受講者情報を入力）'!N128=\"\",\"\",('②名簿（受講者情報を入力）'!N128))","v":""},{"$f":"IF('②名簿（受講者情報を入力）'!P128=\"\",\"\",('②名簿（受講者情報を入力）'!P128))","v":""}]
[{"$f":"IF('②名簿（受講者情報を入力）'!C129=\"\",\"\",('②名簿（受講者情報を入力）'!C129))","v":""},{"$f":"IF('②名簿（受講者情報を入力）'!D129=\"\",\"\",('②名簿（受講者情報を入力）'!D129))","v":""},{"$f":"IF('②名簿（受講者情報を入力）'!E129=\"\",\"\",('②名簿（受講者情報を入力）'!E129))","v":""},{"$f":"IF('②名簿（受講者情報を入力）'!F129=\"\",\"\",('②名簿（受講者情報を入力）'!F129))","v":""},{"$f":"IF('②名簿（受講者情報を入力）'!G129=\"\",\"\",('②名簿（受講者情報を入力）'!G129))","v":""},{"$f":"IF('②名簿（受講者情報を入力）'!H129=\"\",\"\",('②名簿（受講者情報を入力）'!H129))","v":""},{"$f":"IF('②名簿（受講者情報を入力）'!I129=\"\",\"\",('②名簿（受講者情報を入力）'!I129))","v":""},{"$f":"IF('②名簿（受講者情報を入力）'!K129=\"\",\"\",('②名簿（受講者情報を入力）'!K129))","v":""},{"$f":"IF('②名簿（受講者情報を入力）'!L129=\"\",\"\",('②名簿（受講者情報を入力）'!L129))","v":""},{"$f":"IF('②名簿（受講者情報を入力）'!M129=\"\",\"\",('②名簿（受講者情報を入力）'!M129))","v":""},{"$f":"IF('②名簿（受講者情報を入力）'!N129=\"\",\"\",('②名簿（受講者情報を入力）'!N129))","v":""},{"$f":"IF('②名簿（受講者情報を入力）'!P129=\"\",\"\",('②名簿（受講者情報を入力）'!P129))","v":""}]
[{"$f":"IF('②名簿（受講者情報を入力）'!C130=\"\",\"\",('②名簿（受講者情報を入力）'!C130))","v":""},{"$f":"IF('②名簿（受講者情報を入力）'!D130=\"\",\"\",('②名簿（受講者情報を入力）'!D130))","v":""},{"$f":"IF('②名簿（受講者情報を入力）'!E130=\"\",\"\",('②名簿（受講者情報を入力）'!E130))","v":""},{"$f":"IF('②名簿（受講者情報を入力）'!F130=\"\",\"\",('②名簿（受講者情報を入力）'!F130))","v":""},{"$f":"IF('②名簿（受講者情報を入力）'!G130=\"\",\"\",('②名簿（受講者情報を入力）'!G130))","v":""},{"$f":"IF('②名簿（受講者情報を入力）'!H130=\"\",\"\",('②名簿（受講者情報を入力）'!H130))","v":""},{"$f":"IF('②名簿（受講者情報を入力）'!I130=\"\",\"\",('②名簿（受講者情報を入力）'!I130))","v":""},{"$f":"IF('②名簿（受講者情報を入力）'!K130=\"\",\"\",('②名簿（受講者情報を入力）'!K130))","v":""},{"$f":"IF('②名簿（受講者情報を入力）'!L130=\"\",\"\",('②名簿（受講者情報を入力）'!L130))","v":""},{"$f":"IF('②名簿（受講者情報を入力）'!M130=\"\",\"\",('②名簿（受講者情報を入力）'!M130))","v":""},{"$f":"IF('②名簿（受講者情報を入力）'!N130=\"\",\"\",('②名簿（受講者情報を入力）'!N130))","v":""},{"$f":"IF('②名簿（受講者情報を入力）'!P130=\"\",\"\",('②名簿（受講者情報を入力）'!P130))","v":""}]
[{"$f":"IF('②名簿（受講者情報を入力）'!C131=\"\",\"\",('②名簿（受講者情報を入力）'!C131))","v":""},{"$f":"IF('②名簿（受講者情報を入力）'!D131=\"\",\"\",('②名簿（受講者情報を入力）'!D131))","v":""},{"$f":"IF('②名簿（受講者情報を入力）'!E131=\"\",\"\",('②名簿（受講者情報を入力）'!E131))","v":""},{"$f":"IF('②名簿（受講者情報を入力）'!F131=\"\",\"\",('②名簿（受講者情報を入力）'!F131))","v":""},{"$f":"IF('②名簿（受講者情報を入力）'!G131=\"\",\"\",('②名簿（受講者情報を入力）'!G131))","v":""},{"$f":"IF('②名簿（受講者情報を入力）'!H131=\"\",\"\",('②名簿（受講者情報を入力）'!H131))","v":""},{"$f":"IF('②名簿（受講者情報を入力）'!I131=\"\",\"\",('②名簿（受講者情報を入力）'!I131))","v":""},{"$f":"IF('②名簿（受講者情報を入力）'!K131=\"\",\"\",('②名簿（受講者情報を入力）'!K131))","v":""},{"$f":"IF('②名簿（受講者情報を入力）'!L131=\"\",\"\",('②名簿（受講者情報を入力）'!L131))","v":""},{"$f":"IF('②名簿（受講者情報を入力）'!M131=\"\",\"\",('②名簿（受講者情報を入力）'!M131))","v":""},{"$f":"IF('②名簿（受講者情報を入力）'!N131=\"\",\"\",('②名簿（受講者情報を入力）'!N131))","v":""},{"$f":"IF('②名簿（受講者情報を入力）'!P131=\"\",\"\",('②名簿（受講者情報を入力）'!P131))","v":""}]
[{"$f":"IF('②名簿（受講者情報を入力）'!C132=\"\",\"\",('②名簿（受講者情報を入力）'!C132))","v":""},{"$f":"IF('②名簿（受講者情報を入力）'!D132=\"\",\"\",('②名簿（受講者情報を入力）'!D132))","v":""},{"$f":"IF('②名簿（受講者情報を入力）'!E132=\"\",\"\",('②名簿（受講者情報を入力）'!E132))","v":""},{"$f":"IF('②名簿（受講者情報を入力）'!F132=\"\",\"\",('②名簿（受講者情報を入力）'!F132))","v":""},{"$f":"IF('②名簿（受講者情報を入力）'!G132=\"\",\"\",('②名簿（受講者情報を入力）'!G132))","v":""},{"$f":"IF('②名簿（受講者情報を入力）'!H132=\"\",\"\",('②名簿（受講者情報を入力）'!H132))","v":""},{"$f":"IF('②名簿（受講者情報を入力）'!I132=\"\",\"\",('②名簿（受講者情報を入力）'!I132))","v":""},{"$f":"IF('②名簿（受講者情報を入力）'!K132=\"\",\"\",('②名簿（受講者情報を入力）'!K132))","v":""},{"$f":"IF('②名簿（受講者情報を入力）'!L132=\"\",\"\",('②名簿（受講者情報を入力）'!L132))","v":""},{"$f":"IF('②名簿（受講者情報を入力）'!M132=\"\",\"\",('②名簿（受講者情報を入力）'!M132))","v":""},{"$f":"IF('②名簿（受講者情報を入力）'!N132=\"\",\"\",('②名簿（受講者情報を入力）'!N132))","v":""},{"$f":"IF('②名簿（受講者情報を入力）'!P132=\"\",\"\",('②名簿（受講者情報を入力）'!P132))","v":""}]
[{"$f":"IF('②名簿（受講者情報を入力）'!C133=\"\",\"\",('②名簿（受講者情報を入力）'!C133))","v":""},{"$f":"IF('②名簿（受講者情報を入力）'!D133=\"\",\"\",('②名簿（受講者情報を入力）'!D133))","v":""},{"$f":"IF('②名簿（受講者情報を入力）'!E133=\"\",\"\",('②名簿（受講者情報を入力）'!E133))","v":""},{"$f":"IF('②名簿（受講者情報を入力）'!F133=\"\",\"\",('②名簿（受講者情報を入力）'!F133))","v":""},{"$f":"IF('②名簿（受講者情報を入力）'!G133=\"\",\"\",('②名簿（受講者情報を入力）'!G133))","v":""},{"$f":"IF('②名簿（受講者情報を入力）'!H133=\"\",\"\",('②名簿（受講者情報を入力）'!H133))","v":""},{"$f":"IF('②名簿（受講者情報を入力）'!I133=\"\",\"\",('②名簿（受講者情報を入力）'!I133))","v":""},{"$f":"IF('②名簿（受講者情報を入力）'!K133=\"\",\"\",('②名簿（受講者情報を入力）'!K133))","v":""},{"$f":"IF('②名簿（受講者情報を入力）'!L133=\"\",\"\",('②名簿（受講者情報を入力）'!L133))","v":""},{"$f":"IF('②名簿（受講者情報を入力）'!M133=\"\",\"\",('②名簿（受講者情報を入力）'!M133))","v":""},{"$f":"IF('②名簿（受講者情報を入力）'!N133=\"\",\"\",('②名簿（受講者情報を入力）'!N133))","v":""},{"$f":"IF('②名簿（受講者情報を入力）'!P133=\"\",\"\",('②名簿（受講者情報を入力）'!P133))","v":""}]
[{"$f":"IF('②名簿（受講者情報を入力）'!C134=\"\",\"\",('②名簿（受講者情報を入力）'!C134))","v":""},{"$f":"IF('②名簿（受講者情報を入力）'!D134=\"\",\"\",('②名簿（受講者情報を入力）'!D134))","v":""},{"$f":"IF('②名簿（受講者情報を入力）'!E134=\"\",\"\",('②名簿（受講者情報を入力）'!E134))","v":""},{"$f":"IF('②名簿（受講者情報を入力）'!F134=\"\",\"\",('②名簿（受講者情報を入力）'!F134))","v":""},{"$f":"IF('②名簿（受講者情報を入力）'!G134=\"\",\"\",('②名簿（受講者情報を入力）'!G134))","v":""},{"$f":"IF('②名簿（受講者情報を入力）'!H134=\"\",\"\",('②名簿（受講者情報を入力）'!H134))","v":""},{"$f":"IF('②名簿（受講者情報を入力）'!I134=\"\",\"\",('②名簿（受講者情報を入力）'!I134))","v":""},{"$f":"IF('②名簿（受講者情報を入力）'!K134=\"\",\"\",('②名簿（受講者情報を入力）'!K134))","v":""},{"$f":"IF('②名簿（受講者情報を入力）'!L134=\"\",\"\",('②名簿（受講者情報を入力）'!L134))","v":""},{"$f":"IF('②名簿（受講者情報を入力）'!M134=\"\",\"\",('②名簿（受講者情報を入力）'!M134))","v":""},{"$f":"IF('②名簿（受講者情報を入力）'!N134=\"\",\"\",('②名簿（受講者情報を入力）'!N134))","v":""},{"$f":"IF('②名簿（受講者情報を入力）'!P134=\"\",\"\",('②名簿（受講者情報を入力）'!P134))","v":""}]
[{"$f":"IF('②名簿（受講者情報を入力）'!C135=\"\",\"\",('②名簿（受講者情報を入力）'!C135))","v":""},{"$f":"IF('②名簿（受講者情報を入力）'!D135=\"\",\"\",('②名簿（受講者情報を入力）'!D135))","v":""},{"$f":"IF('②名簿（受講者情報を入力）'!E135=\"\",\"\",('②名簿（受講者情報を入力）'!E135))","v":""},{"$f":"IF('②名簿（受講者情報を入力）'!F135=\"\",\"\",('②名簿（受講者情報を入力）'!F135))","v":""},{"$f":"IF('②名簿（受講者情報を入力）'!G135=\"\",\"\",('②名簿（受講者情報を入力）'!G135))","v":""},{"$f":"IF('②名簿（受講者情報を入力）'!H135=\"\",\"\",('②名簿（受講者情報を入力）'!H135))","v":""},{"$f":"IF('②名簿（受講者情報を入力）'!I135=\"\",\"\",('②名簿（受講者情報を入力）'!I135))","v":""},{"$f":"IF('②名簿（受講者情報を入力）'!K135=\"\",\"\",('②名簿（受講者情報を入力）'!K135))","v":""},{"$f":"IF('②名簿（受講者情報を入力）'!L135=\"\",\"\",('②名簿（受講者情報を入力）'!L135))","v":""},{"$f":"IF('②名簿（受講者情報を入力）'!M135=\"\",\"\",('②名簿（受講者情報を入力）'!M135))","v":""},{"$f":"IF('②名簿（受講者情報を入力）'!N135=\"\",\"\",('②名簿（受講者情報を入力）'!N135))","v":""},{"$f":"IF('②名簿（受講者情報を入力）'!P135=\"\",\"\",('②名簿（受講者情報を入力）'!P135))","v":""}]
[{"$f":"IF('②名簿（受講者情報を入力）'!C136=\"\",\"\",('②名簿（受講者情報を入力）'!C136))","v":""},{"$f":"IF('②名簿（受講者情報を入力）'!D136=\"\",\"\",('②名簿（受講者情報を入力）'!D136))","v":""},{"$f":"IF('②名簿（受講者情報を入力）'!E136=\"\",\"\",('②名簿（受講者情報を入力）'!E136))","v":""},{"$f":"IF('②名簿（受講者情報を入力）'!F136=\"\",\"\",('②名簿（受講者情報を入力）'!F136))","v":""},{"$f":"IF('②名簿（受講者情報を入力）'!G136=\"\",\"\",('②名簿（受講者情報を入力）'!G136))","v":""},{"$f":"IF('②名簿（受講者情報を入力）'!H136=\"\",\"\",('②名簿（受講者情報を入力）'!H136))","v":""},{"$f":"IF('②名簿（受講者情報を入力）'!I136=\"\",\"\",('②名簿（受講者情報を入力）'!I136))","v":""},{"$f":"IF('②名簿（受講者情報を入力）'!K136=\"\",\"\",('②名簿（受講者情報を入力）'!K136))","v":""},{"$f":"IF('②名簿（受講者情報を入力）'!L136=\"\",\"\",('②名簿（受講者情報を入力）'!L136))","v":""},{"$f":"IF('②名簿（受講者情報を入力）'!M136=\"\",\"\",('②名簿（受講者情報を入力）'!M136))","v":""},{"$f":"IF('②名簿（受講者情報を入力）'!N136=\"\",\"\",('②名簿（受講者情報を入力）'!N136))","v":""},{"$f":"IF('②名簿（受講者情報を入力）'!P136=\"\",\"\",('②名簿（受講者情報を入力）'!P136))","v":""}]
[{"$f":"IF('②名簿（受講者情報を入力）'!C137=\"\",\"\",('②名簿（受講者情報を入力）'!C137))","v":""},{"$f":"IF('②名簿（受講者情報を入力）'!D137=\"\",\"\",('②名簿（受講者情報を入力）'!D137))","v":""},{"$f":"IF('②名簿（受講者情報を入力）'!E137=\"\",\"\",('②名簿（受講者情報を入力）'!E137))","v":""},{"$f":"IF('②名簿（受講者情報を入力）'!F137=\"\",\"\",('②名簿（受講者情報を入力）'!F137))","v":""},{"$f":"IF('②名簿（受講者情報を入力）'!G137=\"\",\"\",('②名簿（受講者情報を入力）'!G137))","v":""},{"$f":"IF('②名簿（受講者情報を入力）'!H137=\"\",\"\",('②名簿（受講者情報を入力）'!H137))","v":""},{"$f":"IF('②名簿（受講者情報を入力）'!I137=\"\",\"\",('②名簿（受講者情報を入力）'!I137))","v":""},{"$f":"IF('②名簿（受講者情報を入力）'!K137=\"\",\"\",('②名簿（受講者情報を入力）'!K137))","v":""},{"$f":"IF('②名簿（受講者情報を入力）'!L137=\"\",\"\",('②名簿（受講者情報を入力）'!L137))","v":""},{"$f":"IF('②名簿（受講者情報を入力）'!M137=\"\",\"\",('②名簿（受講者情報を入力）'!M137))","v":""},{"$f":"IF('②名簿（受講者情報を入力）'!N137=\"\",\"\",('②名簿（受講者情報を入力）'!N137))","v":""},{"$f":"IF('②名簿（受講者情報を入力）'!P137=\"\",\"\",('②名簿（受講者情報を入力）'!P137))","v":""}]
[{"$f":"IF('②名簿（受講者情報を入力）'!C138=\"\",\"\",('②名簿（受講者情報を入力）'!C138))","v":""},{"$f":"IF('②名簿（受講者情報を入力）'!D138=\"\",\"\",('②名簿（受講者情報を入力）'!D138))","v":""},{"$f":"IF('②名簿（受講者情報を入力）'!E138=\"\",\"\",('②名簿（受講者情報を入力）'!E138))","v":""},{"$f":"IF('②名簿（受講者情報を入力）'!F138=\"\",\"\",('②名簿（受講者情報を入力）'!F138))","v":""},{"$f":"IF('②名簿（受講者情報を入力）'!G138=\"\",\"\",('②名簿（受講者情報を入力）'!G138))","v":""},{"$f":"IF('②名簿（受講者情報を入力）'!H138=\"\",\"\",('②名簿（受講者情報を入力）'!H138))","v":""},{"$f":"IF('②名簿（受講者情報を入力）'!I138=\"\",\"\",('②名簿（受講者情報を入力）'!I138))","v":""},{"$f":"IF('②名簿（受講者情報を入力）'!K138=\"\",\"\",('②名簿（受講者情報を入力）'!K138))","v":""},{"$f":"IF('②名簿（受講者情報を入力）'!L138=\"\",\"\",('②名簿（受講者情報を入力）'!L138))","v":""},{"$f":"IF('②名簿（受講者情報を入力）'!M138=\"\",\"\",('②名簿（受講者情報を入力）'!M138))","v":""},{"$f":"IF('②名簿（受講者情報を入力）'!N138=\"\",\"\",('②名簿（受講者情報を入力）'!N138))","v":""},{"$f":"IF('②名簿（受講者情報を入力）'!P138=\"\",\"\",('②名簿（受講者情報を入力）'!P138))","v":""}]
[{"$f":"IF('②名簿（受講者情報を入力）'!C139=\"\",\"\",('②名簿（受講者情報を入力）'!C139))","v":""},{"$f":"IF('②名簿（受講者情報を入力）'!D139=\"\",\"\",('②名簿（受講者情報を入力）'!D139))","v":""},{"$f":"IF('②名簿（受講者情報を入力）'!E139=\"\",\"\",('②名簿（受講者情報を入力）'!E139))","v":""},{"$f":"IF('②名簿（受講者情報を入力）'!F139=\"\",\"\",('②名簿（受講者情報を入力）'!F139))","v":""},{"$f":"IF('②名簿（受講者情報を入力）'!G139=\"\",\"\",('②名簿（受講者情報を入力）'!G139))","v":""},{"$f":"IF('②名簿（受講者情報を入力）'!H139=\"\",\"\",('②名簿（受講者情報を入力）'!H139))","v":""},{"$f":"IF('②名簿（受講者情報を入力）'!I139=\"\",\"\",('②名簿（受講者情報を入力）'!I139))","v":""},{"$f":"IF('②名簿（受講者情報を入力）'!K139=\"\",\"\",('②名簿（受講者情報を入力）'!K139))","v":""},{"$f":"IF('②名簿（受講者情報を入力）'!L139=\"\",\"\",('②名簿（受講者情報を入力）'!L139))","v":""},{"$f":"IF('②名簿（受講者情報を入力）'!M139=\"\",\"\",('②名簿（受講者情報を入力）'!M139))","v":""},{"$f":"IF('②名簿（受講者情報を入力）'!N139=\"\",\"\",('②名簿（受講者情報を入力）'!N139))","v":""},{"$f":"IF('②名簿（受講者情報を入力）'!P139=\"\",\"\",('②名簿（受講者情報を入力）'!P139))","v":""}]
[{"$f":"IF('②名簿（受講者情報を入力）'!C140=\"\",\"\",('②名簿（受講者情報を入力）'!C140))","v":""},{"$f":"IF('②名簿（受講者情報を入力）'!D140=\"\",\"\",('②名簿（受講者情報を入力）'!D140))","v":""},{"$f":"IF('②名簿（受講者情報を入力）'!E140=\"\",\"\",('②名簿（受講者情報を入力）'!E140))","v":""},{"$f":"IF('②名簿（受講者情報を入力）'!F140=\"\",\"\",('②名簿（受講者情報を入力）'!F140))","v":""},{"$f":"IF('②名簿（受講者情報を入力）'!G140=\"\",\"\",('②名簿（受講者情報を入力）'!G140))","v":""},{"$f":"IF('②名簿（受講者情報を入力）'!H140=\"\",\"\",('②名簿（受講者情報を入力）'!H140))","v":""},{"$f":"IF('②名簿（受講者情報を入力）'!I140=\"\",\"\",('②名簿（受講者情報を入力）'!I140))","v":""},{"$f":"IF('②名簿（受講者情報を入力）'!K140=\"\",\"\",('②名簿（受講者情報を入力）'!K140))","v":""},{"$f":"IF('②名簿（受講者情報を入力）'!L140=\"\",\"\",('②名簿（受講者情報を入力）'!L140))","v":""},{"$f":"IF('②名簿（受講者情報を入力）'!M140=\"\",\"\",('②名簿（受講者情報を入力）'!M140))","v":""},{"$f":"IF('②名簿（受講者情報を入力）'!N140=\"\",\"\",('②名簿（受講者情報を入力）'!N140))","v":""},{"$f":"IF('②名簿（受講者情報を入力）'!P140=\"\",\"\",('②名簿（受講者情報を入力）'!P140))","v":""}]
[{"$f":"IF('②名簿（受講者情報を入力）'!C141=\"\",\"\",('②名簿（受講者情報を入力）'!C141))","v":""},{"$f":"IF('②名簿（受講者情報を入力）'!D141=\"\",\"\",('②名簿（受講者情報を入力）'!D141))","v":""},{"$f":"IF('②名簿（受講者情報を入力）'!E141=\"\",\"\",('②名簿（受講者情報を入力）'!E141))","v":""},{"$f":"IF('②名簿（受講者情報を入力）'!F141=\"\",\"\",('②名簿（受講者情報を入力）'!F141))","v":""},{"$f":"IF('②名簿（受講者情報を入力）'!G141=\"\",\"\",('②名簿（受講者情報を入力）'!G141))","v":""},{"$f":"IF('②名簿（受講者情報を入力）'!H141=\"\",\"\",('②名簿（受講者情報を入力）'!H141))","v":""},{"$f":"IF('②名簿（受講者情報を入力）'!I141=\"\",\"\",('②名簿（受講者情報を入力）'!I141))","v":""},{"$f":"IF('②名簿（受講者情報を入力）'!K141=\"\",\"\",('②名簿（受講者情報を入力）'!K141))","v":""},{"$f":"IF('②名簿（受講者情報を入力）'!L141=\"\",\"\",('②名簿（受講者情報を入力）'!L141))","v":""},{"$f":"IF('②名簿（受講者情報を入力）'!M141=\"\",\"\",('②名簿（受講者情報を入力）'!M141))","v":""},{"$f":"IF('②名簿（受講者情報を入力）'!N141=\"\",\"\",('②名簿（受講者情報を入力）'!N141))","v":""},{"$f":"IF('②名簿（受講者情報を入力）'!P141=\"\",\"\",('②名簿（受講者情報を入力）'!P141))","v":""}]
[{"$f":"IF('②名簿（受講者情報を入力）'!C142=\"\",\"\",('②名簿（受講者情報を入力）'!C142))","v":""},{"$f":"IF('②名簿（受講者情報を入力）'!D142=\"\",\"\",('②名簿（受講者情報を入力）'!D142))","v":""},{"$f":"IF('②名簿（受講者情報を入力）'!E142=\"\",\"\",('②名簿（受講者情報を入力）'!E142))","v":""},{"$f":"IF('②名簿（受講者情報を入力）'!F142=\"\",\"\",('②名簿（受講者情報を入力）'!F142))","v":""},{"$f":"IF('②名簿（受講者情報を入力）'!G142=\"\",\"\",('②名簿（受講者情報を入力）'!G142))","v":""},{"$f":"IF('②名簿（受講者情報を入力）'!H142=\"\",\"\",('②名簿（受講者情報を入力）'!H142))","v":""},{"$f":"IF('②名簿（受講者情報を入力）'!I142=\"\",\"\",('②名簿（受講者情報を入力）'!I142))","v":""},{"$f":"IF('②名簿（受講者情報を入力）'!K142=\"\",\"\",('②名簿（受講者情報を入力）'!K142))","v":""},{"$f":"IF('②名簿（受講者情報を入力）'!L142=\"\",\"\",('②名簿（受講者情報を入力）'!L142))","v":""},{"$f":"IF('②名簿（受講者情報を入力）'!M142=\"\",\"\",('②名簿（受講者情報を入力）'!M142))","v":""},{"$f":"IF('②名簿（受講者情報を入力）'!N142=\"\",\"\",('②名簿（受講者情報を入力）'!N142))","v":""},{"$f":"IF('②名簿（受講者情報を入力）'!P142=\"\",\"\",('②名簿（受講者情報を入力）'!P142))","v":""}]
[{"$f":"IF('②名簿（受講者情報を入力）'!C143=\"\",\"\",('②名簿（受講者情報を入力）'!C143))","v":""},{"$f":"IF('②名簿（受講者情報を入力）'!D143=\"\",\"\",('②名簿（受講者情報を入力）'!D143))","v":""},{"$f":"IF('②名簿（受講者情報を入力）'!E143=\"\",\"\",('②名簿（受講者情報を入力）'!E143))","v":""},{"$f":"IF('②名簿（受講者情報を入力）'!F143=\"\",\"\",('②名簿（受講者情報を入力）'!F143))","v":""},{"$f":"IF('②名簿（受講者情報を入力）'!G143=\"\",\"\",('②名簿（受講者情報を入力）'!G143))","v":""},{"$f":"IF('②名簿（受講者情報を入力）'!H143=\"\",\"\",('②名簿（受講者情報を入力）'!H143))","v":""},{"$f":"IF('②名簿（受講者情報を入力）'!I143=\"\",\"\",('②名簿（受講者情報を入力）'!I143))","v":""},{"$f":"IF('②名簿（受講者情報を入力）'!K143=\"\",\"\",('②名簿（受講者情報を入力）'!K143))","v":""},{"$f":"IF('②名簿（受講者情報を入力）'!L143=\"\",\"\",('②名簿（受講者情報を入力）'!L143))","v":""},{"$f":"IF('②名簿（受講者情報を入力）'!M143=\"\",\"\",('②名簿（受講者情報を入力）'!M143))","v":""},{"$f":"IF('②名簿（受講者情報を入力）'!N143=\"\",\"\",('②名簿（受講者情報を入力）'!N143))","v":""},{"$f":"IF('②名簿（受講者情報を入力）'!P143=\"\",\"\",('②名簿（受講者情報を入力）'!P143))","v":""}]
[{"$f":"IF('②名簿（受講者情報を入力）'!C144=\"\",\"\",('②名簿（受講者情報を入力）'!C144))","v":""},{"$f":"IF('②名簿（受講者情報を入力）'!D144=\"\",\"\",('②名簿（受講者情報を入力）'!D144))","v":""},{"$f":"IF('②名簿（受講者情報を入力）'!E144=\"\",\"\",('②名簿（受講者情報を入力）'!E144))","v":""},{"$f":"IF('②名簿（受講者情報を入力）'!F144=\"\",\"\",('②名簿（受講者情報を入力）'!F144))","v":""},{"$f":"IF('②名簿（受講者情報を入力）'!G144=\"\",\"\",('②名簿（受講者情報を入力）'!G144))","v":""},{"$f":"IF('②名簿（受講者情報を入力）'!H144=\"\",\"\",('②名簿（受講者情報を入力）'!H144))","v":""},{"$f":"IF('②名簿（受講者情報を入力）'!I144=\"\",\"\",('②名簿（受講者情報を入力）'!I144))","v":""},{"$f":"IF('②名簿（受講者情報を入力）'!K144=\"\",\"\",('②名簿（受講者情報を入力）'!K144))","v":""},{"$f":"IF('②名簿（受講者情報を入力）'!L144=\"\",\"\",('②名簿（受講者情報を入力）'!L144))","v":""},{"$f":"IF('②名簿（受講者情報を入力）'!M144=\"\",\"\",('②名簿（受講者情報を入力）'!M144))","v":""},{"$f":"IF('②名簿（受講者情報を入力）'!N144=\"\",\"\",('②名簿（受講者情報を入力）'!N144))","v":""},{"$f":"IF('②名簿（受講者情報を入力）'!P144=\"\",\"\",('②名簿（受講者情報を入力）'!P144))","v":""}]
[{"$f":"IF('②名簿（受講者情報を入力）'!C145=\"\",\"\",('②名簿（受講者情報を入力）'!C145))","v":""},{"$f":"IF('②名簿（受講者情報を入力）'!D145=\"\",\"\",('②名簿（受講者情報を入力）'!D145))","v":""},{"$f":"IF('②名簿（受講者情報を入力）'!E145=\"\",\"\",('②名簿（受講者情報を入力）'!E145))","v":""},{"$f":"IF('②名簿（受講者情報を入力）'!F145=\"\",\"\",('②名簿（受講者情報を入力）'!F145))","v":""},{"$f":"IF('②名簿（受講者情報を入力）'!G145=\"\",\"\",('②名簿（受講者情報を入力）'!G145))","v":""},{"$f":"IF('②名簿（受講者情報を入力）'!H145=\"\",\"\",('②名簿（受講者情報を入力）'!H145))","v":""},{"$f":"IF('②名簿（受講者情報を入力）'!I145=\"\",\"\",('②名簿（受講者情報を入力）'!I145))","v":""},{"$f":"IF('②名簿（受講者情報を入力）'!K145=\"\",\"\",('②名簿（受講者情報を入力）'!K145))","v":""},{"$f":"IF('②名簿（受講者情報を入力）'!L145=\"\",\"\",('②名簿（受講者情報を入力）'!L145))","v":""},{"$f":"IF('②名簿（受講者情報を入力）'!M145=\"\",\"\",('②名簿（受講者情報を入力）'!M145))","v":""},{"$f":"IF('②名簿（受講者情報を入力）'!N145=\"\",\"\",('②名簿（受講者情報を入力）'!N145))","v":""},{"$f":"IF('②名簿（受講者情報を入力）'!P145=\"\",\"\",('②名簿（受講者情報を入力）'!P145))","v":""}]
[{"$f":"IF('②名簿（受講者情報を入力）'!C146=\"\",\"\",('②名簿（受講者情報を入力）'!C146))","v":""},{"$f":"IF('②名簿（受講者情報を入力）'!D146=\"\",\"\",('②名簿（受講者情報を入力）'!D146))","v":""},{"$f":"IF('②名簿（受講者情報を入力）'!E146=\"\",\"\",('②名簿（受講者情報を入力）'!E146))","v":""},{"$f":"IF('②名簿（受講者情報を入力）'!F146=\"\",\"\",('②名簿（受講者情報を入力）'!F146))","v":""},{"$f":"IF('②名簿（受講者情報を入力）'!G146=\"\",\"\",('②名簿（受講者情報を入力）'!G146))","v":""},{"$f":"IF('②名簿（受講者情報を入力）'!H146=\"\",\"\",('②名簿（受講者情報を入力）'!H146))","v":""},{"$f":"IF('②名簿（受講者情報を入力）'!I146=\"\",\"\",('②名簿（受講者情報を入力）'!I146))","v":""},{"$f":"IF('②名簿（受講者情報を入力）'!K146=\"\",\"\",('②名簿（受講者情報を入力）'!K146))","v":""},{"$f":"IF('②名簿（受講者情報を入力）'!L146=\"\",\"\",('②名簿（受講者情報を入力）'!L146))","v":""},{"$f":"IF('②名簿（受講者情報を入力）'!M146=\"\",\"\",('②名簿（受講者情報を入力）'!M146))","v":""},{"$f":"IF('②名簿（受講者情報を入力）'!N146=\"\",\"\",('②名簿（受講者情報を入力）'!N146))","v":""},{"$f":"IF('②名簿（受講者情報を入力）'!P146=\"\",\"\",('②名簿（受講者情報を入力）'!P146))","v":""}]
[{"$f":"IF('②名簿（受講者情報を入力）'!C147=\"\",\"\",('②名簿（受講者情報を入力）'!C147))","v":""},{"$f":"IF('②名簿（受講者情報を入力）'!D147=\"\",\"\",('②名簿（受講者情報を入力）'!D147))","v":""},{"$f":"IF('②名簿（受講者情報を入力）'!E147=\"\",\"\",('②名簿（受講者情報を入力）'!E147))","v":""},{"$f":"IF('②名簿（受講者情報を入力）'!F147=\"\",\"\",('②名簿（受講者情報を入力）'!F147))","v":""},{"$f":"IF('②名簿（受講者情報を入力）'!G147=\"\",\"\",('②名簿（受講者情報を入力）'!G147))","v":""},{"$f":"IF('②名簿（受講者情報を入力）'!H147=\"\",\"\",('②名簿（受講者情報を入力）'!H147))","v":""},{"$f":"IF('②名簿（受講者情報を入力）'!I147=\"\",\"\",('②名簿（受講者情報を入力）'!I147))","v":""},{"$f":"IF('②名簿（受講者情報を入力）'!K147=\"\",\"\",('②名簿（受講者情報を入力）'!K147))","v":""},{"$f":"IF('②名簿（受講者情報を入力）'!L147=\"\",\"\",('②名簿（受講者情報を入力）'!L147))","v":""},{"$f":"IF('②名簿（受講者情報を入力）'!M147=\"\",\"\",('②名簿（受講者情報を入力）'!M147))","v":""},{"$f":"IF('②名簿（受講者情報を入力）'!N147=\"\",\"\",('②名簿（受講者情報を入力）'!N147))","v":""},{"$f":"IF('②名簿（受講者情報を入力）'!P147=\"\",\"\",('②名簿（受講者情報を入力）'!P147))","v":""}]
[{"$f":"IF('②名簿（受講者情報を入力）'!C148=\"\",\"\",('②名簿（受講者情報を入力）'!C148))","v":""},{"$f":"IF('②名簿（受講者情報を入力）'!D148=\"\",\"\",('②名簿（受講者情報を入力）'!D148))","v":""},{"$f":"IF('②名簿（受講者情報を入力）'!E148=\"\",\"\",('②名簿（受講者情報を入力）'!E148))","v":""},{"$f":"IF('②名簿（受講者情報を入力）'!F148=\"\",\"\",('②名簿（受講者情報を入力）'!F148))","v":""},{"$f":"IF('②名簿（受講者情報を入力）'!G148=\"\",\"\",('②名簿（受講者情報を入力）'!G148))","v":""},{"$f":"IF('②名簿（受講者情報を入力）'!H148=\"\",\"\",('②名簿（受講者情報を入力）'!H148))","v":""},{"$f":"IF('②名簿（受講者情報を入力）'!I148=\"\",\"\",('②名簿（受講者情報を入力）'!I148))","v":""},{"$f":"IF('②名簿（受講者情報を入力）'!K148=\"\",\"\",('②名簿（受講者情報を入力）'!K148))","v":""},{"$f":"IF('②名簿（受講者情報を入力）'!L148=\"\",\"\",('②名簿（受講者情報を入力）'!L148))","v":""},{"$f":"IF('②名簿（受講者情報を入力）'!M148=\"\",\"\",('②名簿（受講者情報を入力）'!M148))","v":""},{"$f":"IF('②名簿（受講者情報を入力）'!N148=\"\",\"\",('②名簿（受講者情報を入力）'!N148))","v":""},{"$f":"IF('②名簿（受講者情報を入力）'!P148=\"\",\"\",('②名簿（受講者情報を入力）'!P148))","v":""}]
[{"$f":"IF('②名簿（受講者情報を入力）'!C149=\"\",\"\",('②名簿（受講者情報を入力）'!C149))","v":""},{"$f":"IF('②名簿（受講者情報を入力）'!D149=\"\",\"\",('②名簿（受講者情報を入力）'!D149))","v":""},{"$f":"IF('②名簿（受講者情報を入力）'!E149=\"\",\"\",('②名簿（受講者情報を入力）'!E149))","v":""},{"$f":"IF('②名簿（受講者情報を入力）'!F149=\"\",\"\",('②名簿（受講者情報を入力）'!F149))","v":""},{"$f":"IF('②名簿（受講者情報を入力）'!G149=\"\",\"\",('②名簿（受講者情報を入力）'!G149))","v":""},{"$f":"IF('②名簿（受講者情報を入力）'!H149=\"\",\"\",('②名簿（受講者情報を入力）'!H149))","v":""},{"$f":"IF('②名簿（受講者情報を入力）'!I149=\"\",\"\",('②名簿（受講者情報を入力）'!I149))","v":""},{"$f":"IF('②名簿（受講者情報を入力）'!K149=\"\",\"\",('②名簿（受講者情報を入力）'!K149))","v":""},{"$f":"IF('②名簿（受講者情報を入力）'!L149=\"\",\"\",('②名簿（受講者情報を入力）'!L149))","v":""},{"$f":"IF('②名簿（受講者情報を入力）'!M149=\"\",\"\",('②名簿（受講者情報を入力）'!M149))","v":""},{"$f":"IF('②名簿（受講者情報を入力）'!N149=\"\",\"\",('②名簿（受講者情報を入力）'!N149))","v":""},{"$f":"IF('②名簿（受講者情報を入力）'!P149=\"\",\"\",('②名簿（受講者情報を入力）'!P149))","v":""}]
[{"$f":"IF('②名簿（受講者情報を入力）'!C150=\"\",\"\",('②名簿（受講者情報を入力）'!C150))","v":""},{"$f":"IF('②名簿（受講者情報を入力）'!D150=\"\",\"\",('②名簿（受講者情報を入力）'!D150))","v":""},{"$f":"IF('②名簿（受講者情報を入力）'!E150=\"\",\"\",('②名簿（受講者情報を入力）'!E150))","v":""},{"$f":"IF('②名簿（受講者情報を入力）'!F150=\"\",\"\",('②名簿（受講者情報を入力）'!F150))","v":""},{"$f":"IF('②名簿（受講者情報を入力）'!G150=\"\",\"\",('②名簿（受講者情報を入力）'!G150))","v":""},{"$f":"IF('②名簿（受講者情報を入力）'!H150=\"\",\"\",('②名簿（受講者情報を入力）'!H150))","v":""},{"$f":"IF('②名簿（受講者情報を入力）'!I150=\"\",\"\",('②名簿（受講者情報を入力）'!I150))","v":""},{"$f":"IF('②名簿（受講者情報を入力）'!K150=\"\",\"\",('②名簿（受講者情報を入力）'!K150))","v":""},{"$f":"IF('②名簿（受講者情報を入力）'!L150=\"\",\"\",('②名簿（受講者情報を入力）'!L150))","v":""},{"$f":"IF('②名簿（受講者情報を入力）'!M150=\"\",\"\",('②名簿（受講者情報を入力）'!M150))","v":""},{"$f":"IF('②名簿（受講者情報を入力）'!N150=\"\",\"\",('②名簿（受講者情報を入力）'!N150))","v":""},{"$f":"IF('②名簿（受講者情報を入力）'!P150=\"\",\"\",('②名簿（受講者情報を入力）'!P150))","v":""}]
[{"$f":"IF('②名簿（受講者情報を入力）'!C151=\"\",\"\",('②名簿（受講者情報を入力）'!C151))","v":""},{"$f":"IF('②名簿（受講者情報を入力）'!D151=\"\",\"\",('②名簿（受講者情報を入力）'!D151))","v":""},{"$f":"IF('②名簿（受講者情報を入力）'!E151=\"\",\"\",('②名簿（受講者情報を入力）'!E151))","v":""},{"$f":"IF('②名簿（受講者情報を入力）'!F151=\"\",\"\",('②名簿（受講者情報を入力）'!F151))","v":""},{"$f":"IF('②名簿（受講者情報を入力）'!G151=\"\",\"\",('②名簿（受講者情報を入力）'!G151))","v":""},{"$f":"IF('②名簿（受講者情報を入力）'!H151=\"\",\"\",('②名簿（受講者情報を入力）'!H151))","v":""},{"$f":"IF('②名簿（受講者情報を入力）'!I151=\"\",\"\",('②名簿（受講者情報を入力）'!I151))","v":""},{"$f":"IF('②名簿（受講者情報を入力）'!K151=\"\",\"\",('②名簿（受講者情報を入力）'!K151))","v":""},{"$f":"IF('②名簿（受講者情報を入力）'!L151=\"\",\"\",('②名簿（受講者情報を入力）'!L151))","v":""},{"$f":"IF('②名簿（受講者情報を入力）'!M151=\"\",\"\",('②名簿（受講者情報を入力）'!M151))","v":""},{"$f":"IF('②名簿（受講者情報を入力）'!N151=\"\",\"\",('②名簿（受講者情報を入力）'!N151))","v":""},{"$f":"IF('②名簿（受講者情報を入力）'!P151=\"\",\"\",('②名簿（受講者情報を入力）'!P151))","v":""}]
[{"$f":"IF('②名簿（受講者情報を入力）'!C152=\"\",\"\",('②名簿（受講者情報を入力）'!C152))","v":""},{"$f":"IF('②名簿（受講者情報を入力）'!D152=\"\",\"\",('②名簿（受講者情報を入力）'!D152))","v":""},{"$f":"IF('②名簿（受講者情報を入力）'!E152=\"\",\"\",('②名簿（受講者情報を入力）'!E152))","v":""},{"$f":"IF('②名簿（受講者情報を入力）'!F152=\"\",\"\",('②名簿（受講者情報を入力）'!F152))","v":""},{"$f":"IF('②名簿（受講者情報を入力）'!G152=\"\",\"\",('②名簿（受講者情報を入力）'!G152))","v":""},{"$f":"IF('②名簿（受講者情報を入力）'!H152=\"\",\"\",('②名簿（受講者情報を入力）'!H152))","v":""},{"$f":"IF('②名簿（受講者情報を入力）'!I152=\"\",\"\",('②名簿（受講者情報を入力）'!I152))","v":""},{"$f":"IF('②名簿（受講者情報を入力）'!K152=\"\",\"\",('②名簿（受講者情報を入力）'!K152))","v":""},{"$f":"IF('②名簿（受講者情報を入力）'!L152=\"\",\"\",('②名簿（受講者情報を入力）'!L152))","v":""},{"$f":"IF('②名簿（受講者情報を入力）'!M152=\"\",\"\",('②名簿（受講者情報を入力）'!M152))","v":""},{"$f":"IF('②名簿（受講者情報を入力）'!N152=\"\",\"\",('②名簿（受講者情報を入力）'!N152))","v":""},{"$f":"IF('②名簿（受講者情報を入力）'!P152=\"\",\"\",('②名簿（受講者情報を入力）'!P152))","v":""}]